Workbook

Sheet Sheet1
A1: 广州商学院2025—2026学年学校奖学金呈报表
A2: 序号 | B2: 学院 | C2: 年级 | D2: 专业 | E2: 学号 | F2: 姓名 | G2: 拟获奖奖项 | H2: 专业总人数 | I2: 平均绩点 | J2: 学业百分比 | K2: 学业排名 | L2: 综测百分比 | M2: 综测排名 | N2: 学生签名
A3: 1 | B3: 经济学院 | C3: 2025 | D3: 互联网金融 | E3: 202511160215 | F3: 黄钰婷 | G3: 一等奖 | H3: 85 | I3: 3.95 | J3: 0.023529412 | K3: 2 | L3: 0.011764706 | M3: 1
A4: 2 | B4: 经济学院 | C4: 2025 | D4: 互联网金融 | E4: 202511160128 | F4: 陈斯宜 | G4: 二等奖 | H4: 85 | I4: 4.08 | J4: 0.011764706 | K4: 1 | L4: 0.023529412 | M4: 2
A5: 3 | B5: 经济学院 | C5: 2025 | D5: 互联网金融 | E5: 202511160226 | F5: 张晖恬 | G5: 二等奖 | H5: 85 | I5: 3.66 | J5: 0.16470588 | K5: 14 | L5: 0.035294118 | M5: 3
A6: 4 | B6: 经济学院 | C6: 2025 | D6: 互联网金融 | E6: 202511160129 | F6: 杨筱涵 | G6: 三等奖 | H6: 85 | I6: 3.93 | J6: 0.035294118 | K6: 3 | L6: 0.047058824 | M6: 4
A7: 5 | B7: 经济学院 | C7: 2025 | D7: 互联网金融 | E7: 202511160110 | F7: 杨凯翔 | G7: 三等奖 | H7: 85 | I7: 3.75 | J7: 0.12941176 | K7: 11 | L7: 0.058823529 | M7: 5
A8: 6 | B8: 经济学院 | C8: 2025 | D8: 互联网金融 | E8: 202511160220 | F8: 钟婉烊 | G8: 三等奖 | H8: 85 | I8: 3.81 | J8: 0.082352941 | K8: 7 | L8: 0.070588235 | M8: 6
A9: 7 | B9: 经济学院 | C9: 2025 | D9: 互联网金融 | E9: 202511160138 | F9: 刘艺橙 | G9: 三等奖 | H9: 85 | I9: 3.38 | J9: 0.36470588 | K9: 31 | L9: 0.082352941 | M9: 7
A10: 8 | B10: 经济学院 | C10: 2025 | D10: 互联网金融 | E10: 202511160142 | F10: 张梓曼 | G10: 三等奖 | H10: 85 | I10: 3.68 | J10: 0.15294118 | K10: 13 | L10: 0.094117647 | M10: 8
A11: 9 | B11: 经济学院 | C11: 2025 | D11: 互联网金融 | E11: 202511160218 | F11: 李嘉泳 | G11: 三等奖 | H11: 85 | I11: 3.60 | J11: 0.17647059 | K11: 15 | L11: 0.10588235 | M11: 9
A12: 10 | B12: 经济学院 | C12: 2025 | D12: 互联网金融 | E12: 202511160121 | F12: 黄文华 | G12: 三等奖 | H12: 85 | I12: 3.80 | J12: 0.094117647 | K12: 8 | L12: 0.11764706 | M12: 10
A13: 11 | B13: 经济学院 | C13: 2025 | D13: 互联网金融 | E13: 202511160107 | F13: 金俊昊 | G13: 三等奖 | H13: 85 | I13: 3.59 | J13: 0.2 | K13: 17 | L13: 0.12941176 | M13: 11
A14: 12 | B14: 经济学院 | C14: 2025 | D14: 互联网金融 | E14: 202511160246 | F14: 吴淳雨 | G14: 三等奖 | H14: 85 | I14: 3.58 | J14: 0.23529412 | K14: 20 | L14: 0.14117647 | M14: 12
... A72: 70 | B72: 经济学院 | C72: 2025 | D72: 金融学 | E72: 202511080211 | F72: 贺玟睿 | G72: 三等奖 | H72: 308 | I72: 3.53 | J72: 0.13636364 | K72: 42 | L72: 0.051948052 | M72: 16
A73: 71 | B73: 经济学院 | C73: 2025 | D73: 金融学 | E73: 202511080531 | F73: 杨嘉欣 | G73: 学业进步奖 | H73: 308 | I73: 2.98 | J73: 0.458 | K73: 141 | L73: 0.578 | M73: 178
A74: 72 | B74: 经济学院 | C74: 2025 | D74: 金融学 | E74: 202511080626 | F74: 刘正 | G74: 学业进步奖 | H74: 308 | I74: 2.69 | J74: 0.66233766 | K74: 204 | L74: 0.756 | M74: 233
A75: 73 | B75: 经济学院 | C75: 2025 | D75: 国际经济与贸易 | E75: 202511040340 | F75: 张梦洁 | G75: 一等奖 | H75: 144 | I75: 3.47 | J75: 0.13194444 | K75: 19 | L75: 0.0069444444 | M75: 1
A76: 74 | B76: 经济学院 | C76: 2025 | D76: 国际经济与贸易 | E76: 202511040211 | F76: 胡梁璐 | G76: 二等奖 | H76: 144 | I76: 3.70 | J76: 0.034722222 | K76: 5 | L76: 0.013888889 | M76: 2
A77: 75 | B77: 经济学院 | C77: 2025 | D77: 国际经济与贸易 | E77: 202511040139 | F77: 吴若盈 | G77: 二等奖 | H77: 144 | I77: 3.64 | J77: 0.069444444 | K77: 10 | L77: 0.020833333 | M77: 3
A78: 76 | B78: 经济学院 | C78: 2025 | D78: 国际经济与贸易 | E78: 202511040246 | F78: 周家宇 | G78: 二等奖 | H78: 144 | I78: 4.16 | J78: 0.0069444444 | K78: 1 | L78: 0.027777778 | M78: 4
A79: 77 | B79: 经济学院 | C79: 2025 | D79: 国际经济与贸易 | E79: 202506050237 | F79: 范茗茗 | G79: 二等奖 | H79: 144 | I79: 3.23 | J79: 0.25694444 | K79: 37 | L79: 0.034722222 | M79: 5
A80: 78 | B80: 经济学院 | C80: 2025 | D80: 国际经济与贸易 | E80: 202511040101 | F80: 陈佩燕 | G80: 三等奖 | H80: 144 | I80: 3.54 | J80: 0.10416667 | K80: 15 | L80: 0.041666667 | M80: 6
A81: 79 | B81: 经济学院 | C81: 2025 | D81: 国际经济与贸易 | E81: 202511040145 | F81: 钟情 | G81: 三等奖 | H81: 144 | I81: 3.33 | J81: 0.1875 | K81: 27 | L81: 0.048611111 | M81: 7
A82: 80 | B82: 经济学院 | C82: 2025 | D82: 国际经济与贸易 | E82: 202511040247 | F82: 朱志鹃 | G82: 三等奖 | H82: 144 | I82: 3.25 | J82: 0.23611111 | K82: 34 | L82: 0.055555556 | M82: 8
A83: 81 | B83: 经济学院 | C83: 2025 | D83: 国际经济与贸易 | E83: 202511040333 | F83: 项钰 | G83: 三等奖 | H83: 144 | I83: 3.37 | J83: 0.15972222 | K83: 23 | L83: 0.0625 | M83: 9
A84: 82 | B84: 经济学院 | C84: 2025 | D84: 国际经济与贸易 | E84: 202511040232 | F84: 彭莉 | G84: 三等奖 | H84: 144 | I84: 3.44 | J84: 0.14583333 | K84: 21 | L84: 0.069444444 | M84: 10
A85: 83 | B85: 经济学院 | C85: 2025 | D85: 国际经济与贸易 | E85: 202511040243 | F85: 张文萁 | G85: 三等奖 | H85: 144 | I85: 3.28 | J85: 0.21527778 | K85: 31 | L85: 0.076388889 | M85: 11
A86: 84 | B86: 经济学院 | C86: 2025 | D86: 国际经济与贸易 | E86: 202511040307 | F86: 侯睿涵 | G86: 三等奖 | H86: 144 | I86: 2.60 | J86: 0.75694444 | K86: 109 | L86: 0.083333333 | M86: 12
A87: 85 | B87: 经济学院 | C87: 2025 | D87: 国际经济与贸易 | E87: 202511040229 | F87: 麦倩茵 | G87: 三等奖 | H87: 144 | I87: 3.07 | J87: 0.36805556 | K87: 53 | L87: 0.090277778 | M87: 13
A88: 86 | B88: 经济学院 | C88: 2025 | D88: 国际经济与贸易 | E88: 202511040103 | F88: 邓星灿 | G88: 三等奖 | H88: 144 | I88: 3.09 | J88: 0.35416667 | K88: 51 | L88: 0.097222222 | M88: 14
A89: 87 | B89: 经济学院 | C89: 2025 | D89: 国际经济与贸易 | E89: 202511040233 | F89: 邱安芯 | G89: 三等奖 | H89: 144 | I89: 3.67 | J89: 0.055555556 | K89: 8 | L89: 0.10416667 | M89: 15
A90: 88 | B90: 经济学院 | C90: 2025 | D90: 国际经济与贸易 | E90: 202513020106 | F90: 古金来 | G90: 三等奖 | H90: 144 | I90: 3.15 | J90: 0.3125 | K90: 45 | L90: 0.11111111 | M90: 16 | V90: 7 | X90: 21 | Z90: 75 | AB90: 15
A91: 89 | B91: 经济学院 | C91: 2025 | D91: 国际经济与贸易 | E91: 202511040118 | F91: 刘恩佟 | G91: 三等奖 | H91: 144 | I91: 2.98 | J91: 0.45833333 | K91: 66 | L91: 0.11805556 | M91: 17
A92: 90 | B92: 经济学院 | C92: 2025 | D92: 国际经济与贸易 | E92: 202511040222 | F92: 李左婷 | G92: 三等奖 | H92: 144 | I92: 3.94 | J92: 0.013888889 | K92: 2 | L92: 0.125 | M92: 18
A93: 91 | B93: 经济学院 | C93: 2025 | D93: 国际经济与贸易 | E93: 202511040115 | F93: 梁嘉嘉 | G93: 三等奖 | H93: 144 | I93: 3.66 | J93: 0.0625 | K93: 9 | L93: 0.13194444 | M93: 19
A94: 92 | B94: 经济学院 | C94: 2025 | D94: 国际经济与贸易 | E94: 202511040128 | F94: 丘乐怡 | G94: 三等奖 | H94: 144 | I94: 3.68 | J94: 0.048611111 | K94: 7 | L94: 0.13888889 | M94: 20
A95: 93 | B95: 经济学院 | C95: 2025 | D95: 国际经济与贸易 | E95: 202511040321 | F95: 邱梓丹 | G95: 学业进步奖 | H95: 144 | I95: 2.83 | J95: 0.59027778 | K95: 85 | L95: 0.6875 | M95: 99
A96: 94 | B96: 经济学院 | C96: 2025 | D96: 国际经济与贸易 | E96: 202511040203 | F96: 陈绮琪 | G96: 学业进步奖 | H96: 144 | I96: 2.92 | J96: 0.54166667 | K96: 78 | L96: 0.67361111 | M96: 97
A97: 95 | B97: 经济学院 | C97: 2025 | D97: 国际经济与贸易 | E97: 202511040303 | F97: 范若茜 | G97: 学业进步奖 | H97: 144 | I97: 3.24 | J97: 0.25 | K97: 36 | L97: 0.25 | M97: 36
A98: 96 | B98: 经济学院 | C98: 2025 | D98: 国际经济与贸易 | E98: 202511040338 | F98: 杨月 | G98: 学业进步奖 | H98: 144 | I98: 3.10 | J98: 0.34722222 | K98: 50 | L98: 0.47916667 | M98: 69
A99: 97 | B99: 经济学院 | C99: 2025 | D99: 国际经济与贸易 | E99: 202511040334 | F99: 谢珂婷 | G99: 学业进步奖 | H99: 144 | I99: 2.98 | J99: 0.45833333 | K99: 66 | L99: 0.14583333 | M99: 21
A100: 98 | B100: 经济学院 | C100: 2025 | D100: 国际经济与贸易 | E100: 202511040302 | F100: 崔子诺 | G100: 学业进步奖 | H100: 144 | I100: 2.88 | J100: 0.5625 | K100: 81 | L100: 0.63194444 | M100: 91
A101: 99 | B101: 经济学院 | C101: 2025 | D101: 投资学 | E101: 202511130134 | F101: 冼晓楠 | G101: 一等奖 | H101: 88 | I101: 3.60 | J101: 0.14772727 | K101: 13 | L101: 0.011363636 | M101: 1
A102: 100 | B102: 经济学院 | C102: 2025 | D102: 投资学 | E102: 202511130243 | F102: 钟芷怡 | G102: 二等奖 | H102: 88 | I102: 3.49 | J102: 0.21590909 | K102: 19 | L102: 0.022727273 | M102: 2
A103: 101 | B103: 经济学院 | C103: 2025 | D103: 投资学 | E103: 202511130129 | F103: 唐志婷 | G103: 二等奖 | H103: 88 | I103: 3.90 | J103: 0.045454545 | K103: 4 | L103: 0.034090909 | M103: 3
A104: 102 | B104: 经济学院 | C104: 2025 | D104: 投资学 | E104: 202511130108 | F104: 胡雪盈 | G104: 二等奖 | H104: 88 | I104: 3.29 | J104: 0.38636364 | K104: 34 | L104: 0.045454545 | M104: 4
A105: 103 | B105: 经济学院 | C105: 2025 | D105: 投资学 | E105: 202511130222 | F105: 刘晓彤 | G105: 三等奖 | H105: 88 | I105: 3.16 | J105: 0.5 | K105: 44 | L105: 0.056818182 | M105: 5
A106: 104 | B106: 经济学院 | C106: 2025 | D106: 投资学 | E106: 202511130205 | F106: 陈懿琳 | G106: 三等奖 | H106: 88 | I106: 3.96 | J106: 0.011363636 | K106: 1 | L106: 0.068181818 | M106: 6
A107: 105 | B107: 经济学院 | C107: 2025 | D107: 投资学 | E107: 202511130215 | F107: 黎健皓 | G107: 三等奖 | H107: 88 | I107: 3.30 | J107: 0.375 | K107: 33 | L107: 0.079545455 | M107: 7
A108: 106 | B108: 经济学院 | C108: 2025 | D108: 投资学 | E108: 202511130238 | F108: 徐明静 | G108: 三等奖 | H108: 88 | I108: 3.94 | J108: 0.022727273 | K108: 2 | L108: 0.090909091 | M108: 8
A109: 107 | B109: 经济学院 | C109: 2025 | D109: 投资学 | E109: 202511130119 | F109: 林心谊 | G109: 三等奖 | H109: 88 | I109: 3.35 | J109: 0.34090909 | K109: 30 | L109: 0.10227273 | M109: 9
A110: 108 | B110: 经济学院 | C110: 2025 | D110: 投资学 | E110: 202511130206 | F110: 邓碧钰 | G110: 三等奖 | H110: 88 | I110: 3.48 | J110: 0.23863636 | K110: 21 | L110: 0.11363636 | M110: 10
A111: 109 | B111: 经济学院 | C111: 2025 | D111: 投资学 | E111: 202511130224 | F111: 罗千辰 | G111: 三等奖 | H111: 88 | I111: 3.72 | J111: 0.11363636 | K111: 10 | L111: 0.125 | M111: 11
A112: 110 | B112: 经济学院 | C112: 2025 | D112: 投资学 | E112: 202511130113 | F112: 蒋林薇 | G112: 三等奖 | H112: 88 | I112: 3.31 | J112: 0.36363636 | K112: 32 | L112: 0.13636364 | M112: 12
A113: 111 | B113: 经济学院 | C113: 2025 | D113: 投资学 | E113: 202511130230 | F113: 苏裕欣 | G113: 三等奖 | H113: 88 | I113: 3.92 | J113: 0.034090909 | K113: 3 | L113: 0.14772727 | M113: 13
A114: 112 | B114: 经济学院 | C114: 2024 | D114: 国际经济与贸易 | E114: 202411040332 | F114: 徐恩儿 | G114: 一等奖 | H114: 126 | I114: 3.91 | J114: 0.023809524 | K114: 3 | L114: 0.0079365079 | M114: 1
A115: 113 | B115: 经济学院 | C115: 2024 | D115: 国际经济与贸易 | E115: 202411040322 | F115: 欧梓欣 | G115: 二等奖 | H115: 126 | I115: 4.11 | J115: 0.0079365079 | K115: 1 | L115: 0.015873016 | M115: 2
A116: 114 | B116: 经济学院 | C116: 2024 | D116: 国际经济与贸易 | E116: 202411040201 | F116: 蔡安儿 | G116: 二等奖 | H116: 126 | I116: 3.76 | J116: 0.087301587 | K116: 11 | L116: 0.023809524 | M116: 3
A117: 115 | B117: 经济学院 | C117: 2024 | D117: 国际经济与贸易 | E117: 202411040210 | F117: 龚睿彤 | G117: 二等奖 | H117: 126 | I117: 3.99 | J117: 0.015873016 | K117: 2 | L117: 0.031746032 | M117: 4
A118: 116 | B118: 经济学院 | C118: 2024 | D118: 国际经济与贸易 | E118: 202411040215 | F118: 蒋悦 | G118: 二等奖 | H118: 126 | I118: 3.57 | J118: 0.15873016 | K118: 20 | L118: 0.03968254 | M118: 5
A119: 117 | B119: 经济学院 | C119: 2024 | D119: 国际经济与贸易 | E119: 202411040226 | F119: 覃斯敏 | G119: 三等奖 | H119: 126 | I119: 3.12 | J119: 0.35714286 | K119: 45 | L119: 0.047619048 | M119: 6
A120: 118 | B120: 经济学院 | C120: 2024 | D120: 国际经济与贸易 | E120: 202411040301 | F120: 蔡梓琪 | G120: 三等奖 | H120: 126 | I120: 3.67 | J120: 0.11111111 | K120: 14 | L120: 0.055555556 | M120: 7
A121: 119 | B121: 经济学院 | C121: 2024 | D121: 国际经济与贸易 | E121: 202411040316 | F121: 刘高 | G121: 三等奖 | H121: 126 | I121: 3.88 | J121: 0.03968254 | K121: 5 | L121: 0.063492063 | M121: 8
A122: 120 | B122: 经济学院 | C122: 2024 | D122: 国际经济与贸易 | E122: 202411040217 | F122: 李靖蕾 | G122: 三等奖 | H122: 126 | I122: 3.82 | J122: 0.055555556 | K122: 7 | L122: 0.071428571 | M122: 9
A123: 121 | B123: 经济学院 | C123: 2024 | D123: 国际经济与贸易 | E123: 202411040340 | F123: 张泽红 | G123: 三等奖 | H123: 126 | I123: 3.42 | J123: 0.21428571 | K123: 27 | L123: 0.079365079 | M123: 10
A124: 122 | B124: 经济学院 | C124: 2024 | D124: 国际经济与贸易 | E124: 202411040224 | F124: 沈永琪 | G124: 三等奖 | H124: 126 | I124: 3.67 | J124: 0.11111111 | K124: 14 | L124: 0.087301587 | M124: 11
A125: 123 | B125: 经济学院 | C125: 2024 | D125: 国际经济与贸易 | E125: 202411040208 | F125: 费雯婷 | G125: 三等奖 | H125: 126 | I125: 3.48 | J125: 0.19047619 | K125: 24 | L125: 0.095238095 | M125: 12
... A325: 323 | B325: 经济学院 | C325: 2023 | D325: 投资学 | E325: 202311130106 | F325: 陈晓嬉 | G325: 学业进步奖 | H325: 82 | I325: 3.33 | J325: 0.415 | K325: 34 | L325: 0.451 | M325: 37
A326: 324 | B326: 经济学院 | C326: 2023 | D326: 金融学 | E326: 202311080311 | F326: 李成煜 | G326: 学业进步奖 | H326: 305 | I326: =VLOOKUP(E326,[1]金融情况表!$B:$D,3,0) -> 3.03 | J326: =VLOOKUP(E326,[1]金融情况表!$B:$G,6,0) -> 0.58688525 | K326: =VLOOKUP(E326,[1]金融情况表!$B:$F,5,0) -> 179 | L326: =VLOOKUP(E326,[1]金融情况表!$B:$S,18,0) -> 0.59016393 | M326: =VLOOKUP(E326,[1]金融情况表!$B:$R,17,0) -> 180
A327: 325 | B327: 经济学院 | C327: 2023 | D327: 金融学 | E327: 202311080202 | F327: 陈亿铭 | G327: 学业进步奖 | H327: 305 | I327: =VLOOKUP(E327,[1]金融情况表!$B:$D,3,0) -> 3.26 | J327: =VLOOKUP(E327,[1]金融情况表!$B:$G,6,0) -> 0.39344262 | K327: =VLOOKUP(E327,[1]金融情况表!$B:$F,5,0) -> 120 | L327: =VLOOKUP(E327,[1]金融情况表!$B:$S,18,0) -> 0.029508197 | M327: =VLOOKUP(E327,[1]金融情况表!$B:$R,17,0) -> 9
A328: 326 | B328: 经济学院 | C328: 2023 | D328: 金融学 | E328: 202311040118 | F328: 刘文典 | G328: 学业进步奖 | H328: 305 | I328: =VLOOKUP(E328,[1]金融情况表!$B:$D,3,0) -> 3.06 | J328: =VLOOKUP(E328,[1]金融情况表!$B:$G,6,0) -> 0.56721311 | K328: =VLOOKUP(E328,[1]金融情况表!$B:$F,5,0) -> 173 | L328: =VLOOKUP(E328,[1]金融情况表!$B:$S,18,0) -> 0.58688525 | M328: =VLOOKUP(E328,[1]金融情况表!$B:$R,17,0) -> 179
A329: 327 | B329: 经济学院 | C329: 2023 | D329: 金融学 | E329: 202301060123 | F329: 张曦予 | G329: 学业进步奖 | H329: 305 | I329: =VLOOKUP(E329,[1]金融情况表!$B:$D,3,0) -> 3.39 | J329: =VLOOKUP(E329,[1]金融情况表!$B:$G,6,0) -> 0.30491803 | K329: =VLOOKUP(E329,[1]金融情况表!$B:$F,5,0) -> 93 | L329: =VLOOKUP(E329,[1]金融情况表!$B:$S,18,0) -> 0.21967213 | M329: =VLOOKUP(E329,[1]金融情况表!$B:$R,17,0) -> 67
A330: 328 | B330: 经济学院 | C330: 2023 | D330: 金融学 | E330: 202311080306 | F330: 洪彤 | G330: 学业进步奖 | H330: 305 | I330: =VLOOKUP(E330,[1]金融情况表!$B:$D,3,0) -> 3.07 | J330: =VLOOKUP(E330,[1]金融情况表!$B:$G,6,0) -> 0.55081967 | K330: =VLOOKUP(E330,[1]金融情况表!$B:$F,5,0) -> 168 | L330: =VLOOKUP(E330,[1]金融情况表!$B:$S,18,0) -> 0.55081967 | M330: =VLOOKUP(E330,[1]金融情况表!$B:$R,17,0) -> 168
A331: 329 | B331: 经济学院 | C331: 2023 | D331: 金融学（专升本） | E331: 202311070712 | F331: 黎惠珍 | G331: 二等奖 | H331: 34 | I331: 3.71 | J331: 0.058823529 | K331: 2 | L331: 0.029411765 | M331: 1
A332: 330 | B332: 经济学院 | C332: 2023 | D332: 金融学（专升本） | E332: 202311070725 | F332: 杨铭芝 | G332: 三等奖 | H332: 34 | I332: 3.43 | J332: 0.20588235 | K332: 7 | L332: 0.058823529 | M332: 2
A333: 331 | B333: 经济学院 | C333: 2023 | D333: 金融学（专升本） | E333: 202311070724 | F333: 肖瀟 | G333: 三等奖 | H333: 34 | I333: 3.61 | J333: 0.11764706 | K333: 4 | L333: 0.088235294 | M333: 3
A334: 332 | B334: 经济学院 | C334: 2023 | D334: 金融学（专升本） | E334: 202311070726 | F334: 杨淑婷 | G334: 三等奖 | H334: 34 | I334: 3.79 | J334: 0.029411765 | K334: 1 | L334: 0.11764706 | M334: 4
A335: 333 | B335: 经济学院 | C335: 2023 | D335: 金融学（专升本） | E335: 202311070735 | F335: 刘思齐 | G335: 三等奖 | H335: 34 | I335: 3.66 | J335: 0.088235294 | K335: 3 | L335: 0.14705882 | M335: 5
A336: 334 | B336: 经济学院 | C336: 2023 | D336: 金融学（专升本） | E336: 202311070705 | F336: 方智毅 | G336: 学业进步奖 | H336: 34 | I336: 3.31 | J336: 0.35294118 | K336: 12 | L336: 0.20588235 | M336: 7
A337: 335 | B337: 经济学院 | C337: 2023 | D337: 金融学（专升本） | E337: 202311070715 | F337: 梁雯钧 | G337: 学业进步奖 | H337: 34 | I337: 3.18 | J337: 0.52941176 | K337: 18 | L337: 0.35294118 | M337: 12
A338: 336 | B338: 经济学院 | C338: 2023 | D338: 国际经济与贸易（专升本） | E338: 202311110408 | F338: 何金妮 | G338: 一等奖 | H338: 74 | I338: 3.8 | J338: 0.081081081 | K338: 6 | L338: 0.013513514 | M338: 1
A339: 337 | B339: 经济学院 | C339: 2023 | D339: 国际经济与贸易（专升本） | E339: 202311110425 | F339: 吴心瑜 | G339: 二等奖 | H339: 74 | I339: 3.63 | J339: 0.17567568 | K339: 13 | L339: 0.027027027 | M339: 2
A340: 338 | B340: 经济学院 | C340: 2023 | D340: 国际经济与贸易（专升本） | E340: 202311110529 | F340: 曾赐萍 | G340: 二等奖 | H340: 74 | I340: 3.74 | J340: 0.10810811 | K340: 8 | L340: 0.040540541 | M340: 3
A341: 339 | B341: 经济学院 | C341: 2023 | D341: 国际经济与贸易（专升本） | E341: 202311110417 | F341: 卢燕如 | G341: 三等奖 | H341: 74 | I341: 3.82 | J341: 0.067567568 | K341: 5 | L341: 0.054054054 | M341: 4
A342: 340 | B342: 经济学院 | C342: 2023 | D342: 国际经济与贸易（专升本） | E342: 202311110432 | F342: 曾玉萍 | G342: 三等奖 | H342: 74 | I342: 3.84 | J342: 0.040540541 | K342: 3 | L342: 0.067567568 | M342: 5
... A348: 346 | B348: 经济学院 | C348: 2023 | D348: 国际经济与贸易（专升本） | E348: 202311110421 | F348: 邱锋奇 | G348: 三等奖 | H348: 74 | I348: 3.07 | J348: 0.68918919 | K348: 51 | L348: 0.14864865 | M348: 11
