Workbook

Sheet Sheet1
A1: 广州商学院2025—2026学年学校奖学金呈报表
A2: 序号 | B2: 学院 | C2: 年级 | D2: 专业 | E2: 学号 | F2: 姓名 | G2: 拟获奖奖项 | H2: 专业总人数 | I2: 平均绩点 | J2: 学业百分比 | K2: 学业排名 | L2: 综测百分比 | M2: 综测排名 | N2: 学生签名
A3: 1 | B3: 经济学院 | C3: 2025 | D3: 互联网金融 | E3: 202511160215 | F3: 黄钰婷 | G3: 一等奖 | H3: 85 | I3: 3.95 | J3: 0.023529412 | K3: 2 | L3: 0.011764706 | M3: 1
A4: 2 | B4: 经济学院 | C4: 2025 | D4: 互联网金融 | E4: 202511160128 | F4: 陈斯宜 | G4: 二等奖 | H4: 85 | I4: 4.08 | J4: 0.011764706 | K4: 1 | L4: 0.023529412 | M4: 2
A5: 3 | B5: 经济学院 | C5: 2025 | D5: 互联网金融 | E5: 202511160226 | F5: 张晖恬 | G5: 二等奖 | H5: 85 | I5: 3.66 | J5: 0.16470588 | K5: 14 | L5: 0.035294118 | M5: 3
A6: 4 | B6: 经济学院 | C6: 2025 | D6: 互联网金融 | E6: 202511160129 | F6: 杨筱涵 | G6: 三等奖 | H6: 85 | I6: 3.93 | J6: 0.035294118 | K6: 3 | L6: 0.047058824 | M6: 4
A7: 5 | B7: 经济学院 | C7: 2025 | D7: 互联网金融 | E7: 202511160110 | F7: 杨凯翔 | G7: 三等奖 | H7: 85 | I7: 3.75 | J7: 0.12941176 | K7: 11 | L7: 0.058823529 | M7: 5
A8: 6 | B8: 经济学院 | C8: 2025 | D8: 互联网金融 | E8: 202511160220 | F8: 钟婉烊 | G8: 三等奖 | H8: 85 | I8: 3.81 | J8: 0.082352941 | K8: 7 | L8: 0.070588235 | M8: 6
A9: 7 | B9: 经济学院 | C9: 2025 | D9: 互联网金融 | E9: 202511160138 | F9: 刘艺橙 | G9: 三等奖 | H9: 85 | I9: 3.38 | J9: 0.36470588 | K9: 31 | L9: 0.082352941 | M9: 7
A10: 8 | B10: 经济学院 | C10: 2025 | D10: 互联网金融 | E10: 202511160142 | F10: 张梓曼 | G10: 三等奖 | H10: 85 | I10: 3.68 | J10: 0.15294118 | K10: 13 | L10: 0.094117647 | M10: 8
A11: 9 | B11: 经济学院 | C11: 2025 | D11: 互联网金融 | E11: 202511160218 | F11: 李嘉泳 | G11: 三等奖 | H11: 85 | I11: 3.60 | J11: 0.17647059 | K11: 15 | L11: 0.10588235 | M11: 9
A12: 10 | B12: 经济学院 | C12: 2025 | D12: 互联网金融 | E12: 202511160121 | F12: 黄文华 | G12: 三等奖 | H12: 85 | I12: 3.80 | J12: 0.094117647 | K12: 8 | L12: 0.11764706 | M12: 10
A13: 11 | B13: 经济学院 | C13: 2025 | D13: 互联网金融 | E13: 202511160107 | F13: 金俊昊 | G13: 三等奖 | H13: 85 | I13: 3.59 | J13: 0.2 | K13: 17 | L13: 0.12941176 | M13: 11
A14: 12 | B14: 经济学院 | C14: 2025 | D14: 互联网金融 | E14: 202511160246 | F14: 吴淳雨 | G14: 三等奖 | H14: 85 | I14: 3.58 | J14: 0.23529412 | K14: 20 | L14: 0.14117647 | M14: 12
... A72: 70 | B72: 经济学院 | C72: 2025 | D72: 金融学 | E72: 202511080211 | F72: 贺玟睿 | G72: 三等奖 | H72: 308 | I72: 3.53 | J72: 0.13636364 | K72: 42 | L72: 0.051948052 | M72: 16
A73: 71 | B73: 经济学院 | C73: 2025 | D73: 金融学 | E73: 202511080531 | F73: 杨嘉欣 | G73: 学业进步奖 | H73: 308 | I73: 2.98 | J73: 0.458 | K73: 141 | L73: 0.578 | M73: 178
A74: 72 | B74: 经济学院 | C74: 2025 | D74: 金融学 | E74: 202511080626 | F74: 刘正 | G74: 学业进步奖 | H74: 308 | I74: 2.69 | J74: 0.66233766 | K74: 204 | L74: 0.756 | M74: 233
A75: 73 | B75: 经济学院 | C75: 2025 | D75: 国际经济与贸易 | E75: 202511040340 | F75: 张梦洁 | G75: 一等奖 | H75: 144 | I75: 3.47 | J75: 0.13194444 | K75: 19 | L75: 0.0069444444 | M75: 1
A76: 74 | B76: 经济学院 | C76: 2025 | D76: 国际经济与贸易 | E76: 202511040211 | F76: 胡梁璐 | G76: 二等奖 | H76: 144 | I76: 3.70 | J76: 0.034722222 | K76: 5 | L76: 0.013888889 | M76: 2
A77: 75 | B77: 经济学院 | C77: 2025 | D77: 国际经济与贸易 | E77: 202511040139 | F77: 吴若盈 | G77: 二等奖 | H77: 144 | I77: 3.64 | J77: 0.069444444 | K77: 10 | L77: 0.020833333 | M77: 3
A78: 76 | B78: 经济学院 | C78: 2025 | D78: 国际经济与贸易 | E78: 202511040246 | F78: 周家宇 | G78: 二等奖 | H78: 144 | I78: 4.16 | J78: 0.0069444444 | K78: 1 | L78: 0.027777778 | M78: 4
A79: 77 | B79: 经济学院 | C79: 2025 | D79: 国际经济与贸易 | E79: 202506050237 | F79: 范茗茗 | G79: 二等奖 | H79: 144 | I79: 3.23 | J79: 0.25694444 | K79: 37 | L79: 0.034722222 | M79: 5
A80: 78 | B80: 经济学院 | C80: 2025 | D80: 国际经济与贸易 | E80: 202511040101 | F80: 陈佩燕 | G80: 三等奖 | H80: 144 | I80: 3.54 | J80: 0.10416667 | K80: 15 | L80: 0.041666667 | M80: 6
A81: 79 | B81: 经济学院 | C81: 2025 | D81: 国际经济与贸易 | E81: 202511040145 | F81: 钟情 | G81: 三等奖 | H81: 144 | I81: 3.33 | J81: 0.1875 | K81: 27 | L81: 0.048611111 | M81: 7
A82: 80 | B82: 经济学院 | C82: 2025 | D82: 国际经济与贸易 | E82: 202511040247 | F82: 朱志鹃 | G82: 三等奖 | H82: 144 | I82: 3.25 | J82: 0.23611111 | K82: 34 | L82: 0.055555556 | M82: 8
A83: 81 | B83: 经济学院 | C83: 2025 | D83: 国际经济与贸易 | E83: 202511040333 | F83: 项钰 | G83: 三等奖 | H83: 144 | I83: 3.37 | J83: 0.15972222 | K83: 23 | L83: 0.0625 | M83: 9
A84: 82 | B84: 经济学院 | C84: 2025 | D84: 国际经济与贸易 | E84: 202511040232 | F84: 彭莉 | G84: 三等奖 | H84: 144 | I84: 3.44 | J84: 0.14583333 | K84: 21 | L84: 0.069444444 | M84: 10
A85: 83 | B85: 经济学院 | C85: 2025 | D85: 国际经济与贸易 | E85: 202511040243 | F85: 张文萁 | G85: 三等奖 | H85: 144 | I85: 3.28 | J85: 0.21527778 | K85: 31 | L85: 0.076388889 | M85: 11
A86: 84 | B86: 经济学院 | C86: 2025 | D86: 国际经济与贸易 | E86: 202511040307 | F86: 侯睿涵 | G86: 三等奖 | H86: 144 | I86: 2.60 | J86: 0.75694444 | K86: 109 | L86: 0.083333333 | M86: 12
A87: 85 | B87: 经济学院 | C87: 2025 | D87: 国际经济与贸易 | E87: 202511040229 | F87: 麦倩茵 | G87: 三等奖 | H87: 144 | I87: 3.07 | J87: 0.36805556 | K87: 53 | L87: 0.090277778 | M87: 13
A88: 86 | B88: 经济学院 | C88: 2025 | D88: 国际经济与贸易 | E88: 202511040103 | F88: 邓星灿 | G88: 三等奖 | H88: 144 | I88: 3.09 | J88: 0.35416667 | K88: 51 | L88: 0.097222222 | M88: 14
A89: 87 | B89: 经济学院 | C89: 2025 | D89: 国际经济与贸易 | E89: 202511040233 | F89: 邱安芯 | G89: 三等奖 | H89: 144 | I89: 3.67 | J89: 0.055555556 | K89: 8 | L89: 0.10416667 | M89: 15
A90: 88 | B90: 经济学院 | C90: 2025 | D90: 国际经济与贸易 | E90: 202513020106 | F90: 古金来 | G90: 三等奖 | H90: 144 | I90: 3.15 | J90: 0.3125 | K90: 45 | L90: 0.11111111 | M90: 16 | V90: 7 | X90: 21 | Z90: 75 | AB90: 15
A91: 89 | B91: 经济学院 | C91: 2025 | D91: 国际经济与贸易 | E91: 202511040118 | F91: 刘恩佟 | G91: 三等奖 | H91: 144 | I91: 2.98 | J91: 0.45833333 | K91: 66 | L91: 0.11805556 | M91: 17
A92: 90 | B92: 经济学院 | C92: 2025 | D92: 国际经济与贸易 | E92: 202511040222 | F92: 李左婷 | G92: 三等奖 | H92: 144 | I92: 3.94 | J92: 0.013888889 | K92: 2 | L92: 0.125 | M92: 18
A93: 91 | B93: 经济学院 | C93: 2025 | D93: 国际经济与贸易 | E93: 202511040115 | F93: 梁嘉嘉 | G93: 三等奖 | H93: 144 | I93: 3.66 | J93: 0.0625 | K93: 9 | L93: 0.13194444 | M93: 19
A94: 92 | B94: 经济学院 | C94: 2025 | D94: 国际经济与贸易 | E94: 202511040128 | F94: 丘乐怡 | G94: 三等奖 | H94: 144 | I94: 3.68 | J94: 0.048611111 | K94: 7 | L94: 0.13888889 | M94: 20
A95: 93 | B95: 经济学院 | C95: 2025 | D95: 国际经济与贸易 | E95: 202511040321 | F95: 邱梓丹 | G95: 学业进步奖 | H95: 144 | I95: 2.83 | J95: 0.59027778 | K95: 85 | L95: 0.6875 | M95: 99
A96: 94 | B96: 经济学院 | C96: 2025 | D96: 国际经济与贸易 | E96: 202511040203 | F96: 陈绮琪 | G96: 学业进步奖 | H96: 144 | I96: 2.92 | J96: 0.54166667 | K96: 78 | L96: 0.67361111 | M96: 97
A97: 95 | B97: 经济学院 | C97: 2025 | D97: 国际经济与贸易 | E97: 202511040303 | F97: 范若茜 | G97: 学业进步奖 | H97: 144 | I97: 3.24 | J97: 0.25 | K97: 36 | L97: 0.25 | M97: 36
...
