Workbook

Sheet 金融情况表
B1: 附件1：
A2: 2025-2026学年综合素测评情况总表
A3: 序号 | B3: 学号 | C3: 姓名 | D3: 学业成绩（70） | H3: 4+X活动分（30） | L3: 其他表现测评分（50） | P3: 扣分 | Q3: 合计 | T3: 申报奖项
D4: 原始分 | E4: 折算分 | F4: 排名 | G4: 百分比 | H4: 原始分 | I4: 折算分 | J4: 排名 | K4: 百分比 | L4: 原始分 | M4: 折算分 | N4: 排名 | O4: 百分比 | Q4: 折算总分 | R4: 总排名 | S4: 总百分比
A5: 1 | B5: 202311080129 | C5: 翁文锋 | D5: 3.76 | E5: =D5/MAX($D$5:$D$309)*70 -> 63.269231 | F5: =RANK(E5,$E$5:$E$309) -> 28 | G5: =IFERROR(RANK(E5,$E$5:$E$309)/COUNT($E$5:$E$309),0) -> 0.091803279 | H5: 803 | I5: =H5/MAX($H$5:$H$309)*30 -> 30 | J5: =RANK(I5,$I$5:$I$309) -> 1 | K5: =IFERROR(RANK(I5,$I$5:$I$309)/COUNT($I$5:$I$309),0) -> 0.0032786885 | L5: 187.5 | M5: =IF(L5>=50,50,L5) -> 50 | N5: =RANK(M5,$M$5:$M$309) -> 1 | O5: =IFERROR(RANK(M5,$M$5:$M$309)/COUNT($M$5:$M$309),0) -> 0.0032786885 | P5: 0 | Q5: =E5+I5+M5-P5 -> 143.26923 | R5: =RANK(Q5,$Q$5:$Q$309) -> 1 | S5: =IFERROR(RANK(Q5,$Q$5:$Q$309)/COUNT($Q$5:$Q$309),0) -> 0.0032786885
A6: 2 | B6: 202311080640 | C6: 誉秀莹 | D6: 3.59 | E6: =D6/MAX($D$5:$D$309)*70 -> 60.408654 | F6: =RANK(E6,$E$5:$E$309) -> 54 | G6: =IFERROR(RANK(E6,$E$5:$E$309)/COUNT($E$5:$E$309),0) -> 0.17704918 | H6: 606.5 | I6: =H6/MAX($H$5:$H$309)*30 -> 22.65878 | J6: =RANK(I6,$I$5:$I$309) -> 2 | K6: =IFERROR(RANK(I6,$I$5:$I$309)/COUNT($I$5:$I$309),0) -> 0.006557377 | L6: 125 | M6: =IF(L6>=50,50,L6) -> 50 | N6: =RANK(M6,$M$5:$M$309) -> 1 | O6: =IFERROR(RANK(M6,$M$5:$M$309)/COUNT($M$5:$M$309),0) -> 0.0032786885 | P6: 0 | Q6: =E6+I6+M6-P6 -> 133.06743 | R6: =RANK(Q6,$Q$5:$Q$309) -> 2 | S6: =IFERROR(RANK(Q6,$Q$5:$Q$309)/COUNT($Q$5:$Q$309),0) -> 0.006557377
A7: 3 | B7: 202311080418 | C7: 刘杏蕊 | D7: 3.78 | E7: =D7/MAX($D$5:$D$309)*70 -> 63.605769 | F7: =RANK(E7,$E$5:$E$309) -> 23 | G7: =IFERROR(RANK(E7,$E$5:$E$309)/COUNT($E$5:$E$309),0) -> 0.075409836 | H7: 373 | I7: =H7/MAX($H$5:$H$309)*30 -> 13.935243 | J7: =RANK(I7,$I$5:$I$309) -> 4 | K7: =IFERROR(RANK(I7,$I$5:$I$309)/COUNT($I$5:$I$309),0) -> 0.013114754 | L7: 65.9 | M7: =IF(L7>=50,50,L7) -> 50 | N7: =RANK(M7,$M$5:$M$309) -> 1 | O7: =IFERROR(RANK(M7,$M$5:$M$309)/COUNT($M$5:$M$309),0) -> 0.0032786885 | P7: 0 | Q7: =E7+I7+M7-P7 -> 127.54101 | R7: =RANK(Q7,$Q$5:$Q$309) -> 3 | S7: =IFERROR(RANK(Q7,$Q$5:$Q$309)/COUNT($Q$5:$Q$309),0) -> 0.0098360656
A8: 4 | B8: 202311080103 | C8: 陈炫锰 | D8: 3.5 | E8: =D8/MAX($D$5:$D$309)*70 -> 58.894231 | F8: =RANK(E8,$E$5:$E$309) -> 71 | G8: =IFERROR(RANK(E8,$E$5:$E$309)/COUNT($E$5:$E$309),0) -> 0.23278689 | H8: 472.5 | I8: =H8/MAX($H$5:$H$309)*30 -> 17.652553 | J8: =RANK(I8,$I$5:$I$309) -> 3 | K8: =IFERROR(RANK(I8,$I$5:$I$309)/COUNT($I$5:$I$309),0) -> 0.0098360656 | L8: 103.9 | M8: =IF(L8>=50,50,L8) -> 50 | N8: =RANK(M8,$M$5:$M$309) -> 1 | O8: =IFERROR(RANK(M8,$M$5:$M$309)/COUNT($M$5:$M$309),0) -> 0.0032786885 | P8: 0 | Q8: =E8+I8+M8-P8 -> 126.54678 | R8: =RANK(Q8,$Q$5:$Q$309) -> 4 | S8: =IFERROR(RANK(Q8,$Q$5:$Q$309)/COUNT($Q$5:$Q$309),0) -> 0.013114754
A9: 5 | B9: 202311080642 | C9: 曾俐银 | D9: 3.86 | E9: =D9/MAX($D$5:$D$309)*70 -> 64.951923 | F9: =RANK(E9,$E$5:$E$309) -> 12 | G9: =IFERROR(RANK(E9,$E$5:$E$309)/COUNT($E$5:$E$309),0) -> 0.039344262 | H9: 92 | I9: =H9/MAX($H$5:$H$309)*30 -> 3.4371108 | J9: =RANK(I9,$I$5:$I$309) -> 13 | K9: =IFERROR(RANK(I9,$I$5:$I$309)/COUNT($I$5:$I$309),0) -> 0.042622951 | L9: 63 | M9: =IF(L9>=50,50,L9) -> 50 | N9: =RANK(M9,$M$5:$M$309) -> 1 | O9: =IFERROR(RANK(M9,$M$5:$M$309)/COUNT($M$5:$M$309),0) -> 0.0032786885 | P9: 0 | Q9: =E9+I9+M9-P9 -> 118.38903 | R9: =RANK(Q9,$Q$5:$Q$309) -> 5 | S9: =IFERROR(RANK(Q9,$Q$5:$Q$309)/COUNT($Q$5:$Q$309),0) -> 0.016393443
A10: 6 | B10: 202311080320 | C10: 马思陈 | D10: 3.78 | E10: =D10/MAX($D$5:$D$309)*70 -> 63.605769 | F10: =RANK(E10,$E$5:$E$309) -> 23 | G10: =IFERROR(RANK(E10,$E$5:$E$309)/COUNT($E$5:$E$309),0) -> 0.075409836 | H10: 31 | I10: =H10/MAX($H$5:$H$309)*30 -> 1.1581569 | J10: =RANK(I10,$I$5:$I$309) -> 67 | K10: =IFERROR(RANK(I10,$I$5:$I$309)/COUNT($I$5:$I$309),0) -> 0.21967213 | L10: 50.6 | M10: =IF(L10>=50,50,L10) -> 50 | N10: =RANK(M10,$M$5:$M$309) -> 1 | O10: =IFERROR(RANK(M10,$M$5:$M$309)/COUNT($M$5:$M$309),0) -> 0.0032786885 | P10: 0 | Q10: =E10+I10+M10-P10 -> 114.76393 | R10: =RANK(Q10,$Q$5:$Q$309) -> 6 | S10: =IFERROR(RANK(Q10,$Q$5:$Q$309)/COUNT($Q$5:$Q$309),0) -> 0.019672131
A11: 7 | B11: 202311080341 | C11: 叶慧颖 | D11: 3.96 | E11: =D11/MAX($D$5:$D$309)*70 -> 66.634615 | F11: =RANK(E11,$E$5:$E$309) -> 5 | G11: =IFERROR(RANK(E11,$E$5:$E$309)/COUNT($E$5:$E$309),0) -> 0.016393443 | H11: 153 | I11: =H11/MAX($H$5:$H$309)*30 -> 5.7160648 | J11: =RANK(I11,$I$5:$I$309) -> 6 | K11: =IFERROR(RANK(I11,$I$5:$I$309)/COUNT($I$5:$I$309),0) -> 0.019672131 | L11: 39.4 | M11: =IF(L11>=50,50,L11) -> 39.4 | N11: =RANK(M11,$M$5:$M$309) -> 9 | O11: =IFERROR(RANK(M11,$M$5:$M$309)/COUNT($M$5:$M$309),0) -> 0.029508197 | P11: 0 | Q11: =E11+I11+M11-P11 -> 111.75068 | R11: =RANK(Q11,$Q$5:$Q$309) -> 8 | S11: =IFERROR(RANK(Q11,$Q$5:$Q$309)/COUNT($Q$5:$Q$309),0) -> 0.026229508
A12: 8 | B12: 202311080140 | C12: 朱俊欣 | D12: 3.57 | E12: =D12/MAX($D$5:$D$309)*70 -> 60.072115 | F12: =RANK(E12,$E$5:$E$309) -> 58 | G12: =IFERROR(RANK(E12,$E$5:$E$309)/COUNT($E$5:$E$309),0) -> 0.19016393 | H12: 138 | I12: =H12/MAX($H$5:$H$309)*30 -> 5.1556663 | J12: =RANK(I12,$I$5:$I$309) -> 7 | K12: =IFERROR(RANK(I12,$I$5:$I$309)/COUNT($I$5:$I$309),0) -> 0.02295082 | L12: 47.1 | M12: =IF(L12>=50,50,L12) -> 47.1 | N12: =RANK(M12,$M$5:$M$309) -> 8 | O12: =IFERROR(RANK(M12,$M$5:$M$309)/COUNT($M$5:$M$309),0) -> 0.026229508 | P12: 0 | Q12: =E12+I12+M12-P12 -> 112.32778 | R12: =RANK(Q12,$Q$5:$Q$309) -> 7 | S12: =IFERROR(RANK(Q12,$Q$5:$Q$309)/COUNT($Q$5:$Q$309),0) -> 0.02295082
A13: 9 | B13: 202311080202 | C13: 陈亿铭 | D13: 3.26 | E13: =D13/MAX($D$5:$D$309)*70 -> 54.855769 | F13: =RANK(E13,$E$5:$E$309) -> 120 | G13: =IFERROR(RANK(E13,$E$5:$E$309)/COUNT($E$5:$E$309),0) -> 0.39344262 | H13: 102.5 | I13: =H13/MAX($H$5:$H$309)*30 -> 3.8293898 | J13: =RANK(I13,$I$5:$I$309) -> 11 | K13: =IFERROR(RANK(I13,$I$5:$I$309)/COUNT($I$5:$I$309),0) -> 0.036065574 | L13: 48.5 | M13: =IF(L13>=50,50,L13) -> 48.5 | N13: =RANK(M13,$M$5:$M$309) -> 7 | O13: =IFERROR(RANK(M13,$M$5:$M$309)/COUNT($M$5:$M$309),0) -> 0.02295082 | P13: 0 | Q13: =E13+I13+M13-P13 -> 107.18516 | R13: =RANK(Q13,$Q$5:$Q$309) -> 9 | S13: =IFERROR(RANK(Q13,$Q$5:$Q$309)/COUNT($Q$5:$Q$309),0) -> 0.029508197
A14: 10 | B14: 202311080414 | C14: 梁卓权 | D14: 3.65 | E14: =D14/MAX($D$5:$D$309)*70 -> 61.418269 | F14: =RANK(E14,$E$5:$E$309) -> 46 | G14: =IFERROR(RANK(E14,$E$5:$E$309)/COUNT($E$5:$E$309),0) -> 0.15081967 | H14: 160 | I14: =H14/MAX($H$5:$H$309)*30 -> 5.9775841 | J14: =RANK(I14,$I$5:$I$309) -> 5 | K14: =IFERROR(RANK(I14,$I$5:$I$309)/COUNT($I$5:$I$309),0) -> 0.016393443 | L14: 37.8 | M14: =IF(L14>=50,50,L14) -> 37.8 | N14: =RANK(M14,$M$5:$M$309) -> 10 | O14: =IFERROR(RANK(M14,$M$5:$M$309)/COUNT($M$5:$M$309),0) -> 0.032786885 | P14: 0 | Q14: =E14+I14+M14-P14 -> 105.19585 | R14: =RANK(Q14,$Q$5:$Q$309) -> 10 | S14: =IFERROR(RANK(Q14,$Q$5:$Q$309)/COUNT($Q$5:$Q$309),0) -> 0.032786885
A15: 11 | B15: 202311080213 | C15: 黄颖棋 | D15: 4.02 | E15: =D15/MAX($D$5:$D$309)*70 -> 67.644231 | F15: =RANK(E15,$E$5:$E$309) -> 3 | G15: =IFERROR(RANK(E15,$E$5:$E$309)/COUNT($E$5:$E$309),0) -> 0.0098360656 | H15: 64 | I15: =H15/MAX($H$5:$H$309)*30 -> 2.3910336 | J15: =RANK(I15,$I$5:$I$309) -> 19 | K15: =IFERROR(RANK(I15,$I$5:$I$309)/COUNT($I$5:$I$309),0) -> 0.062295082 | L15: 30 | M15: =IF(L15>=50,50,L15) -> 30 | N15: =RANK(M15,$M$5:$M$309) -> 12 | O15: =IFERROR(RANK(M15,$M$5:$M$309)/COUNT($M$5:$M$309),0) -> 0.039344262 | P15: 0 | Q15: =E15+I15+M15-P15 -> 100.03526 | R15: =RANK(Q15,$Q$5:$Q$309) -> 11 | S15: =IFERROR(RANK(Q15,$Q$5:$Q$309)/COUNT($Q$5:$Q$309),0) -> 0.036065574
A16: 12 | B16: 202311080645 | C16: 钟茜如 | D16: 3.68 | E16: =D16/MAX($D$5:$D$309)*70 -> 61.923077 | F16: =RANK(E16,$E$5:$E$309) -> 40 | G16: =IFERROR(RANK(E16,$E$5:$E$309)/COUNT($E$5:$E$309),0) -> 0.13114754 | H16: 101.5 | I16: =H16/MAX($H$5:$H$309)*30 -> 3.7920299 | J16: =RANK(I16,$I$5:$I$309) -> 12 | K16: =IFERROR(RANK(I16,$I$5:$I$309)/COUNT($I$5:$I$309),0) -> 0.039344262 | L16: 33 | M16: =IF(L16>=50,50,L16) -> 33 | N16: =RANK(M16,$M$5:$M$309) -> 11 | O16: =IFERROR(RANK(M16,$M$5:$M$309)/COUNT($M$5:$M$309),0) -> 0.036065574 | P16: 0 | Q16: =E16+I16+M16-P16 -> 98.715107 | R16: =RANK(Q16,$Q$5:$Q$309) -> 12 | S16: =IFERROR(RANK(Q16,$Q$5:$Q$309)/COUNT($Q$5:$Q$309),0) -> 0.039344262
A17: 13 | B17: 202311081108 | C17: 吴桐澍 | D17: 4.16 | E17: =D17/MAX($D$5:$D$309)*70 -> 70 | F17: =RANK(E17,$E$5:$E$309) -> 1 | G17: =IFERROR(RANK(E17,$E$5:$E$309)/COUNT($E$5:$E$309),0) -> 0.0032786885 | H17: 21 | I17: =H17/MAX($H$5:$H$309)*30 -> 0.78455791 | J17: =RANK(I17,$I$5:$I$309) -> 161 | K17: =IFERROR(RANK(I17,$I$5:$I$309)/COUNT($I$5:$I$309),0) -> 0.52786885 | L17: 25.5 | M17: =IF(L17>=50,50,L17) -> 25.5 | N17: =RANK(M17,$M$5:$M$309) -> 15 | O17: =IFERROR(RANK(M17,$M$5:$M$309)/COUNT($M$5:$M$309),0) -> 0.049180328 | P17: 0 | Q17: =E17+I17+M17-P17 -> 96.284558 | R17: =RANK(Q17,$Q$5:$Q$309) -> 13 | S17: =IFERROR(RANK(Q17,$Q$5:$Q$309)/COUNT($Q$5:$Q$309),0) -> 0.042622951
A18: 14 | B18: 202311080314 | C18: 李苑 | D18: 3.82 | E18: =D18/MAX($D$5:$D$309)*70 -> 64.278846 | F18: =RANK(E18,$E$5:$E$309) -> 17 | G18: =IFERROR(RANK(E18,$E$5:$E$309)/COUNT($E$5:$E$309),0) -> 0.055737705 | H18: 34.5 | I18: =H18/MAX($H$5:$H$309)*30 -> 1.2889166 | J18: =RANK(I18,$I$5:$I$309) -> 52 | K18: =IFERROR(RANK(I18,$I$5:$I$309)/COUNT($I$5:$I$309),0) -> 0.1704918 | L18: 28 | M18: 29 | N18: =RANK(M18,$M$5:$M$309) -> 14 | O18: =IFERROR(RANK(M18,$M$5:$M$309)/COUNT($M$5:$M$309),0) -> 0.045901639 | P18: 0 | Q18: =E18+I18+M18-P18 -> 94.567763 | R18: =RANK(Q18,$Q$5:$Q$309) -> 14 | S18: =IFERROR(RANK(Q18,$Q$5:$Q$309)/COUNT($Q$5:$Q$309),0) -> 0.045901639
A19: 15 | B19: 202311080601 | C19: 蔡晓琳 | D19: 3.66 | E19: =D19/MAX($D$5:$D$309)*70 -> 61.586538 | F19: =RANK(E19,$E$5:$E$309) -> 43 | G19: =IFERROR(RANK(E19,$E$5:$E$309)/COUNT($E$5:$E$309),0) -> 0.14098361 | H19: 17 | I19: =H19/MAX($H$5:$H$309)*30 -> 0.63511831 | J19: =RANK(I19,$I$5:$I$309) -> 205 | K19: =IFERROR(RANK(I19,$I$5:$I$309)/COUNT($I$5:$I$309),0) -> 0.67213115 | L19: 30 | M19: =IF(L19>=50,50,L19) -> 30 | N19: =RANK(M19,$M$5:$M$309) -> 12 | O19: =IFERROR(RANK(M19,$M$5:$M$309)/COUNT($M$5:$M$309),0) -> 0.039344262 | P19: 0 | Q19: =E19+I19+M19-P19 -> 92.221657 | R19: =RANK(Q19,$Q$5:$Q$309) -> 15 | S19: =IFERROR(RANK(Q19,$Q$5:$Q$309)/COUNT($Q$5:$Q$309),0) -> 0.049180328
A20: 16 | B20: 202311080622 | C20: 林海清 | D20: 3.78 | E20: =D20/MAX($D$5:$D$309)*70 -> 63.605769 | F20: =RANK(E20,$E$5:$E$309) -> 23 | G20: =IFERROR(RANK(E20,$E$5:$E$309)/COUNT($E$5:$E$309),0) -> 0.075409836 | H20: 81.5 | I20: =H20/MAX($H$5:$H$309)*30 -> 3.0448319 | J20: =RANK(I20,$I$5:$I$309) -> 17 | K20: =IFERROR(RANK(I20,$I$5:$I$309)/COUNT($I$5:$I$309),0) -> 0.055737705 | L20: 19 | M20: 22 | N20: =RANK(M20,$M$5:$M$309) -> 17 | O20: =IFERROR(RANK(M20,$M$5:$M$309)/COUNT($M$5:$M$309),0) -> 0.055737705 | P20: 0 | Q20: =E20+I20+M20-P20 -> 88.650601 | R20: =RANK(Q20,$Q$5:$Q$309) -> 16 | S20: =IFERROR(RANK(Q20,$Q$5:$Q$309)/COUNT($Q$5:$Q$309),0) -> 0.052459016
A21: 17 | B21: 202311080310 | C21: 雷善婷 | D21: 3.72 | E21: =D21/MAX($D$5:$D$309)*70 -> 62.596154 | F21: =RANK(E21,$E$5:$E$309) -> 33 | G21: =IFERROR(RANK(E21,$E$5:$E$309)/COUNT($E$5:$E$309),0) -> 0.10819672 | H21: 119 | I21: =H21/MAX($H$5:$H$309)*30 -> 4.4458281 | J21: =RANK(I21,$I$5:$I$309) -> 9 | K21: =IFERROR(RANK(I21,$I$5:$I$309)/COUNT($I$5:$I$309),0) -> 0.029508197 | L21: 18.4 | M21: =IF(L21>=50,50,L21) -> 18.4 | N21: =RANK(M21,$M$5:$M$309) -> 20 | O21: =IFERROR(RANK(M21,$M$5:$M$309)/COUNT($M$5:$M$309),0) -> 0.06557377 | P21: 0 | Q21: =E21+I21+M21-P21 -> 85.441982 | R21: =RANK(Q21,$Q$5:$Q$309) -> 18 | S21: =IFERROR(RANK(Q21,$Q$5:$Q$309)/COUNT($Q$5:$Q$309),0) -> 0.059016393
A22: 18 | B22: 202311080604 | C22: 陈思羽 | D22: 3.48 | E22: =D22/MAX($D$5:$D$309)*70 -> 58.557692 | F22: =RANK(E22,$E$5:$E$309) -> 74 | G22: =IFERROR(RANK(E22,$E$5:$E$309)/COUNT($E$5:$E$309),0) -> 0.24262295 | H22: 86 | I22: =H22/MAX($H$5:$H$309)*30 -> 3.2129514 | J22: =RANK(I22,$I$5:$I$309) -> 15 | K22: =IFERROR(RANK(I22,$I$5:$I$309)/COUNT($I$5:$I$309),0) -> 0.049180328 | L22: 24 | M22: =IF(L22>=50,50,L22) -> 24 | N22: =RANK(M22,$M$5:$M$309) -> 16 | O22: =IFERROR(RANK(M22,$M$5:$M$309)/COUNT($M$5:$M$309),0) -> 0.052459016 | P22: 0 | Q22: =E22+I22+M22-P22 -> 85.770644 | R22: =RANK(Q22,$Q$5:$Q$309) -> 17 | S22: =IFERROR(RANK(Q22,$Q$5:$Q$309)/COUNT($Q$5:$Q$309),0) -> 0.055737705
A23: 19 | B23: 202311080517 | C23: 刘家好 | D23: 3.75 | E23: =D23/MAX($D$5:$D$309)*70 -> 63.100962 | F23: =RANK(E23,$E$5:$E$309) -> 29 | G23: =IFERROR(RANK(E23,$E$5:$E$309)/COUNT($E$5:$E$309),0) -> 0.095081967 | H23: 43.5 | I23: =H23/MAX($H$5:$H$309)*30 -> 1.6251557 | J23: =RANK(I23,$I$5:$I$309) -> 30 | K23: =IFERROR(RANK(I23,$I$5:$I$309)/COUNT($I$5:$I$309),0) -> 0.098360656 | L23: 20.5 | M23: =IF(L23>=50,50,L23) -> 20.5 | N23: =RANK(M23,$M$5:$M$309) -> 18 | O23: =IFERROR(RANK(M23,$M$5:$M$309)/COUNT($M$5:$M$309),0) -> 0.059016393 | P23: 0 | Q23: =E23+I23+M23-P23 -> 85.226117 | R23: =RANK(Q23,$Q$5:$Q$309) -> 19 | S23: =IFERROR(RANK(Q23,$Q$5:$Q$309)/COUNT($Q$5:$Q$309),0) -> 0.062295082
A24: 20 | B24: 202311080512 | C24: 李佳璇 | D24: 3.74 | E24: =D24/MAX($D$5:$D$309)*70 -> 62.932692 | F24: =RANK(E24,$E$5:$E$309) -> 30 | G24: =IFERROR(RANK(E24,$E$5:$E$309)/COUNT($E$5:$E$309),0) -> 0.098360656 | H24: 30 | I24: =H24/MAX($H$5:$H$309)*30 -> 1.120797 | J24: =RANK(I24,$I$5:$I$309) -> 77 | K24: =IFERROR(RANK(I24,$I$5:$I$309)/COUNT($I$5:$I$309),0) -> 0.25245902 | L24: 15 | M24: =IF(L24>=50,50,L24) -> 15 | N24: =RANK(M24,$M$5:$M$309) -> 21 | O24: =IFERROR(RANK(M24,$M$5:$M$309)/COUNT($M$5:$M$309),0) -> 0.068852459 | P24: 0 | Q24: =E24+I24+M24-P24 -> 79.053489 | R24: =RANK(Q24,$Q$5:$Q$309) -> 20 | S24: =IFERROR(RANK(Q24,$Q$5:$Q$309)/COUNT($Q$5:$Q$309),0) -> 0.06557377
A25: 21 | B25: 202311080538 | C25: 曾晓彤 | D25: 3.81 | E25: =D25/MAX($D$5:$D$309)*70 -> 64.110577 | F25: =RANK(E25,$E$5:$E$309) -> 18 | G25: =IFERROR(RANK(E25,$E$5:$E$309)/COUNT($E$5:$E$309),0) -> 0.059016393 | H25: 26 | I25: =H25/MAX($H$5:$H$309)*30 -> 0.97135741 | J25: =RANK(I25,$I$5:$I$309) -> 102 | K25: =IFERROR(RANK(I25,$I$5:$I$309)/COUNT($I$5:$I$309),0) -> 0.33442623 | L25: 12 | M25: =IF(L25>=50,50,L25) -> 12 | N25: =RANK(M25,$M$5:$M$309) -> 22 | O25: =IFERROR(RANK(M25,$M$5:$M$309)/COUNT($M$5:$M$309),0) -> 0.072131148 | P25: 0 | Q25: =E25+I25+M25-P25 -> 77.081934 | R25: =RANK(Q25,$Q$5:$Q$309) -> 22 | S25: =IFERROR(RANK(Q25,$Q$5:$Q$309)/COUNT($Q$5:$Q$309),0) -> 0.072131148
A26: 22 | B26: 202311081112 | C26: 叶曙漫 | D26: 3.18 | E26: =D26/MAX($D$5:$D$309)*70 -> 53.509615 | F26: =RANK(E26,$E$5:$E$309) -> 143 | G26: =IFERROR(RANK(E26,$E$5:$E$309)/COUNT($E$5:$E$309),0) -> 0.46885246 | H26: 91 | I26: =H26/MAX($H$5:$H$309)*30 -> 3.3997509 | J26: =RANK(I26,$I$5:$I$309) -> 14 | K26: =IFERROR(RANK(I26,$I$5:$I$309)/COUNT($I$5:$I$309),0) -> 0.045901639 | L26: 20.4 | M26: =IF(L26>=50,50,L26) -> 20.4 | N26: =RANK(M26,$M$5:$M$309) -> 19 | O26: =IFERROR(RANK(M26,$M$5:$M$309)/COUNT($M$5:$M$309),0) -> 0.062295082 | P26: 0 | Q26: =E26+I26+M26-P26 -> 77.309366 | R26: =RANK(Q26,$Q$5:$Q$309) -> 21 | S26: =IFERROR(RANK(Q26,$Q$5:$Q$309)/COUNT($Q$5:$Q$309),0) -> 0.068852459
A27: 23 | B27: 202311080338 | C27: 谢雪仪 | D27: 3.79 | E27: =D27/MAX($D$5:$D$309)*70 -> 63.774038 | F27: =RANK(E27,$E$5:$E$309) -> 21 | G27: =IFERROR(RANK(E27,$E$5:$E$309)/COUNT($E$5:$E$309),0) -> 0.068852459 | H27: 48.5 | I27: =H27/MAX($H$5:$H$309)*30 -> 1.8119552 | J27: =RANK(I27,$I$5:$I$309) -> 26 | K27: =IFERROR(RANK(I27,$I$5:$I$309)/COUNT($I$5:$I$309),0) -> 0.085245902 | L27: 9.5 | M27: =IF(L27>=50,50,L27) -> 9.5 | N27: =RANK(M27,$M$5:$M$309) -> 23 | O27: =IFERROR(RANK(M27,$M$5:$M$309)/COUNT($M$5:$M$309),0) -> 0.075409836 | P27: 0 | Q27: =E27+I27+M27-P27 -> 75.085994 | R27: =RANK(Q27,$Q$5:$Q$309) -> 23 | S27: =IFERROR(RANK(Q27,$Q$5:$Q$309)/COUNT($Q$5:$Q$309),0) -> 0.075409836
A28: 24 | B28: 202311080532 | C28: 吴桂娴 | D28: 3.84 | E28: =D28/MAX($D$5:$D$309)*70 -> 64.615385 | F28: =RANK(E28,$E$5:$E$309) -> 13 | G28: =IFERROR(RANK(E28,$E$5:$E$309)/COUNT($E$5:$E$309),0) -> 0.042622951 | H28: 18 | I28: =H28/MAX($H$5:$H$309)*30 -> 0.67247821 | J28: =RANK(I28,$I$5:$I$309) -> 192 | K28: =IFERROR(RANK(I28,$I$5:$I$309)/COUNT($I$5:$I$309),0) -> 0.6295082 | L28: 7.5 | M28: =IF(L28>=50,50,L28) -> 7.5 | N28: =RANK(M28,$M$5:$M$309) -> 26 | O28: =IFERROR(RANK(M28,$M$5:$M$309)/COUNT($M$5:$M$309),0) -> 0.085245902 | P28: 0 | Q28: =E28+I28+M28-P28 -> 72.787863 | R28: =RANK(Q28,$Q$5:$Q$309) -> 24 | S28: =IFERROR(RANK(Q28,$Q$5:$Q$309)/COUNT($Q$5:$Q$309),0) -> 0.078688525
A29: 25 | B29: 202311080533 | C29: 吴嘉瑜 | D29: 3.67 | E29: =D29/MAX($D$5:$D$309)*70 -> 61.754808 | F29: =RANK(E29,$E$5:$E$309) -> 41 | G29: =IFERROR(RANK(E29,$E$5:$E$309)/COUNT($E$5:$E$309),0) -> 0.13442623 | H29: 43 | I29: =H29/MAX($H$5:$H$309)*30 -> 1.6064757 | J29: =RANK(I29,$I$5:$I$309) -> 31 | K29: =IFERROR(RANK(I29,$I$5:$I$309)/COUNT($I$5:$I$309),0) -> 0.10163934 | L29: 9 | M29: =IF(L29>=50,50,L29) -> 9 | N29: =RANK(M29,$M$5:$M$309) -> 25 | O29: =IFERROR(RANK(M29,$M$5:$M$309)/COUNT($M$5:$M$309),0) -> 0.081967213 | P29: 0 | Q29: =E29+I29+M29-P29 -> 72.361283 | R29: =RANK(Q29,$Q$5:$Q$309) -> 25 | S29: =IFERROR(RANK(Q29,$Q$5:$Q$309)/COUNT($Q$5:$Q$309),0) -> 0.081967213
A30: 26 | B30: 202311080525 | C30: 孙楷墁 | D30: 4.02 | E30: =D30/MAX($D$5:$D$309)*70 -> 67.644231 | F30: =RANK(E30,$E$5:$E$309) -> 3 | G30: =IFERROR(RANK(E30,$E$5:$E$309)/COUNT($E$5:$E$309),0) -> 0.0098360656 | H30: 28.5 | I30: =H30/MAX($H$5:$H$309)*30 -> 1.0647572 | J30: =RANK(I30,$I$5:$I$309) -> 89 | K30: =IFERROR(RANK(I30,$I$5:$I$309)/COUNT($I$5:$I$309),0) -> 0.29180328 | L30: 2.5 | M30: =IF(L30>=50,50,L30) -> 2.5 | N30: =RANK(M30,$M$5:$M$309) -> 30 | O30: =IFERROR(RANK(M30,$M$5:$M$309)/COUNT($M$5:$M$309),0) -> 0.098360656 | P30: 0 | Q30: =E30+I30+M30-P30 -> 71.208988 | R30: =RANK(Q30,$Q$5:$Q$309) -> 26 | S30: =IFERROR(RANK(Q30,$Q$5:$Q$309)/COUNT($Q$5:$Q$309),0) -> 0.085245902
A31: 27 | B31: 202311080235 | C31: 徐娅玲 | D31: 4.08 | E31: =D31/MAX($D$5:$D$309)*70 -> 68.653846 | F31: =RANK(E31,$E$5:$E$309) -> 2 | G31: =IFERROR(RANK(E31,$E$5:$E$309)/COUNT($E$5:$E$309),0) -> 0.006557377 | H31: 36 | I31: =H31/MAX($H$5:$H$309)*30 -> 1.3449564 | J31: =RANK(I31,$I$5:$I$309) -> 46 | K31: =IFERROR(RANK(I31,$I$5:$I$309)/COUNT($I$5:$I$309),0) -> 0.15081967 | L31: 0 | M31: =IF(L31>=50,50,L31) -> 0 | N31: =RANK(M31,$M$5:$M$309) -> 48 | O31: =IFERROR(RANK(M31,$M$5:$M$309)/COUNT($M$5:$M$309),0) -> 0.15737705 | P31: 0 | Q31: =E31+I31+M31-P31 -> 69.998803 | R31: =RANK(Q31,$Q$5:$Q$309) -> 27 | S31: =IFERROR(RANK(Q31,$Q$5:$Q$309)/COUNT($Q$5:$Q$309),0) -> 0.08852459
A32: 28 | B32: 202311080313 | C32: 李学金 | D32: 3.69 | E32: =D32/MAX($D$5:$D$309)*70 -> 62.091346 | F32: =RANK(E32,$E$5:$E$309) -> 38 | G32: =IFERROR(RANK(E32,$E$5:$E$309)/COUNT($E$5:$E$309),0) -> 0.12459016 | H32: 31 | I32: =H32/MAX($H$5:$H$309)*30 -> 1.1581569 | J32: =RANK(I32,$I$5:$I$309) -> 67 | K32: =IFERROR(RANK(I32,$I$5:$I$309)/COUNT($I$5:$I$309),0) -> 0.21967213 | L32: 5 | M32: =IF(L32>=50,50,L32) -> 5 | N32: =RANK(M32,$M$5:$M$309) -> 27 | O32: =IFERROR(RANK(M32,$M$5:$M$309)/COUNT($M$5:$M$309),0) -> 0.08852459 | P32: 0 | Q32: =E32+I32+M32-P32 -> 68.249503 | R32: =RANK(Q32,$Q$5:$Q$309) -> 28 | S32: =IFERROR(RANK(Q32,$Q$5:$Q$309)/COUNT($Q$5:$Q$309),0) -> 0.091803279
... A123: 119 | B123: 202311080116 | C123: 林深铭 | D123: 3.29 | E123: =D123/MAX($D$5:$D$309)*70 -> 55.360577 | F123: =RANK(E123,$E$5:$E$309) -> 113 | G123: =IFERROR(RANK(E123,$E$5:$E$309)/COUNT($E$5:$E$309),0) -> 0.3704918 | H123: 18 | I123: =H123/MAX($H$5:$H$309)*30 -> 0.67247821 | J123: =RANK(I123,$I$5:$I$309) -> 192 | K123: =IFERROR(RANK(I123,$I$5:$I$309)/COUNT($I$5:$I$309),0) -> 0.6295082 | L123: 0 | M123: =IF(L123>=50,50,L123) -> 0 | N123: =RANK(M123,$M$5:$M$309) -> 48 | O123: =IFERROR(RANK(M123,$M$5:$M$309)/COUNT($M$5:$M$309),0) -> 0.15737705 | P123: 0 | Q123: =E123+I123+M123-P123 -> 56.033055 | R123: =RANK(Q123,$Q$5:$Q$309) -> 120 | S123: =IFERROR(RANK(Q123,$Q$5:$Q$309)/COUNT($Q$5:$Q$309),0) -> 0.39344262
A124: 120 | B124: 202311080137 | C124: 郑欣琪 | D124: 3.25 | E124: =D124/MAX($D$5:$D$309)*70 -> 54.6875 | F124: 131 | G124: =IFERROR(RANK(E124,$E$5:$E$309)/COUNT($E$5:$E$309),0) -> 0.39672131 | H124: 36.5 | I124: =H124/MAX($H$5:$H$309)*30 -> 1.3636364 | J124: =RANK(I124,$I$5:$I$309) -> 45 | K124: =IFERROR(RANK(I124,$I$5:$I$309)/COUNT($I$5:$I$309),0) -> 0.14754098 | L124: 0 | M124: =IF(L124>=50,50,L124) -> 0 | N124: =RANK(M124,$M$5:$M$309) -> 48 | O124: =IFERROR(RANK(M124,$M$5:$M$309)/COUNT($M$5:$M$309),0) -> 0.15737705 | P124: 0 | Q124: =E124+I124+M124-P124 -> 56.051136 | R124: =RANK(Q124,$Q$5:$Q$309) -> 119 | S124: =IFERROR(RANK(Q124,$Q$5:$Q$309)/COUNT($Q$5:$Q$309),0) -> 0.39016393
A125: 121 | B125: 202311080238 | C125: 袁海滨 | D125: 3.28 | E125: =D125/MAX($D$5:$D$309)*70 -> 55.192308 | F125: =RANK(E125,$E$5:$E$309) -> 116 | G125: =IFERROR(RANK(E125,$E$5:$E$309)/COUNT($E$5:$E$309),0) -> 0.38032787 | H125: 21 | I125: =H125/MAX($H$5:$H$309)*30 -> 0.78455791 | J125: =RANK(I125,$I$5:$I$309) -> 161 | K125: =IFERROR(RANK(I125,$I$5:$I$309)/COUNT($I$5:$I$309),0) -> 0.52786885 | L125: 0 | M125: =IF(L125>=50,50,L125) -> 0 | N125: =RANK(M125,$M$5:$M$309) -> 48 | O125: =IFERROR(RANK(M125,$M$5:$M$309)/COUNT($M$5:$M$309),0) -> 0.15737705 | P125: 0 | Q125: =E125+I125+M125-P125 -> 55.976866 | R125: =RANK(Q125,$Q$5:$Q$309) -> 121 | S125: =IFERROR(RANK(Q125,$Q$5:$Q$309)/COUNT($Q$5:$Q$309),0) -> 0.39672131
A126: 122 | B126: 202311080105 | C126: 冯梓堃 | D126: 3.29 | E126: =D126/MAX($D$5:$D$309)*70 -> 55.360577 | F126: =RANK(E126,$E$5:$E$309) -> 113 | G126: =IFERROR(RANK(E126,$E$5:$E$309)/COUNT($E$5:$E$309),0) -> 0.3704918 | H126: 14 | I126: =H126/MAX($H$5:$H$309)*30 -> 0.52303861 | J126: =RANK(I126,$I$5:$I$309) -> 237 | K126: =IFERROR(RANK(I126,$I$5:$I$309)/COUNT($I$5:$I$309),0) -> 0.77704918 | L126: 0 | M126: =IF(L126>=50,50,L126) -> 0 | N126: =RANK(M126,$M$5:$M$309) -> 48 | O126: =IFERROR(RANK(M126,$M$5:$M$309)/COUNT($M$5:$M$309),0) -> 0.15737705 | P126: 0 | Q126: =E126+I126+M126-P126 -> 55.883616 | R126: =RANK(Q126,$Q$5:$Q$309) -> 122 | S126: =IFERROR(RANK(Q126,$Q$5:$Q$309)/COUNT($Q$5:$Q$309),0) -> 0.4
A127: 123 | B127: 202311160206 | C127: 陈伊妮 | D127: 3.29 | E127: =D127/MAX($D$5:$D$309)*70 -> 55.360577 | F127: =RANK(E127,$E$5:$E$309) -> 113 | G127: =IFERROR(RANK(E127,$E$5:$E$309)/COUNT($E$5:$E$309),0) -> 0.3704918 | H127: 14 | I127: =H127/MAX($H$5:$H$309)*30 -> 0.52303861 | J127: =RANK(I127,$I$5:$I$309) -> 237 | K127: =IFERROR(RANK(I127,$I$5:$I$309)/COUNT($I$5:$I$309),0) -> 0.77704918 | L127: 0 | M127: =IF(L127>=50,50,L127) -> 0 | N127: =RANK(M127,$M$5:$M$309) -> 48 | O127: =IFERROR(RANK(M127,$M$5:$M$309)/COUNT($M$5:$M$309),0) -> 0.15737705 | P127: 0 | Q127: =E127+I127+M127-P127 -> 55.883616 | R127: =RANK(Q127,$Q$5:$Q$309) -> 122 | S127: =IFERROR(RANK(Q127,$Q$5:$Q$309)/COUNT($Q$5:$Q$309),0) -> 0.4
A128: 124 | B128: 202311081110 | C128: 薛宇鹏 | D128: 3.28 | E128: =D128/MAX($D$5:$D$309)*70 -> 55.192308 | F128: =RANK(E128,$E$5:$E$309) -> 116 | G128: =IFERROR(RANK(E128,$E$5:$E$309)/COUNT($E$5:$E$309),0) -> 0.38032787 | H128: 14 | I128: =H128/MAX($H$5:$H$309)*30 -> 0.52303861 | J128: =RANK(I128,$I$5:$I$309) -> 237 | K128: =IFERROR(RANK(I128,$I$5:$I$309)/COUNT($I$5:$I$309),0) -> 0.77704918 | L128: 0 | M128: =IF(L128>=50,50,L128) -> 0 | N128: =RANK(M128,$M$5:$M$309) -> 48 | O128: =IFERROR(RANK(M128,$M$5:$M$309)/COUNT($M$5:$M$309),0) -> 0.15737705 | P128: 0 | Q128: =E128+I128+M128-P128 -> 55.715346 | R128: =RANK(Q128,$Q$5:$Q$309) -> 124 | S128: =IFERROR(RANK(Q128,$Q$5:$Q$309)/COUNT($Q$5:$Q$309),0) -> 0.40655738
A129: 125 | B129: 202311080215 | C129: 黄雨瑶 | D129: 3.24 | E129: =D129/MAX($D$5:$D$309)*70 -> 54.519231 | F129: =RANK(E129,$E$5:$E$309) -> 124 | G129: =IFERROR(RANK(E129,$E$5:$E$309)/COUNT($E$5:$E$309),0) -> 0.40655738 | H129: 31 | I129: =H129/MAX($H$5:$H$309)*30 -> 1.1581569 | J129: =RANK(I129,$I$5:$I$309) -> 67 | K129: =IFERROR(RANK(I129,$I$5:$I$309)/COUNT($I$5:$I$309),0) -> 0.21967213 | L129: 0 | M129: =IF(L129>=50,50,L129) -> 0 | N129: =RANK(M129,$M$5:$M$309) -> 48 | O129: =IFERROR(RANK(M129,$M$5:$M$309)/COUNT($M$5:$M$309),0) -> 0.15737705 | P129: 0 | Q129: =E129+I129+M129-P129 -> 55.677388 | R129: =RANK(Q129,$Q$5:$Q$309) -> 125 | S129: =IFERROR(RANK(Q129,$Q$5:$Q$309)/COUNT($Q$5:$Q$309),0) -> 0.40983607
A130: 126 | B130: 202311080308 | C130: 黄淑桦 | D130: 3.25 | E130: =D130/MAX($D$5:$D$309)*70 -> 54.6875 | F130: =RANK(E130,$E$5:$E$309) -> 121 | G130: =IFERROR(RANK(E130,$E$5:$E$309)/COUNT($E$5:$E$309),0) -> 0.39672131 | H130: 24 | I130: =H130/MAX($H$5:$H$309)*30 -> 0.89663761 | J130: =RANK(I130,$I$5:$I$309) -> 120 | K130: =IFERROR(RANK(I130,$I$5:$I$309)/COUNT($I$5:$I$309),0) -> 0.39344262 | L130: 0 | M130: =IF(L130>=50,50,L130) -> 0 | N130: =RANK(M130,$M$5:$M$309) -> 48 | O130: =IFERROR(RANK(M130,$M$5:$M$309)/COUNT($M$5:$M$309),0) -> 0.15737705 | P130: 0 | Q130: =E130+I130+M130-P130 -> 55.584138 | R130: =RANK(Q130,$Q$5:$Q$309) -> 126 | S130: =IFERROR(RANK(Q130,$Q$5:$Q$309)/COUNT($Q$5:$Q$309),0) -> 0.41311475
A131: 127 | B131: 202311080219 | C131: 黎海彦 | D131: 3.23 | E131: =D131/MAX($D$5:$D$309)*70 -> 54.350962 | F131: =RANK(E131,$E$5:$E$309) -> 128 | G131: =IFERROR(RANK(E131,$E$5:$E$309)/COUNT($E$5:$E$309),0) -> 0.41967213 | H131: 33 | I131: =H131/MAX($H$5:$H$309)*30 -> 1.2328767 | J131: =RANK(I131,$I$5:$I$309) -> 58 | K131: =IFERROR(RANK(I131,$I$5:$I$309)/COUNT($I$5:$I$309),0) -> 0.19016393 | L131: 0 | M131: =IF(L131>=50,50,L131) -> 0 | N131: =RANK(M131,$M$5:$M$309) -> 48 | O131: =IFERROR(RANK(M131,$M$5:$M$309)/COUNT($M$5:$M$309),0) -> 0.15737705 | P131: 0 | Q131: =E131+I131+M131-P131 -> 55.583838 | R131: =RANK(Q131,$Q$5:$Q$309) -> 127 | S131: =IFERROR(RANK(Q131,$Q$5:$Q$309)/COUNT($Q$5:$Q$309),0) -> 0.41639344
A132: 128 | B132: 202311080329 | C132: 王婧祺 | D132: 3.25 | E132: =D132/MAX($D$5:$D$309)*70 -> 54.6875 | F132: =RANK(E132,$E$5:$E$309) -> 121 | G132: =IFERROR(RANK(E132,$E$5:$E$309)/COUNT($E$5:$E$309),0) -> 0.39672131 | H132: 23 | I132: =H132/MAX($H$5:$H$309)*30 -> 0.85927771 | J132: =RANK(I132,$I$5:$I$309) -> 137 | K132: =IFERROR(RANK(I132,$I$5:$I$309)/COUNT($I$5:$I$309),0) -> 0.44918033 | L132: 0 | M132: =IF(L132>=50,50,L132) -> 0 | N132: =RANK(M132,$M$5:$M$309) -> 48 | O132: =IFERROR(RANK(M132,$M$5:$M$309)/COUNT($M$5:$M$309),0) -> 0.15737705 | P132: 0 | Q132: =E132+I132+M132-P132 -> 55.546778 | R132: =RANK(Q132,$Q$5:$Q$309) -> 128 | S132: =IFERROR(RANK(Q132,$Q$5:$Q$309)/COUNT($Q$5:$Q$309),0) -> 0.41967213
A133: 129 | B133: 202311080435 | C133: 俞晓岚 | D133: 3.24 | E133: =D133/MAX($D$5:$D$309)*70 -> 54.519231 | F133: =RANK(E133,$E$5:$E$309) -> 124 | G133: =IFERROR(RANK(E133,$E$5:$E$309)/COUNT($E$5:$E$309),0) -> 0.40655738 | H133: 27 | I133: =H133/MAX($H$5:$H$309)*30 -> 1.0087173 | J133: =RANK(I133,$I$5:$I$309) -> 96 | K133: =IFERROR(RANK(I133,$I$5:$I$309)/COUNT($I$5:$I$309),0) -> 0.3147541 | L133: 0 | M133: =IF(L133>=50,50,L133) -> 0 | N133: =RANK(M133,$M$5:$M$309) -> 48 | O133: =IFERROR(RANK(M133,$M$5:$M$309)/COUNT($M$5:$M$309),0) -> 0.15737705 | P133: 0 | Q133: =E133+I133+M133-P133 -> 55.527948 | R133: =RANK(Q133,$Q$5:$Q$309) -> 129 | S133: =IFERROR(RANK(Q133,$Q$5:$Q$309)/COUNT($Q$5:$Q$309),0) -> 0.42295082
A134: 130 | B134: 202311080122 | C134: 苏可茵 | D134: 3.27 | E134: =D134/MAX($D$5:$D$309)*70 -> 55.024038 | F134: =RANK(E134,$E$5:$E$309) -> 119 | G134: =IFERROR(RANK(E134,$E$5:$E$309)/COUNT($E$5:$E$309),0) -> 0.39016393 | H134: 12 | I134: =H134/MAX($H$5:$H$309)*30 -> 0.4483188 | J134: =RANK(I134,$I$5:$I$309) -> 268 | K134: =IFERROR(RANK(I134,$I$5:$I$309)/COUNT($I$5:$I$309),0) -> 0.87868852 | L134: 0 | M134: =IF(L134>=50,50,L134) -> 0 | N134: =RANK(M134,$M$5:$M$309) -> 48 | O134: =IFERROR(RANK(M134,$M$5:$M$309)/COUNT($M$5:$M$309),0) -> 0.15737705 | P134: 0 | Q134: =E134+I134+M134-P134 -> 55.472357 | R134: =RANK(Q134,$Q$5:$Q$309) -> 131 | S134: =IFERROR(RANK(Q134,$Q$5:$Q$309)/COUNT($Q$5:$Q$309),0) -> 0.4295082
A135: 131 | B135: 202311080333 | C135: 吴心怡 | D135: 3.23 | E135: =D135/MAX($D$5:$D$309)*70 -> 54.350962 | F135: =RANK(E135,$E$5:$E$309) -> 128 | G135: =IFERROR(RANK(E135,$E$5:$E$309)/COUNT($E$5:$E$309),0) -> 0.41967213 | H135: 31 | I135: =H135/MAX($H$5:$H$309)*30 -> 1.1581569 | J135: =RANK(I135,$I$5:$I$309) -> 67 | K135: =IFERROR(RANK(I135,$I$5:$I$309)/COUNT($I$5:$I$309),0) -> 0.21967213 | L135: 0 | M135: =IF(L135>=50,50,L135) -> 0 | N135: =RANK(M135,$M$5:$M$309) -> 48 | O135: =IFERROR(RANK(M135,$M$5:$M$309)/COUNT($M$5:$M$309),0) -> 0.15737705 | P135: 0 | Q135: =E135+I135+M135-P135 -> 55.509118 | R135: =RANK(Q135,$Q$5:$Q$309) -> 130 | S135: =IFERROR(RANK(Q135,$Q$5:$Q$309)/COUNT($Q$5:$Q$309),0) -> 0.42622951
A136: 132 | B136: 202311080331 | C136: 吴军羿 | D136: 3.23 | E136: =D136/MAX($D$5:$D$309)*70 -> 54.350962 | F136: =RANK(E136,$E$5:$E$309) -> 128 | G136: =IFERROR(RANK(E136,$E$5:$E$309)/COUNT($E$5:$E$309),0) -> 0.41967213 | H136: 20 | I136: =H136/MAX($H$5:$H$309)*30 -> 0.74719801 | J136: =RANK(I136,$I$5:$I$309) -> 167 | K136: =IFERROR(RANK(I136,$I$5:$I$309)/COUNT($I$5:$I$309),0) -> 0.54754098 | L136: 0 | M136: =IF(L136>=50,50,L136) -> 0 | N136: =RANK(M136,$M$5:$M$309) -> 48 | O136: =IFERROR(RANK(M136,$M$5:$M$309)/COUNT($M$5:$M$309),0) -> 0.15737705 | P136: 0 | Q136: =E136+I136+M136-P136 -> 55.09816 | R136: =RANK(Q136,$Q$5:$Q$309) -> 133 | S136: =IFERROR(RANK(Q136,$Q$5:$Q$309)/COUNT($Q$5:$Q$309),0) -> 0.43606557
... A309: 305 | B309: 202311081116 | C309: 李之烽 | D309: 0.47 | E309: =D309/MAX($D$5:$D$309)*70 -> 7.9086538 | F309: =RANK(E309,$E$5:$E$309) -> 305 | G309: =IFERROR(RANK(E309,$E$5:$E$309)/COUNT($E$5:$E$309),0) -> 1 | H309: 0 | I309: =H309/MAX($H$5:$H$309)*30 -> 0 | J309: =RANK(I309,$I$5:$I$309) -> 300 | K309: =IFERROR(RANK(I309,$I$5:$I$309)/COUNT($I$5:$I$309),0) -> 0.98360656 | L309: 0 | M309: =IF(L309>=50,50,L309) -> 0 | N309: =RANK(M309,$M$5:$M$309) -> 48 | O309: =IFERROR(RANK(M309,$M$5:$M$309)/COUNT($M$5:$M$309),0) -> 0.15737705 | P309: 0 | Q309: =E309+I309+M309-P309 -> 7.9086538 | R309: =RANK(Q309,$Q$5:$Q$309) -> 305 | S309: =IFERROR(RANK(Q309,$Q$5:$Q$309)/COUNT($Q$5:$Q$309),0) -> 1
B312: 折算分计算公式：=D4/MAX($D$4:$D$22)*70
B313: 排名计算公式：=RANK(E5,$E$5:$E$22)
B314: 百分比计算公式：=IFERROR(RANK(E5,$E$5:$E$22)/COUNT($E$5:$E$22),0)
B315: 其他表现折算分计算公式：=IF(L5>=50,50,L5)

Sheet 国贸情况表
B1: 附件1：
A2: 2025-2026学年综合素测评情况总表
A3: 序号 | B3: 学号 | C3: 姓名 | D3: 学业成绩（70） | H3: 4+X活动分（30） | L3: 其他表现测评分（50） | P3: 扣分 | Q3: 合计 | T3: 申报奖项
D4: 原始分 | E4: 折算分 | F4: 排名 | G4: 百分比 | H4: 原始分 | I4: 折算分 | J4: 排名 | K4: 百分比 | L4: 原始分 | M4: 折算分 | N4: 排名 | O4: 百分比 | Q4: 折算总分 | R4: 总排名 | S4: 总百分比
A5: 1 | B5: 202311040103 | C5: 陈伊依 | D5: 2.92 | E5: =D5/MAX($D$5:$D$127)*70 -> 50.845771 | F5: =RANK(E5,$E$5:$E$127) -> 98 | G5: =IFERROR(RANK(E5,$E$5:$E$127)/COUNT($E$5:$E$127),0) -> 0.79674797 | H5: 58 | I5: =H5/MAX($H$5:$H$127)*30 -> 4.2439024 | J5: =RANK(I5,$I$5:$I$127) -> 29 | K5: =IFERROR(RANK(I5,$I$5:$I$127)/COUNT($I$5:$I$127),0) -> 0.23577236 | L5: 0 | M5: =IF(L5>=50,50,L5) -> 0 | N5: =RANK(M5,$M$5:$M$127) -> 33 | O5: =IFERROR(RANK(M5,$M$5:$M$127)/COUNT($M$5:$M$127),0) -> 0.26829268 | Q5: =E5+I5+M5-P5 -> 55.089674 | R5: =RANK(Q5,$Q$5:$Q$127) -> 96 | S5: =IFERROR(RANK(Q5,$Q$5:$Q$127)/COUNT($Q$5:$Q$127),0) -> 0.7804878
A6: 2 | B6: 202311040108 | C6: 黄慧雯 | D6: 3.03 | E6: =D6/MAX($D$5:$D$127)*70 -> 52.761194 | F6: =RANK(E6,$E$5:$E$127) -> 91 | G6: =IFERROR(RANK(E6,$E$5:$E$127)/COUNT($E$5:$E$127),0) -> 0.7398374 | H6: 34 | I6: =H6/MAX($H$5:$H$127)*30 -> 2.4878049 | J6: =RANK(I6,$I$5:$I$127) -> 90 | K6: =IFERROR(RANK(I6,$I$5:$I$127)/COUNT($I$5:$I$127),0) -> 0.73170732 | L6: 0 | M6: =IF(L6>=50,50,L6) -> 0 | N6: =RANK(M6,$M$5:$M$127) -> 33 | O6: =IFERROR(RANK(M6,$M$5:$M$127)/COUNT($M$5:$M$127),0) -> 0.26829268 | Q6: =E6+I6+M6-P6 -> 55.248999 | R6: =RANK(Q6,$Q$5:$Q$127) -> 95 | S6: =IFERROR(RANK(Q6,$Q$5:$Q$127)/COUNT($Q$5:$Q$127),0) -> 0.77235772
A7: 3 | B7: 202311040114 | C7: 李悦 | D7: 3.87 | E7: =D7/MAX($D$5:$D$127)*70 -> 67.38806 | F7: =RANK(E7,$E$5:$E$127) -> 7 | G7: =IFERROR(RANK(E7,$E$5:$E$127)/COUNT($E$5:$E$127),0) -> 0.056910569 | H7: 43 | I7: =H7/MAX($H$5:$H$127)*30 -> 3.1463415 | J7: =RANK(I7,$I$5:$I$127) -> 44 | K7: =IFERROR(RANK(I7,$I$5:$I$127)/COUNT($I$5:$I$127),0) -> 0.35772358 | L7: 0 | M7: =IF(L7>=50,50,L7) -> 0 | N7: =RANK(M7,$M$5:$M$127) -> 33 | O7: =IFERROR(RANK(M7,$M$5:$M$127)/COUNT($M$5:$M$127),0) -> 0.26829268 | Q7: =E7+I7+M7-P7 -> 70.534401 | R7: =RANK(Q7,$Q$5:$Q$127) -> 30 | S7: =IFERROR(RANK(Q7,$Q$5:$Q$127)/COUNT($Q$5:$Q$127),0) -> 0.24390244
A8: 4 | B8: 202311040101 | C8: 蔡佳华 | D8: 3.74 | E8: =D8/MAX($D$5:$D$127)*70 -> 65.124378 | F8: =RANK(E8,$E$5:$E$127) -> 19 | G8: =IFERROR(RANK(E8,$E$5:$E$127)/COUNT($E$5:$E$127),0) -> 0.15447154 | H8: 37.5 | I8: =H8/MAX($H$5:$H$127)*30 -> 2.7439024 | J8: =RANK(I8,$I$5:$I$127) -> 75 | K8: =IFERROR(RANK(I8,$I$5:$I$127)/COUNT($I$5:$I$127),0) -> 0.6097561 | L8: 0 | M8: =IF(L8>=50,50,L8) -> 0 | N8: =RANK(M8,$M$5:$M$127) -> 33 | O8: =IFERROR(RANK(M8,$M$5:$M$127)/COUNT($M$5:$M$127),0) -> 0.26829268 | Q8: =E8+I8+M8-P8 -> 67.868281 | R8: =RANK(Q8,$Q$5:$Q$127) -> 36 | S8: =IFERROR(RANK(Q8,$Q$5:$Q$127)/COUNT($Q$5:$Q$127),0) -> 0.29268293
A9: 5 | B9: 202311040111 | C9: 黎文慈 | D9: 2.93 | E9: =D9/MAX($D$5:$D$127)*70 -> 51.0199 | F9: =RANK(E9,$E$5:$E$127) -> 97 | G9: =IFERROR(RANK(E9,$E$5:$E$127)/COUNT($E$5:$E$127),0) -> 0.78861789 | H9: 44 | I9: =H9/MAX($H$5:$H$127)*30 -> 3.2195122 | J9: =RANK(I9,$I$5:$I$127) -> 41 | K9: =IFERROR(RANK(I9,$I$5:$I$127)/COUNT($I$5:$I$127),0) -> 0.33333333 | L9: 0 | M9: =IF(L9>=50,50,L9) -> 0 | N9: =RANK(M9,$M$5:$M$127) -> 33 | O9: =IFERROR(RANK(M9,$M$5:$M$127)/COUNT($M$5:$M$127),0) -> 0.26829268 | Q9: =E9+I9+M9-P9 -> 54.239413 | R9: =RANK(Q9,$Q$5:$Q$127) -> 100 | S9: =IFERROR(RANK(Q9,$Q$5:$Q$127)/COUNT($Q$5:$Q$127),0) -> 0.81300813
A10: 6 | B10: 202311040122 | C10: 吕楚蓝 | D10: 3.33 | E10: =D10/MAX($D$5:$D$127)*70 -> 57.985075 | F10: =RANK(E10,$E$5:$E$127) -> 61 | G10: =IFERROR(RANK(E10,$E$5:$E$127)/COUNT($E$5:$E$127),0) -> 0.49593496 | H10: 37 | I10: =H10/MAX($H$5:$H$127)*30 -> 2.7073171 | J10: =RANK(I10,$I$5:$I$127) -> 76 | K10: =IFERROR(RANK(I10,$I$5:$I$127)/COUNT($I$5:$I$127),0) -> 0.61788618 | L10: 7.2 | M10: =IF(L10>=50,50,L10) -> 7.2 | N10: =RANK(M10,$M$5:$M$127) -> 27 | O10: =IFERROR(RANK(M10,$M$5:$M$127)/COUNT($M$5:$M$127),0) -> 0.2195122 | Q10: =E10+I10+M10-P10 -> 67.892392 | R10: =RANK(Q10,$Q$5:$Q$127) -> 35 | S10: =IFERROR(RANK(Q10,$Q$5:$Q$127)/COUNT($Q$5:$Q$127),0) -> 0.28455285
A11: 7 | B11: 202311040123 | C11: 麦绮彤 | D11: 2.66 | E11: =D11/MAX($D$5:$D$127)*70 -> 46.318408 | F11: =RANK(E11,$E$5:$E$127) -> 108 | G11: =IFERROR(RANK(E11,$E$5:$E$127)/COUNT($E$5:$E$127),0) -> 0.87804878 | H11: 62 | I11: =H11/MAX($H$5:$H$127)*30 -> 4.5365854 | J11: =RANK(I11,$I$5:$I$127) -> 26 | K11: =IFERROR(RANK(I11,$I$5:$I$127)/COUNT($I$5:$I$127),0) -> 0.21138211 | L11: 0 | M11: =IF(L11>=50,50,L11) -> 0 | N11: =RANK(M11,$M$5:$M$127) -> 33 | O11: =IFERROR(RANK(M11,$M$5:$M$127)/COUNT($M$5:$M$127),0) -> 0.26829268 | Q11: =E11+I11+M11-P11 -> 50.854993 | R11: =RANK(Q11,$Q$5:$Q$127) -> 107 | S11: =IFERROR(RANK(Q11,$Q$5:$Q$127)/COUNT($Q$5:$Q$127),0) -> 0.8699187
A12: 8 | B12: 202311040132 | C12: 赵沁琳 | D12: 3.36 | E12: =D12/MAX($D$5:$D$127)*70 -> 58.507463 | F12: =RANK(E12,$E$5:$E$127) -> 57 | G12: =IFERROR(RANK(E12,$E$5:$E$127)/COUNT($E$5:$E$127),0) -> 0.46341463 | H12: 38 | I12: =H12/MAX($H$5:$H$127)*30 -> 2.7804878 | J12: =RANK(I12,$I$5:$I$127) -> 60 | K12: =IFERROR(RANK(I12,$I$5:$I$127)/COUNT($I$5:$I$127),0) -> 0.48780488 | L12: 0 | M12: =IF(L12>=50,50,L12) -> 0 | N12: =RANK(M12,$M$5:$M$127) -> 33 | O12: =IFERROR(RANK(M12,$M$5:$M$127)/COUNT($M$5:$M$127),0) -> 0.26829268 | Q12: =E12+I12+M12-P12 -> 61.28795 | R12: =RANK(Q12,$Q$5:$Q$127) -> 64 | S12: =IFERROR(RANK(Q12,$Q$5:$Q$127)/COUNT($Q$5:$Q$127),0) -> 0.5203252
A13: 9 | B13: 202311040133 | C13: 钟雨婷 | D13: 2.95 | E13: =D13/MAX($D$5:$D$127)*70 -> 51.368159 | F13: =RANK(E13,$E$5:$E$127) -> 95 | G13: =IFERROR(RANK(E13,$E$5:$E$127)/COUNT($E$5:$E$127),0) -> 0.77235772 | H13: 151.5 | I13: =H13/MAX($H$5:$H$127)*30 -> 11.085366 | J13: =RANK(I13,$I$5:$I$127) -> 6 | K13: =IFERROR(RANK(I13,$I$5:$I$127)/COUNT($I$5:$I$127),0) -> 0.048780488 | L13: 25.3 | M13: =IF(L13>=50,50,L13) -> 25.3 | N13: =RANK(M13,$M$5:$M$127) -> 11 | O13: =IFERROR(RANK(M13,$M$5:$M$127)/COUNT($M$5:$M$127),0) -> 0.089430894 | Q13: =E13+I13+M13-P13 -> 87.753525 | R13: =RANK(Q13,$Q$5:$Q$127) -> 16 | S13: =IFERROR(RANK(Q13,$Q$5:$Q$127)/COUNT($Q$5:$Q$127),0) -> 0.1300813
A14: 10 | B14: 202304170119 | C14: 李樱慧 | D14: 3.15 | E14: =D14/MAX($D$5:$D$127)*70 -> 54.850746 | F14: =RANK(E14,$E$5:$E$127) -> 76 | G14: =IFERROR(RANK(E14,$E$5:$E$127)/COUNT($E$5:$E$127),0) -> 0.61788618 | H14: 37 | I14: =H14/MAX($H$5:$H$127)*30 -> 2.7073171 | J14: =RANK(I14,$I$5:$I$127) -> 76 | K14: =IFERROR(RANK(I14,$I$5:$I$127)/COUNT($I$5:$I$127),0) -> 0.61788618 | L14: 0 | M14: =IF(L14>=50,50,L14) -> 0 | N14: =RANK(M14,$M$5:$M$127) -> 33 | O14: =IFERROR(RANK(M14,$M$5:$M$127)/COUNT($M$5:$M$127),0) -> 0.26829268 | Q14: =E14+I14+M14-P14 -> 57.558063 | R14: =RANK(Q14,$Q$5:$Q$127) -> 83 | S14: =IFERROR(RANK(Q14,$Q$5:$Q$127)/COUNT($Q$5:$Q$127),0) -> 0.67479675
A15: 11 | B15: 202311040104 | C15: 陈泳思 | D15: 3.27 | E15: =D15/MAX($D$5:$D$127)*70 -> 56.940299 | F15: =RANK(E15,$E$5:$E$127) -> 66 | G15: =IFERROR(RANK(E15,$E$5:$E$127)/COUNT($E$5:$E$127),0) -> 0.53658537 | H15: 79 | I15: =H15/MAX($H$5:$H$127)*30 -> 5.7804878 | J15: =RANK(I15,$I$5:$I$127) -> 16 | K15: =IFERROR(RANK(I15,$I$5:$I$127)/COUNT($I$5:$I$127),0) -> 0.1300813 | L15: 0 | M15: =IF(L15>=50,50,L15) -> 0 | N15: =RANK(M15,$M$5:$M$127) -> 33 | O15: =IFERROR(RANK(M15,$M$5:$M$127)/COUNT($M$5:$M$127),0) -> 0.26829268 | Q15: =E15+I15+M15-P15 -> 62.720786 | R15: =RANK(Q15,$Q$5:$Q$127) -> 57 | S15: =IFERROR(RANK(Q15,$Q$5:$Q$127)/COUNT($Q$5:$Q$127),0) -> 0.46341463
A16: 12 | B16: 202311040113 | C16: 李睿鹏 | D16: 2.05 | E16: =D16/MAX($D$5:$D$127)*70 -> 35.696517 | F16: =RANK(E16,$E$5:$E$127) -> 120 | G16: =IFERROR(RANK(E16,$E$5:$E$127)/COUNT($E$5:$E$127),0) -> 0.97560976 | H16: 38 | I16: =H16/MAX($H$5:$H$127)*30 -> 2.7804878 | J16: =RANK(I16,$I$5:$I$127) -> 60 | K16: =IFERROR(RANK(I16,$I$5:$I$127)/COUNT($I$5:$I$127),0) -> 0.48780488 | L16: 0 | M16: =IF(L16>=50,50,L16) -> 0 | N16: =RANK(M16,$M$5:$M$127) -> 33 | O16: =IFERROR(RANK(M16,$M$5:$M$127)/COUNT($M$5:$M$127),0) -> 0.26829268 | Q16: =E16+I16+M16-P16 -> 38.477005 | R16: =RANK(Q16,$Q$5:$Q$127) -> 120 | S16: =IFERROR(RANK(Q16,$Q$5:$Q$127)/COUNT($Q$5:$Q$127),0) -> 0.97560976
... A61: 57 | B61: 202311040202 | C61: 曹榆佳 | D61: 3.68 | E61: =D61/MAX($D$5:$D$127)*70 -> 64.079602 | F61: =RANK(E61,$E$5:$E$127) -> 26 | G61: =IFERROR(RANK(E61,$E$5:$E$127)/COUNT($E$5:$E$127),0) -> 0.21138211 | H61: 40 | I61: =H61/MAX($H$5:$H$127)*30 -> 2.9268293 | J61: =RANK(I61,$I$5:$I$127) -> 51 | K61: =IFERROR(RANK(I61,$I$5:$I$127)/COUNT($I$5:$I$127),0) -> 0.41463415 | L61: 0 | M61: =IF(L61>=50,50,L61) -> 0 | N61: =RANK(M61,$M$5:$M$127) -> 33 | O61: =IFERROR(RANK(M61,$M$5:$M$127)/COUNT($M$5:$M$127),0) -> 0.26829268 | Q61: =E61+I61+M61-P61 -> 67.006431 | R61: =RANK(Q61,$Q$5:$Q$127) -> 39 | S61: =IFERROR(RANK(Q61,$Q$5:$Q$127)/COUNT($Q$5:$Q$127),0) -> 0.31707317
A62: 58 | B62: 202311040209 | C62: 丁嘉涵 | D62: 3.48 | E62: =D62/MAX($D$5:$D$127)*70 -> 60.597015 | F62: =RANK(E62,$E$5:$E$127) -> 46 | G62: =IFERROR(RANK(E62,$E$5:$E$127)/COUNT($E$5:$E$127),0) -> 0.37398374 | H62: 66 | I62: =H62/MAX($H$5:$H$127)*30 -> 4.8292683 | J62: =RANK(I62,$I$5:$I$127) -> 21 | K62: =IFERROR(RANK(I62,$I$5:$I$127)/COUNT($I$5:$I$127),0) -> 0.17073171 | L62: 21.5 | M62: =IF(L62>=50,50,L62) -> 21.5 | N62: =RANK(M62,$M$5:$M$127) -> 13 | O62: =IFERROR(RANK(M62,$M$5:$M$127)/COUNT($M$5:$M$127),0) -> 0.10569106 | P62: 5 | Q62: =E62+I62+M62-P62 -> 81.926283 | R62: =RANK(Q62,$Q$5:$Q$127) -> 21 | S62: =IFERROR(RANK(Q62,$Q$5:$Q$127)/COUNT($Q$5:$Q$127),0) -> 0.17073171
A63: 59 | B63: 202311040213 | C63: 郭泳之 | D63: 3.49 | E63: =D63/MAX($D$5:$D$127)*70 -> 60.771144 | F63: =RANK(E63,$E$5:$E$127) -> 43 | G63: =IFERROR(RANK(E63,$E$5:$E$127)/COUNT($E$5:$E$127),0) -> 0.3495935 | H63: 32 | I63: =H63/MAX($H$5:$H$127)*30 -> 2.3414634 | J63: =RANK(I63,$I$5:$I$127) -> 107 | K63: =IFERROR(RANK(I63,$I$5:$I$127)/COUNT($I$5:$I$127),0) -> 0.8699187 | L63: 0 | M63: =IF(L63>=50,50,L63) -> 0 | N63: =RANK(M63,$M$5:$M$127) -> 33 | O63: =IFERROR(RANK(M63,$M$5:$M$127)/COUNT($M$5:$M$127),0) -> 0.26829268 | Q63: =E63+I63+M63-P63 -> 63.112608 | R63: =RANK(Q63,$Q$5:$Q$127) -> 53 | S63: =IFERROR(RANK(Q63,$Q$5:$Q$127)/COUNT($Q$5:$Q$127),0) -> 0.43089431
A64: 60 | B64: 202311040226 | C64: 李振华 | D64: 3.75 | E64: =D64/MAX($D$5:$D$127)*70 -> 65.298507 | F64: =RANK(E64,$E$5:$E$127) -> 18 | G64: =IFERROR(RANK(E64,$E$5:$E$127)/COUNT($E$5:$E$127),0) -> 0.14634146 | H64: 188 | I64: =H64/MAX($H$5:$H$127)*30 -> 13.756098 | J64: =RANK(I64,$I$5:$I$127) -> 4 | K64: =IFERROR(RANK(I64,$I$5:$I$127)/COUNT($I$5:$I$127),0) -> 0.032520325 | L64: 17.5 | M64: =IF(L64>=50,50,L64) -> 17.5 | N64: =RANK(M64,$M$5:$M$127) -> 17 | O64: =IFERROR(RANK(M64,$M$5:$M$127)/COUNT($M$5:$M$127),0) -> 0.13821138 | Q64: =E64+I64+M64-P64 -> 96.554605 | R64: =RANK(Q64,$Q$5:$Q$127) -> 11 | S64: =IFERROR(RANK(Q64,$Q$5:$Q$127)/COUNT($Q$5:$Q$127),0) -> 0.089430894
A65: 61 | B65: 202311040229 | C65: 卢秋雨 | D65: 3.92 | E65: =D65/MAX($D$5:$D$127)*70 -> 68.258706 | F65: =RANK(E65,$E$5:$E$127) -> 3 | G65: =IFERROR(RANK(E65,$E$5:$E$127)/COUNT($E$5:$E$127),0) -> 0.024390244 | H65: 45 | I65: =H65/MAX($H$5:$H$127)*30 -> 3.2926829 | J65: =RANK(I65,$I$5:$I$127) -> 38 | K65: =IFERROR(RANK(I65,$I$5:$I$127)/COUNT($I$5:$I$127),0) -> 0.30894309 | L65: 5 | M65: =IF(L65>=50,50,L65) -> 5 | N65: =RANK(M65,$M$5:$M$127) -> 31 | O65: =IFERROR(RANK(M65,$M$5:$M$127)/COUNT($M$5:$M$127),0) -> 0.25203252 | Q65: =E65+I65+M65-P65 -> 76.551389 | R65: =RANK(Q65,$Q$5:$Q$127) -> 24 | S65: =IFERROR(RANK(Q65,$Q$5:$Q$127)/COUNT($Q$5:$Q$127),0) -> 0.19512195
A66: 62 | B66: 202311040207 | C66: 陈昕淇 | D66: 3.04 | E66: =D66/MAX($D$5:$D$127)*70 -> 52.935323 | F66: =RANK(E66,$E$5:$E$127) -> 89 | G66: =IFERROR(RANK(E66,$E$5:$E$127)/COUNT($E$5:$E$127),0) -> 0.72357724 | H66: 56 | I66: =H66/MAX($H$5:$H$127)*30 -> 4.097561 | J66: =RANK(I66,$I$5:$I$127) -> 30 | K66: =IFERROR(RANK(I66,$I$5:$I$127)/COUNT($I$5:$I$127),0) -> 0.24390244 | L66: 0 | M66: =IF(L66>=50,50,L66) -> 0 | N66: =RANK(M66,$M$5:$M$127) -> 33 | O66: =IFERROR(RANK(M66,$M$5:$M$127)/COUNT($M$5:$M$127),0) -> 0.26829268 | Q66: =E66+I66+M66-P66 -> 57.032884 | R66: =RANK(Q66,$Q$5:$Q$127) -> 86 | S66: =IFERROR(RANK(Q66,$Q$5:$Q$127)/COUNT($Q$5:$Q$127),0) -> 0.69918699
A67: 63 | B67: 202311040208 | C67: 邓宇峰 | D67: 3.63 | E67: =D67/MAX($D$5:$D$127)*70 -> 63.208955 | F67: =RANK(E67,$E$5:$E$127) -> 29 | G67: =IFERROR(RANK(E67,$E$5:$E$127)/COUNT($E$5:$E$127),0) -> 0.23577236 | H67: 36 | I67: =H67/MAX($H$5:$H$127)*30 -> 2.6341463 | J67: =RANK(I67,$I$5:$I$127) -> 80 | K67: =IFERROR(RANK(I67,$I$5:$I$127)/COUNT($I$5:$I$127),0) -> 0.6504065 | L67: 0 | M67: =IF(L67>=50,50,L67) -> 0 | N67: =RANK(M67,$M$5:$M$127) -> 33 | O67: =IFERROR(RANK(M67,$M$5:$M$127)/COUNT($M$5:$M$127),0) -> 0.26829268 | P67: 5 | Q67: =E67+I67+M67-P67 -> 60.843102 | R67: =RANK(Q67,$Q$5:$Q$127) -> 66 | S67: =IFERROR(RANK(Q67,$Q$5:$Q$127)/COUNT($Q$5:$Q$127),0) -> 0.53658537
A68: 64 | B68: 202311040211 | C68: 丁怡 | D68: 3.72 | E68: =D68/MAX($D$5:$D$127)*70 -> 64.776119 | F68: =RANK(E68,$E$5:$E$127) -> 21 | G68: =IFERROR(RANK(E68,$E$5:$E$127)/COUNT($E$5:$E$127),0) -> 0.17073171 | H68: 39 | I68: =H68/MAX($H$5:$H$127)*30 -> 2.8536585 | J68: =RANK(I68,$I$5:$I$127) -> 54 | K68: =IFERROR(RANK(I68,$I$5:$I$127)/COUNT($I$5:$I$127),0) -> 0.43902439 | L68: 31.5 | M68: =IF(L68>=50,50,L68) -> 31.5 | N68: =RANK(M68,$M$5:$M$127) -> 10 | O68: =IFERROR(RANK(M68,$M$5:$M$127)/COUNT($M$5:$M$127),0) -> 0.081300813 | Q68: =E68+I68+M68-P68 -> 99.129778 | R68: =RANK(Q68,$Q$5:$Q$127) -> 10 | S68: =IFERROR(RANK(Q68,$Q$5:$Q$127)/COUNT($Q$5:$Q$127),0) -> 0.081300813
A69: 65 | B69: 202311040215 | C69: 胡茵婷 | D69: 3.73 | E69: =D69/MAX($D$5:$D$127)*70 -> 64.950249 | F69: =RANK(E69,$E$5:$E$127) -> 20 | G69: =IFERROR(RANK(E69,$E$5:$E$127)/COUNT($E$5:$E$127),0) -> 0.16260163 | H69: 61 | I69: =H69/MAX($H$5:$H$127)*30 -> 4.4634146 | J69: =RANK(I69,$I$5:$I$127) -> 27 | K69: =IFERROR(RANK(I69,$I$5:$I$127)/COUNT($I$5:$I$127),0) -> 0.2195122 | L69: 0 | M69: =IF(L69>=50,50,L69) -> 0 | N69: =RANK(M69,$M$5:$M$127) -> 33 | O69: =IFERROR(RANK(M69,$M$5:$M$127)/COUNT($M$5:$M$127),0) -> 0.26829268 | Q69: =E69+I69+M69-P69 -> 69.413663 | R69: =RANK(Q69,$Q$5:$Q$127) -> 33 | S69: =IFERROR(RANK(Q69,$Q$5:$Q$127)/COUNT($Q$5:$Q$127),0) -> 0.26829268
A70: 66 | B70: 202311040216 | C70: 岑娅 | D70: 3.37 | E70: =D70/MAX($D$5:$D$127)*70 -> 58.681592 | F70: =RANK(E70,$E$5:$E$127) -> 55 | G70: =IFERROR(RANK(E70,$E$5:$E$127)/COUNT($E$5:$E$127),0) -> 0.44715447 | H70: 42 | I70: =H70/MAX($H$5:$H$127)*30 -> 3.0731707 | J70: =RANK(I70,$I$5:$I$127) -> 46 | K70: =IFERROR(RANK(I70,$I$5:$I$127)/COUNT($I$5:$I$127),0) -> 0.37398374 | L70: 0 | M70: =IF(L70>=50,50,L70) -> 0 | N70: =RANK(M70,$M$5:$M$127) -> 33 | O70: =IFERROR(RANK(M70,$M$5:$M$127)/COUNT($M$5:$M$127),0) -> 0.26829268 | Q70: =E70+I70+M70-P70 -> 61.754763 | R70: =RANK(Q70,$Q$5:$Q$127) -> 62 | S70: =IFERROR(RANK(Q70,$Q$5:$Q$127)/COUNT($Q$5:$Q$127),0) -> 0.50406504
A71: 67 | B71: 202311040219 | C71: 黄永杰 | D71: 2.9 | E71: =D71/MAX($D$5:$D$127)*70 -> 50.497512 | F71: =RANK(E71,$E$5:$E$127) -> 100 | G71: =IFERROR(RANK(E71,$E$5:$E$127)/COUNT($E$5:$E$127),0) -> 0.81300813 | H71: 38 | I71: =H71/MAX($H$5:$H$127)*30 -> 2.7804878 | J71: =RANK(I71,$I$5:$I$127) -> 60 | K71: =IFERROR(RANK(I71,$I$5:$I$127)/COUNT($I$5:$I$127),0) -> 0.48780488 | L71: 0 | M71: =IF(L71>=50,50,L71) -> 0 | N71: =RANK(M71,$M$5:$M$127) -> 33 | O71: =IFERROR(RANK(M71,$M$5:$M$127)/COUNT($M$5:$M$127),0) -> 0.26829268 | Q71: =E71+I71+M71-P71 -> 53.278 | R71: =RANK(Q71,$Q$5:$Q$127) -> 101 | S71: =IFERROR(RANK(Q71,$Q$5:$Q$127)/COUNT($Q$5:$Q$127),0) -> 0.82113821
A72: 68 | B72: 202311040222 | C72: 李金桥 | D72: 3.78 | E72: =D72/MAX($D$5:$D$127)*70 -> 65.820896 | F72: =RANK(E72,$E$5:$E$127) -> 15 | G72: =IFERROR(RANK(E72,$E$5:$E$127)/COUNT($E$5:$E$127),0) -> 0.12195122 | H72: 39 | I72: =H72/MAX($H$5:$H$127)*30 -> 2.8536585 | J72: =RANK(I72,$I$5:$I$127) -> 54 | K72: =IFERROR(RANK(I72,$I$5:$I$127)/COUNT($I$5:$I$127),0) -> 0.43902439 | L72: 36 | M72: =IF(L72>=50,50,L72) -> 36 | N72: =RANK(M72,$M$5:$M$127) -> 9 | O72: =IFERROR(RANK(M72,$M$5:$M$127)/COUNT($M$5:$M$127),0) -> 0.073170732 | Q72: =E72+I72+M72-P72 -> 104.67455 | R72: =RANK(Q72,$Q$5:$Q$127) -> 9 | S72: =IFERROR(RANK(Q72,$Q$5:$Q$127)/COUNT($Q$5:$Q$127),0) -> 0.073170732
A73: 69 | B73: 202311040232 | C73: 潘武鑫 | D73: 3.91 | E73: =D73/MAX($D$5:$D$127)*70 -> 68.084577 | F73: =RANK(E73,$E$5:$E$127) -> 5 | G73: =IFERROR(RANK(E73,$E$5:$E$127)/COUNT($E$5:$E$127),0) -> 0.040650407 | H73: 307 | I73: =H73/MAX($H$5:$H$127)*30 -> 22.463415 | J73: =RANK(I73,$I$5:$I$127) -> 3 | K73: =IFERROR(RANK(I73,$I$5:$I$127)/COUNT($I$5:$I$127),0) -> 0.024390244 | L73: 5.5 | M73: =IF(L73>=50,50,L73) -> 5.5 | N73: =RANK(M73,$M$5:$M$127) -> 30 | O73: =IFERROR(RANK(M73,$M$5:$M$127)/COUNT($M$5:$M$127),0) -> 0.24390244 | Q73: =E73+I73+M73-P73 -> 96.047992 | R73: =RANK(Q73,$Q$5:$Q$127) -> 12 | S73: =IFERROR(RANK(Q73,$Q$5:$Q$127)/COUNT($Q$5:$Q$127),0) -> 0.097560976
A74: 70 | B74: 202311040235 | C74: 王晓曼 | D74: 3.92 | E74: =D74/MAX($D$5:$D$127)*70 -> 68.258706 | F74: =RANK(E74,$E$5:$E$127) -> 3 | G74: =IFERROR(RANK(E74,$E$5:$E$127)/COUNT($E$5:$E$127),0) -> 0.024390244 | H74: 94 | I74: =H74/MAX($H$5:$H$127)*30 -> 6.8780488 | J74: =RANK(I74,$I$5:$I$127) -> 12 | K74: =IFERROR(RANK(I74,$I$5:$I$127)/COUNT($I$5:$I$127),0) -> 0.097560976 | L74: 47.4 | M74: =IF(L74>=50,50,L74) -> 47.4 | N74: =RANK(M74,$M$5:$M$127) -> 5 | O74: =IFERROR(RANK(M74,$M$5:$M$127)/COUNT($M$5:$M$127),0) -> 0.040650407 | Q74: =E74+I74+M74-P74 -> 122.53676 | R74: =RANK(Q74,$Q$5:$Q$127) -> 4 | S74: =IFERROR(RANK(Q74,$Q$5:$Q$127)/COUNT($Q$5:$Q$127),0) -> 0.032520325
A75: 71 | B75: 202311040245 | C75: 张膺帆 | D75: 3 | E75: =D75/MAX($D$5:$D$127)*70 -> 52.238806 | F75: =RANK(E75,$E$5:$E$127) -> 93 | G75: =IFERROR(RANK(E75,$E$5:$E$127)/COUNT($E$5:$E$127),0) -> 0.75609756 | H75: 36 | I75: =H75/MAX($H$5:$H$127)*30 -> 2.6341463 | J75: =RANK(I75,$I$5:$I$127) -> 80 | K75: =IFERROR(RANK(I75,$I$5:$I$127)/COUNT($I$5:$I$127),0) -> 0.6504065 | L75: 0 | M75: =IF(L75>=50,50,L75) -> 0 | N75: =RANK(M75,$M$5:$M$127) -> 33 | O75: =IFERROR(RANK(M75,$M$5:$M$127)/COUNT($M$5:$M$127),0) -> 0.26829268 | Q75: =E75+I75+M75-P75 -> 54.872952 | R75: =RANK(Q75,$Q$5:$Q$127) -> 97 | S75: =IFERROR(RANK(Q75,$Q$5:$Q$127)/COUNT($Q$5:$Q$127),0) -> 0.78861789
A76: 72 | B76: 202311040246 | C76: 张钰昕 | D76: 3.05 | E76: =D76/MAX($D$5:$D$127)*70 -> 53.109453 | F76: =RANK(E76,$E$5:$E$127) -> 88 | G76: =IFERROR(RANK(E76,$E$5:$E$127)/COUNT($E$5:$E$127),0) -> 0.71544715 | H76: 38 | I76: =H76/MAX($H$5:$H$127)*30 -> 2.7804878 | J76: =RANK(I76,$I$5:$I$127) -> 60 | K76: =IFERROR(RANK(I76,$I$5:$I$127)/COUNT($I$5:$I$127),0) -> 0.48780488 | L76: 0 | M76: =IF(L76>=50,50,L76) -> 0 | N76: =RANK(M76,$M$5:$M$127) -> 33 | O76: =IFERROR(RANK(M76,$M$5:$M$127)/COUNT($M$5:$M$127),0) -> 0.26829268 | Q76: =E76+I76+M76-P76 -> 55.889941 | R76: =RANK(Q76,$Q$5:$Q$127) -> 92 | S76: =IFERROR(RANK(Q76,$Q$5:$Q$127)/COUNT($Q$5:$Q$127),0) -> 0.74796748
A77: 73 | B77: 202311040248 | C77: 梁家谦 | D77: 3.68 | E77: =D77/MAX($D$5:$D$127)*70 -> 64.079602 | F77: =RANK(E77,$E$5:$E$127) -> 26 | G77: =IFERROR(RANK(E77,$E$5:$E$127)/COUNT($E$5:$E$127),0) -> 0.21138211 | H77: 36 | I77: =H77/MAX($H$5:$H$127)*30 -> 2.6341463 | J77: =RANK(I77,$I$5:$I$127) -> 80 | K77: =IFERROR(RANK(I77,$I$5:$I$127)/COUNT($I$5:$I$127),0) -> 0.6504065 | L77: 0 | M77: =IF(L77>=50,50,L77) -> 0 | N77: =RANK(M77,$M$5:$M$127) -> 33 | O77: =IFERROR(RANK(M77,$M$5:$M$127)/COUNT($M$5:$M$127),0) -> 0.26829268 | Q77: =E77+I77+M77-P77 -> 66.713748 | R77: =RANK(Q77,$Q$5:$Q$127) -> 40 | S77: =IFERROR(RANK(Q77,$Q$5:$Q$127)/COUNT($Q$5:$Q$127),0) -> 0.32520325
A78: 74 | B78: 202311040205 | C78: 陈乐怡 | D78: 3.57 | E78: =D78/MAX($D$5:$D$127)*70 -> 62.164179 | F78: =RANK(E78,$E$5:$E$127) -> 33 | G78: =IFERROR(RANK(E78,$E$5:$E$127)/COUNT($E$5:$E$127),0) -> 0.26829268 | H78: 34 | I78: =H78/MAX($H$5:$H$127)*30 -> 2.4878049 | J78: =RANK(I78,$I$5:$I$127) -> 90 | K78: =IFERROR(RANK(I78,$I$5:$I$127)/COUNT($I$5:$I$127),0) -> 0.73170732 | L78: 0 | M78: =IF(L78>=50,50,L78) -> 0 | N78: =RANK(M78,$M$5:$M$127) -> 33 | O78: =IFERROR(RANK(M78,$M$5:$M$127)/COUNT($M$5:$M$127),0) -> 0.26829268 | Q78: =E78+I78+M78-P78 -> 64.651984 | R78: =RANK(Q78,$Q$5:$Q$127) -> 47 | S78: =IFERROR(RANK(Q78,$Q$5:$Q$127)/COUNT($Q$5:$Q$127),0) -> 0.38211382
A79: 75 | B79: 202311040223 | C79: 李俊豪 | D79: 2.64 | E79: =D79/MAX($D$5:$D$127)*70 -> 45.970149 | F79: =RANK(E79,$E$5:$E$127) -> 111 | G79: =IFERROR(RANK(E79,$E$5:$E$127)/COUNT($E$5:$E$127),0) -> 0.90243902 | H79: 41 | I79: =H79/MAX($H$5:$H$127)*30 -> 3 | J79: =RANK(I79,$I$5:$I$127) -> 48 | K79: =IFERROR(RANK(I79,$I$5:$I$127)/COUNT($I$5:$I$127),0) -> 0.3902439 | L79: 0 | M79: =IF(L79>=50,50,L79) -> 0 | N79: =RANK(M79,$M$5:$M$127) -> 33 | O79: =IFERROR(RANK(M79,$M$5:$M$127)/COUNT($M$5:$M$127),0) -> 0.26829268 | Q79: =E79+I79+M79-P79 -> 48.970149 | R79: =RANK(Q79,$Q$5:$Q$127) -> 112 | S79: =IFERROR(RANK(Q79,$Q$5:$Q$127)/COUNT($Q$5:$Q$127),0) -> 0.91056911
... A127: 123 | B127: 202311040319 | C127: 卢欣 | D127: 2.87 | E127: =D127/MAX($D$5:$D$127)*70 -> 49.975124 | F127: =RANK(E127,$E$5:$E$127) -> 102 | G127: =IFERROR(RANK(E127,$E$5:$E$127)/COUNT($E$5:$E$127),0) -> 0.82926829 | H127: 24 | I127: =H127/MAX($H$5:$H$127)*30 -> 1.7560976 | J127: =RANK(I127,$I$5:$I$127) -> 118 | K127: =IFERROR(RANK(I127,$I$5:$I$127)/COUNT($I$5:$I$127),0) -> 0.95934959 | L127: 0 | M127: =IF(L127>=50,50,L127) -> 0 | N127: =RANK(M127,$M$5:$M$127) -> 33 | O127: =IFERROR(RANK(M127,$M$5:$M$127)/COUNT($M$5:$M$127),0) -> 0.26829268 | Q127: =E127+I127+M127-P127 -> 51.731222 | R127: =RANK(Q127,$Q$5:$Q$127) -> 105 | S127: =IFERROR(RANK(Q127,$Q$5:$Q$127)/COUNT($Q$5:$Q$127),0) -> 0.85365854
B128: 折算分计算公式：=D4/MAX($D$4:$D$22)*70
B129: 排名计算公式：=RANK(E5,$E$5:$E$22)
B130: 百分比计算公式：=IFERROR(RANK(E5,$E$5:$E$22)/COUNT($E$5:$E$22),0)
B131: 其他表现折算分计算公式：=IF(L5>=50,50,L5)
A132: ！！！特别强调：学业折算分最高70，4+X折算分最高30，其他小计最高50。请认真仔细核对三个分值，超出最高分则计算错误。 情况表按年级提交电子版，年级里分多个sheet区分专业。

Sheet 金科情况表
B1: 附件1：
A2: 2025-2026学年综合素测评情况总表
A3: 序号 | B3: 学号 | C3: 姓名 | D3: 学业成绩（70） | H3: 4+X活动分（30） | L3: 其他表现测评分（50） | P3: 扣分 | Q3: 合计 | T3: 申报奖项
D4: 原始分 | E4: 折算分 | F4: 排名 | G4: 百分比 | H4: 原始分 | I4: 折算分 | J4: 排名 | K4: 百分比 | L4: 原始分 | M4: 折算分 | N4: 排名 | O4: 百分比 | Q4: 折算总分 | R4: 总排名 | S4: 总百分比
A5: 1 | B5: 202311170101 | C5: 岑远东 | D5: 3.44 | E5: =D5/MAX($D$5:$D$92)*70 -> 59.164619 | F5: =RANK(E5,$E$5:$E$92) -> 32 | G5: =IFERROR(RANK(E5,$E$5:$E$92)/COUNT($E$5:$E$92),0) -> 0.36363636 | H5: 109 | I5: =H5/MAX($H$5:$H$92)*30 -> 9.6176471 | J5: =RANK(I5,$I$5:$I$92) -> 5 | K5: =IFERROR(RANK(I5,$I$5:$I$92)/COUNT($I$5:$I$92),0) -> 0.056818182 | L5: 15 | M5: =IF(L5>=50,50,L5) -> 15 | N5: =RANK(M5,$M$5:$M$92) -> 10 | O5: =IFERROR(RANK(M5,$M$5:$M$92)/COUNT($M$5:$M$92),0) -> 0.11363636 | P5: 0 | Q5: =E5+I5+M5-P5 -> 83.782266 | R5: =RANK(Q5,$Q$5:$Q$92) -> 10 | S5: =IFERROR(RANK(Q5,$Q$5:$Q$92)/COUNT($Q$5:$Q$92),0) -> 0.11363636
A6: 2 | B6: 202311170102 | C6: 陈俊涛 | D6: 3.71 | E6: =D6/MAX($D$5:$D$92)*70 -> 63.808354 | F6: =RANK(E6,$E$5:$E$92) -> 9 | G6: =IFERROR(RANK(E6,$E$5:$E$92)/COUNT($E$5:$E$92),0) -> 0.10227273 | H6: 335 | I6: =H6/MAX($H$5:$H$92)*30 -> 29.558824 | J6: =RANK(I6,$I$5:$I$92) -> 2 | K6: =IFERROR(RANK(I6,$I$5:$I$92)/COUNT($I$5:$I$92),0) -> 0.022727273 | L6: 114 | M6: =IF(L6>=50,50,L6) -> 50 | N6: =RANK(M6,$M$5:$M$92) -> 1 | O6: =IFERROR(RANK(M6,$M$5:$M$92)/COUNT($M$5:$M$92),0) -> 0.011363636 | P6: 0 | Q6: =E6+I6+M6-P6 -> 143.36718 | R6: =RANK(Q6,$Q$5:$Q$92) -> 1 | S6: =IFERROR(RANK(Q6,$Q$5:$Q$92)/COUNT($Q$5:$Q$92),0) -> 0.011363636
A7: 3 | B7: 202311170116 | C7: 廖心凌 | D7: 3.8 | E7: =D7/MAX($D$5:$D$92)*70 -> 65.356265 | F7: =RANK(E7,$E$5:$E$92) -> 3 | G7: =IFERROR(RANK(E7,$E$5:$E$92)/COUNT($E$5:$E$92),0) -> 0.034090909 | H7: 55 | I7: =H7/MAX($H$5:$H$92)*30 -> 4.8529412 | J7: =RANK(I7,$I$5:$I$92) -> 20 | K7: =IFERROR(RANK(I7,$I$5:$I$92)/COUNT($I$5:$I$92),0) -> 0.22727273 | L7: 0 | M7: =IF(L7>=50,50,L7) -> 0 | N7: =RANK(M7,$M$5:$M$92) -> 19 | O7: =IFERROR(RANK(M7,$M$5:$M$92)/COUNT($M$5:$M$92),0) -> 0.21590909 | P7: 0 | Q7: =E7+I7+M7-P7 -> 70.209207 | R7: =RANK(Q7,$Q$5:$Q$92) -> 19 | S7: =IFERROR(RANK(Q7,$Q$5:$Q$92)/COUNT($Q$5:$Q$92),0) -> 0.21590909
A8: 4 | B8: 202311170119 | C8: 罗嘉韵 | D8: 2.98 | E8: =D8/MAX($D$5:$D$92)*70 -> 51.253071 | F8: =RANK(E8,$E$5:$E$92) -> 68 | G8: =IFERROR(RANK(E8,$E$5:$E$92)/COUNT($E$5:$E$92),0) -> 0.77272727 | H8: 35 | I8: =H8/MAX($H$5:$H$92)*30 -> 3.0882353 | J8: =RANK(I8,$I$5:$I$92) -> 46 | K8: =IFERROR(RANK(I8,$I$5:$I$92)/COUNT($I$5:$I$92),0) -> 0.52272727 | L8: 0 | M8: =IF(L8>=50,50,L8) -> 0 | N8: =RANK(M8,$M$5:$M$92) -> 19 | O8: =IFERROR(RANK(M8,$M$5:$M$92)/COUNT($M$5:$M$92),0) -> 0.21590909 | P8: 0 | Q8: =E8+I8+M8-P8 -> 54.341307 | R8: =RANK(Q8,$Q$5:$Q$92) -> 70 | S8: =IFERROR(RANK(Q8,$Q$5:$Q$92)/COUNT($Q$5:$Q$92),0) -> 0.79545455
A9: 5 | B9: 202311170120 | C9: 潘伟光 | D9: 3.2 | E9: =D9/MAX($D$5:$D$92)*70 -> 55.036855 | F9: =RANK(E9,$E$5:$E$92) -> 53 | G9: =IFERROR(RANK(E9,$E$5:$E$92)/COUNT($E$5:$E$92),0) -> 0.60227273 | H9: 38 | I9: =H9/MAX($H$5:$H$92)*30 -> 3.3529412 | J9: =RANK(I9,$I$5:$I$92) -> 42 | K9: =IFERROR(RANK(I9,$I$5:$I$92)/COUNT($I$5:$I$92),0) -> 0.47727273 | L9: 0 | M9: =IF(L9>=50,50,L9) -> 0 | N9: =RANK(M9,$M$5:$M$92) -> 19 | O9: =IFERROR(RANK(M9,$M$5:$M$92)/COUNT($M$5:$M$92),0) -> 0.21590909 | P9: 0 | Q9: =E9+I9+M9-P9 -> 58.389796 | R9: =RANK(Q9,$Q$5:$Q$92) -> 54 | S9: =IFERROR(RANK(Q9,$Q$5:$Q$92)/COUNT($Q$5:$Q$92),0) -> 0.61363636
A10: 6 | B10: 202311170133 | C10: 詹麒儒 | D10: 3.26 | E10: =D10/MAX($D$5:$D$92)*70 -> 56.068796 | F10: =RANK(E10,$E$5:$E$92) -> 50 | G10: =IFERROR(RANK(E10,$E$5:$E$92)/COUNT($E$5:$E$92),0) -> 0.56818182 | H10: 59 | I10: =H10/MAX($H$5:$H$92)*30 -> 5.2058824 | J10: =RANK(I10,$I$5:$I$92) -> 17 | K10: =IFERROR(RANK(I10,$I$5:$I$92)/COUNT($I$5:$I$92),0) -> 0.19318182 | L10: 9.5 | M10: =IF(L10>=50,50,L10) -> 9.5 | N10: =RANK(M10,$M$5:$M$92) -> 13 | O10: =IFERROR(RANK(M10,$M$5:$M$92)/COUNT($M$5:$M$92),0) -> 0.14772727 | P10: 0 | Q10: =E10+I10+M10-P10 -> 70.774678 | R10: =RANK(Q10,$Q$5:$Q$92) -> 17 | S10: =IFERROR(RANK(Q10,$Q$5:$Q$92)/COUNT($Q$5:$Q$92),0) -> 0.19318182
A11: 7 | B11: 202311170136 | C11: 张子涵 | D11: 3.58 | E11: =D11/MAX($D$5:$D$92)*70 -> 61.572482 | F11: =RANK(E11,$E$5:$E$92) -> 15 | G11: =IFERROR(RANK(E11,$E$5:$E$92)/COUNT($E$5:$E$92),0) -> 0.17045455 | H11: 43 | I11: =H11/MAX($H$5:$H$92)*30 -> 3.7941176 | J11: =RANK(I11,$I$5:$I$92) -> 30 | K11: =IFERROR(RANK(I11,$I$5:$I$92)/COUNT($I$5:$I$92),0) -> 0.34090909 | L11: 0 | M11: =IF(L11>=50,50,L11) -> 0 | N11: =RANK(M11,$M$5:$M$92) -> 19 | O11: =IFERROR(RANK(M11,$M$5:$M$92)/COUNT($M$5:$M$92),0) -> 0.21590909 | P11: 0 | Q11: =E11+I11+M11-P11 -> 65.366599 | R11: =RANK(Q11,$Q$5:$Q$92) -> 23 | S11: =IFERROR(RANK(Q11,$Q$5:$Q$92)/COUNT($Q$5:$Q$92),0) -> 0.26136364
A12: 8 | B12: 202311170145 | C12: 彭泽宁 | D12: 3.11 | E12: =D12/MAX($D$5:$D$92)*70 -> 53.488943 | F12: =RANK(E12,$E$5:$E$92) -> 63 | G12: =IFERROR(RANK(E12,$E$5:$E$92)/COUNT($E$5:$E$92),0) -> 0.71590909 | H12: 36 | I12: =H12/MAX($H$5:$H$92)*30 -> 3.1764706 | J12: =RANK(I12,$I$5:$I$92) -> 43 | K12: =IFERROR(RANK(I12,$I$5:$I$92)/COUNT($I$5:$I$92),0) -> 0.48863636 | L12: 0 | M12: =IF(L12>=50,50,L12) -> 0 | N12: =RANK(M12,$M$5:$M$92) -> 19 | O12: =IFERROR(RANK(M12,$M$5:$M$92)/COUNT($M$5:$M$92),0) -> 0.21590909 | P12: 0 | Q12: =E12+I12+M12-P12 -> 56.665414 | R12: =RANK(Q12,$Q$5:$Q$92) -> 64 | S12: =IFERROR(RANK(Q12,$Q$5:$Q$92)/COUNT($Q$5:$Q$92),0) -> 0.72727273
A13: 9 | B13: 202311170202 | C13: 陈培灵 | D13: 3.47 | E13: =D13/MAX($D$5:$D$92)*70 -> 59.68059 | F13: =RANK(E13,$E$5:$E$92) -> 26 | G13: =IFERROR(RANK(E13,$E$5:$E$92)/COUNT($E$5:$E$92),0) -> 0.29545455 | H13: 30.5 | I13: =H13/MAX($H$5:$H$92)*30 -> 2.6911765 | J13: =RANK(I13,$I$5:$I$92) -> 76 | K13: =IFERROR(RANK(I13,$I$5:$I$92)/COUNT($I$5:$I$92),0) -> 0.86363636 | L13: 0 | M13: =IF(L13>=50,50,L13) -> 0 | N13: =RANK(M13,$M$5:$M$92) -> 19 | O13: =IFERROR(RANK(M13,$M$5:$M$92)/COUNT($M$5:$M$92),0) -> 0.21590909 | P13: 0 | Q13: =E13+I13+M13-P13 -> 62.371766 | R13: =RANK(Q13,$Q$5:$Q$92) -> 34 | S13: =IFERROR(RANK(Q13,$Q$5:$Q$92)/COUNT($Q$5:$Q$92),0) -> 0.38636364
A14: 10 | B14: 202311170209 | C14: 黄涛鑫 | D14: 2.79 | E14: =D14/MAX($D$5:$D$92)*70 -> 47.985258 | F14: =RANK(E14,$E$5:$E$92) -> 81 | G14: =IFERROR(RANK(E14,$E$5:$E$92)/COUNT($E$5:$E$92),0) -> 0.92045455 | H14: 30 | I14: =H14/MAX($H$5:$H$92)*30 -> 2.6470588 | J14: =RANK(I14,$I$5:$I$92) -> 78 | K14: =IFERROR(RANK(I14,$I$5:$I$92)/COUNT($I$5:$I$92),0) -> 0.88636364 | L14: 0 | M14: =IF(L14>=50,50,L14) -> 0 | N14: =RANK(M14,$M$5:$M$92) -> 19 | O14: =IFERROR(RANK(M14,$M$5:$M$92)/COUNT($M$5:$M$92),0) -> 0.21590909 | P14: 0 | Q14: =E14+I14+M14-P14 -> 50.632317 | R14: =RANK(Q14,$Q$5:$Q$92) -> 81 | S14: =IFERROR(RANK(Q14,$Q$5:$Q$92)/COUNT($Q$5:$Q$92),0) -> 0.92045455
A15: 11 | B15: 202311170221 | C15: 马曼曼 | D15: 3.65 | E15: =D15/MAX($D$5:$D$92)*70 -> 62.776413 | F15: =RANK(E15,$E$5:$E$92) -> 13 | G15: =IFERROR(RANK(E15,$E$5:$E$92)/COUNT($E$5:$E$92),0) -> 0.14772727 | H15: 142.5 | I15: =H15/MAX($H$5:$H$92)*30 -> 12.573529 | J15: =RANK(I15,$I$5:$I$92) -> 3 | K15: =IFERROR(RANK(I15,$I$5:$I$92)/COUNT($I$5:$I$92),0) -> 0.034090909 | L15: 22 | M15: =IF(L15>=50,50,L15) -> 22 | N15: =RANK(M15,$M$5:$M$92) -> 6 | O15: =IFERROR(RANK(M15,$M$5:$M$92)/COUNT($M$5:$M$92),0) -> 0.068181818 | P15: 0 | Q15: =E15+I15+M15-P15 -> 97.349942 | R15: =RANK(Q15,$Q$5:$Q$92) -> 6 | S15: =IFERROR(RANK(Q15,$Q$5:$Q$92)/COUNT($Q$5:$Q$92),0) -> 0.068181818
A16: 12 | B16: 202311170231 | C16: 覃晓婷 | D16: 3.58 | E16: =D16/MAX($D$5:$D$92)*70 -> 61.572482 | F16: =RANK(E16,$E$5:$E$92) -> 15 | G16: =IFERROR(RANK(E16,$E$5:$E$92)/COUNT($E$5:$E$92),0) -> 0.17045455 | H16: 40 | I16: =H16/MAX($H$5:$H$92)*30 -> 3.5294118 | J16: =RANK(I16,$I$5:$I$92) -> 38 | K16: =IFERROR(RANK(I16,$I$5:$I$92)/COUNT($I$5:$I$92),0) -> 0.43181818 | L16: 39.7 | M16: =IF(L16>=50,50,L16) -> 39.7 | N16: =RANK(M16,$M$5:$M$92) -> 4 | O16: =IFERROR(RANK(M16,$M$5:$M$92)/COUNT($M$5:$M$92),0) -> 0.045454545 | P16: 0 | Q16: =E16+I16+M16-P16 -> 104.80189 | R16: =RANK(Q16,$Q$5:$Q$92) -> 5 | S16: =IFERROR(RANK(Q16,$Q$5:$Q$92)/COUNT($Q$5:$Q$92),0) -> 0.056818182
... A92: 88 | B92: 202311170239 | C92: 辛炜晋 | D92: 2.86 | E92: =D92/MAX($D$5:$D$92)*70 -> 49.189189 | F92: =RANK(E92,$E$5:$E$92) -> 77 | G92: =IFERROR(RANK(E92,$E$5:$E$92)/COUNT($E$5:$E$92),0) -> 0.875 | H92: 30 | I92: =H92/MAX($H$5:$H$92)*30 -> 2.6470588 | J92: =RANK(I92,$I$5:$I$92) -> 78 | K92: =IFERROR(RANK(I92,$I$5:$I$92)/COUNT($I$5:$I$92),0) -> 0.88636364 | L92: 0 | M92: =IF(L92>=50,50,L92) -> 0 | N92: =RANK(M92,$M$5:$M$92) -> 19 | O92: =IFERROR(RANK(M92,$M$5:$M$92)/COUNT($M$5:$M$92),0) -> 0.21590909 | P92: 0 | Q92: =E92+I92+M92-P92 -> 51.836248 | R92: =RANK(Q92,$Q$5:$Q$92) -> 78 | S92: =IFERROR(RANK(Q92,$Q$5:$Q$92)/COUNT($Q$5:$Q$92),0) -> 0.88636364
B93: 折算分计算公式：=D4/MAX($D$4:$D$22)*70
B94: 排名计算公式：=RANK(E5,$E$5:$E$22) | M94: ！！！特别强调：学业折算分最高70，4+X折算分最高30，其他小计最高50。请认真仔细核对三个分值，超出最高分则计算错误。 情况表按年级提交电子版，年级里分多个sheet区分专业。
B95: 百分比计算公式：=IFERROR(RANK(E5,$E$5:$E$22)/COUNT($E$5:$E$22),0)
B96: 其他表现折算分计算公式：=IF(L5>=50,50,L5)

Sheet 投资情况表
B1: 附件1：
A2: 2025-2026学年综合素测评情况总表-投资专业
A3: 序号 | B3: 学号 | C3: 姓名 | D3: 学业成绩（70） | H3: 4+X活动分（30） | L3: 其他表现测评分（50） | P3: 扣分 | Q3: 合计
D4: 原始分 | E4: 折算分 | F4: 排名 | G4: 百分比 | H4: 原始分 | I4: 折算分 | J4: 排名 | K4: 百分比 | L4: 原始分 | M4: 折算分 | N4: 排名 | O4: 百分比 | Q4: 折算总分 | R4: 总排名 | S4: 总百分比
A5: 15 | B5: 202311130124 | C5: 毛伟森 | D5: 3.38 | E5: =D5/MAX($D$5:$D$86)*70 -> 57.149758 | F5: =RANK(E5,$E$5:$E$86) -> 31 | G5: =IFERROR(RANK(E5,$E$5:$E$86)/COUNT($E$5:$E$86),0) -> 0.37804878 | H5: =VLOOKUP(B5,[1]投资!$B$2:$F$83,5,0) -> 337 | I5: =H5/MAX($H$5:$H$86)*30 -> 30 | J5: =RANK(I5,$I$5:$I$86) -> 1 | K5: =IFERROR(RANK(I5,$I$5:$I$86)/COUNT($I$5:$I$86),0) -> 0.012195122 | L5: =VLOOKUP(C5,[2]Sheet1!$B$18:$D$25,3,0) -> 36.5 | M5: =IF(L5>=50,50,L5) -> 36.5 | N5: =RANK(M5,$M$5:$M$86) -> 1 | O5: =IFERROR(RANK(M5,$M$5:$M$86)/COUNT($M$5:$M$86),0) -> 0.012195122 | P5: 0 | Q5: =E5+I5+M5-P5 -> 123.64976 | R5: =RANK(Q5,$Q$5:$Q$86) -> 1 | S5: =IFERROR(RANK(Q5,$Q$5:$Q$86)/COUNT($Q$5:$Q$86),0) -> 0.012195122
A6: 39 | B6: 202311130121 | C6: 卢颍淇 | D6: 3.96 | E6: =D6/MAX($D$5:$D$86)*70 -> 66.956522 | F6: =RANK(E6,$E$5:$E$86) -> 3 | G6: =IFERROR(RANK(E6,$E$5:$E$86)/COUNT($E$5:$E$86),0) -> 0.036585366 | H6: =VLOOKUP(B6,[1]投资!$B$2:$F$83,5,0) -> 58 | I6: =H6/MAX($H$5:$H$86)*30 -> 5.1632047 | J6: =RANK(I6,$I$5:$I$86) -> 8 | K6: =IFERROR(RANK(I6,$I$5:$I$86)/COUNT($I$5:$I$86),0) -> 0.097560976 | L6: =VLOOKUP(C6,[2]Sheet1!$B$18:$D$25,3,0) -> 26.5 | M6: =IF(L6>=50,50,L6) -> 26.5 | N6: =RANK(M6,$M$5:$M$86) -> 3 | O6: =IFERROR(RANK(M6,$M$5:$M$86)/COUNT($M$5:$M$86),0) -> 0.036585366 | P6: 0 | Q6: =E6+I6+M6-P6 -> 98.619726 | R6: =RANK(Q6,$Q$5:$Q$86) -> 2 | S6: =IFERROR(RANK(Q6,$Q$5:$Q$86)/COUNT($Q$5:$Q$86),0) -> 0.024390244
A7: 75 | B7: 202311130213 | C7: 惠莹莹 | D7: 3.54 | E7: =D7/MAX($D$5:$D$86)*70 -> 59.855072 | F7: =RANK(E7,$E$5:$E$86) -> 20 | G7: =IFERROR(RANK(E7,$E$5:$E$86)/COUNT($E$5:$E$86),0) -> 0.24390244 | H7: 94 | I7: =H7/MAX($H$5:$H$86)*30 -> 8.3679525 | J7: =RANK(I7,$I$5:$I$86) -> 4 | K7: =IFERROR(RANK(I7,$I$5:$I$86)/COUNT($I$5:$I$86),0) -> 0.048780488 | L7: =VLOOKUP(C7,[2]Sheet1!$B$18:$D$25,3,0) -> 29 | M7: =IF(L7>=50,50,L7) -> 29 | N7: =RANK(M7,$M$5:$M$86) -> 2 | O7: =IFERROR(RANK(M7,$M$5:$M$86)/COUNT($M$5:$M$86),0) -> 0.024390244 | P7: 0 | Q7: =E7+I7+M7-P7 -> 97.223025 | R7: =RANK(Q7,$Q$5:$Q$86) -> 3 | S7: =IFERROR(RANK(Q7,$Q$5:$Q$86)/COUNT($Q$5:$Q$86),0) -> 0.036585366
A8: 41 | B8: 202311130135 | C8: 杨丽敏 | D8: 4.14 | E8: =D8/MAX($D$5:$D$86)*70 -> 70 | F8: =RANK(E8,$E$5:$E$86) -> 1 | G8: =IFERROR(RANK(E8,$E$5:$E$86)/COUNT($E$5:$E$86),0) -> 0.012195122 | H8: =VLOOKUP(B8,[1]投资!$B$2:$F$83,5,0) -> 46 | I8: =H8/MAX($H$5:$H$86)*30 -> 4.0949555 | J8: =RANK(I8,$I$5:$I$86) -> 10 | K8: =IFERROR(RANK(I8,$I$5:$I$86)/COUNT($I$5:$I$86),0) -> 0.12195122 | L8: 22.6 | M8: =IF(L8>=50,50,L8) -> 22.6 | N8: =RANK(M8,$M$5:$M$86) -> 5 | O8: =IFERROR(RANK(M8,$M$5:$M$86)/COUNT($M$5:$M$86),0) -> 0.06097561 | P8: 0 | Q8: =E8+I8+M8-P8 -> 96.694955 | R8: =RANK(Q8,$Q$5:$Q$86) -> 4 | S8: =IFERROR(RANK(Q8,$Q$5:$Q$86)/COUNT($Q$5:$Q$86),0) -> 0.048780488
A9: 26 | B9: 202311130104 | C9: 陈瑞敏 | D9: 3.84 | E9: =D9/MAX($D$5:$D$86)*70 -> 64.927536 | F9: =RANK(E9,$E$5:$E$86) -> 6 | G9: =IFERROR(RANK(E9,$E$5:$E$86)/COUNT($E$5:$E$86),0) -> 0.073170732 | H9: =VLOOKUP(B9,[1]投资!$B$2:$F$83,5,0) -> 93 | I9: =H9/MAX($H$5:$H$86)*30 -> 8.2789318 | J9: =RANK(I9,$I$5:$I$86) -> 5 | K9: =IFERROR(RANK(I9,$I$5:$I$86)/COUNT($I$5:$I$86),0) -> 0.06097561 | L9: =VLOOKUP(C9,[2]Sheet1!$B$18:$D$25,3,0) -> 17.5 | M9: =IF(L9>=50,50,L9) -> 17.5 | N9: =RANK(M9,$M$5:$M$86) -> 6 | O9: =IFERROR(RANK(M9,$M$5:$M$86)/COUNT($M$5:$M$86),0) -> 0.073170732 | P9: 0 | Q9: =E9+I9+M9-P9 -> 90.706468 | R9: =RANK(Q9,$Q$5:$Q$86) -> 5 | S9: =IFERROR(RANK(Q9,$Q$5:$Q$86)/COUNT($Q$5:$Q$86),0) -> 0.06097561
A10: 68 | B10: 202311130203 | C10: 陈晓红 | D10: 3.42 | E10: =D10/MAX($D$5:$D$86)*70 -> 57.826087 | F10: =RANK(E10,$E$5:$E$86) -> 29 | G10: =IFERROR(RANK(E10,$E$5:$E$86)/COUNT($E$5:$E$86),0) -> 0.35365854 | H10: =VLOOKUP(B10,[1]投资!$B$2:$F$83,5,0) -> 69 | I10: =H10/MAX($H$5:$H$86)*30 -> 6.1424332 | J10: =RANK(I10,$I$5:$I$86) -> 6 | K10: =IFERROR(RANK(I10,$I$5:$I$86)/COUNT($I$5:$I$86),0) -> 0.073170732 | L10: =VLOOKUP(C10,[2]Sheet1!$B$18:$D$25,3,0) -> 26 | M10: =IF(L10>=50,50,L10) -> 26 | N10: =RANK(M10,$M$5:$M$86) -> 4 | O10: =IFERROR(RANK(M10,$M$5:$M$86)/COUNT($M$5:$M$86),0) -> 0.048780488 | P10: 0 | Q10: =E10+I10+M10-P10 -> 89.96852 | R10: =RANK(Q10,$Q$5:$Q$86) -> 6 | S10: =IFERROR(RANK(Q10,$Q$5:$Q$86)/COUNT($Q$5:$Q$86),0) -> 0.073170732
A11: 31 | B11: 202311130137 | C11: 姚伊柔 | D11: 3.73 | E11: =D11/MAX($D$5:$D$86)*70 -> 63.067633 | F11: =RANK(E11,$E$5:$E$86) -> 11 | G11: =IFERROR(RANK(E11,$E$5:$E$86)/COUNT($E$5:$E$86),0) -> 0.13414634 | H11: =VLOOKUP(B11,[1]投资!$B$2:$F$83,5,0) -> 116 | I11: =H11/MAX($H$5:$H$86)*30 -> 10.326409 | J11: =RANK(I11,$I$5:$I$86) -> 3 | K11: =IFERROR(RANK(I11,$I$5:$I$86)/COUNT($I$5:$I$86),0) -> 0.036585366 | L11: =VLOOKUP(C11,[2]Sheet1!$B$18:$D$25,3,0) -> 16 | M11: =IF(L11>=50,50,L11) -> 16 | N11: =RANK(M11,$M$5:$M$86) -> 8 | O11: =IFERROR(RANK(M11,$M$5:$M$86)/COUNT($M$5:$M$86),0) -> 0.097560976 | P11: 0 | Q11: =E11+I11+M11-P11 -> 89.394042 | R11: =RANK(Q11,$Q$5:$Q$86) -> 7 | S11: =IFERROR(RANK(Q11,$Q$5:$Q$86)/COUNT($Q$5:$Q$86),0) -> 0.085365854
A12: 42 | B12: 202311130140 | C12: 张可昕 | D12: 3.9 | E12: =D12/MAX($D$5:$D$86)*70 -> 65.942029 | F12: =RANK(E12,$E$5:$E$86) -> 4 | G12: =IFERROR(RANK(E12,$E$5:$E$86)/COUNT($E$5:$E$86),0) -> 0.048780488 | H12: =VLOOKUP(B12,[1]投资!$B$2:$F$83,5,0) -> 40 | I12: =H12/MAX($H$5:$H$86)*30 -> 3.5608309 | J12: =RANK(I12,$I$5:$I$86) -> 11 | K12: =IFERROR(RANK(I12,$I$5:$I$86)/COUNT($I$5:$I$86),0) -> 0.13414634 | L12: =VLOOKUP(C12,[2]Sheet1!$B$18:$D$25,3,0) -> 17 | M12: =IF(L12>=50,50,L12) -> 17 | N12: =RANK(M12,$M$5:$M$86) -> 7 | O12: =IFERROR(RANK(M12,$M$5:$M$86)/COUNT($M$5:$M$86),0) -> 0.085365854 | P12: 0 | Q12: =E12+I12+M12-P12 -> 86.50286 | R12: =RANK(Q12,$Q$5:$Q$86) -> 8 | S12: =IFERROR(RANK(Q12,$Q$5:$Q$86)/COUNT($Q$5:$Q$86),0) -> 0.097560976
A13: 38 | B13: 202311130107 | C13: 陈欣宜 | D13: 4.1 | E13: =D13/MAX($D$5:$D$86)*70 -> 69.323671 | F13: =RANK(E13,$E$5:$E$86) -> 2 | G13: =IFERROR(RANK(E13,$E$5:$E$86)/COUNT($E$5:$E$86),0) -> 0.024390244 | H13: =VLOOKUP(B13,[1]投资!$B$2:$F$83,5,0) -> 21 | I13: =H13/MAX($H$5:$H$86)*30 -> 1.8694362 | J13: =RANK(I13,$I$5:$I$86) -> 30 | K13: =IFERROR(RANK(I13,$I$5:$I$86)/COUNT($I$5:$I$86),0) -> 0.36585366 | M13: =IF(L13>=50,50,L13) -> 0 | N13: =RANK(M13,$M$5:$M$86) -> 10 | O13: =IFERROR(RANK(M13,$M$5:$M$86)/COUNT($M$5:$M$86),0) -> 0.12195122 | P13: 0 | Q13: =E13+I13+M13-P13 -> 71.193108 | R13: =RANK(Q13,$Q$5:$Q$86) -> 9 | S13: =IFERROR(RANK(Q13,$Q$5:$Q$86)/COUNT($Q$5:$Q$86),0) -> 0.1097561
A14: 78 | B14: 202311130238 | C14: 曾思榕 | D14: 3.74 | E14: =D14/MAX($D$5:$D$86)*70 -> 63.236715 | F14: =RANK(E14,$E$5:$E$86) -> 10 | G14: =IFERROR(RANK(E14,$E$5:$E$86)/COUNT($E$5:$E$86),0) -> 0.12195122 | H14: =VLOOKUP(B14,[1]投资!$B$2:$F$83,5,0) -> 64 | I14: =H14/MAX($H$5:$H$86)*30 -> 5.6973294 | J14: =RANK(I14,$I$5:$I$86) -> 7 | K14: =IFERROR(RANK(I14,$I$5:$I$86)/COUNT($I$5:$I$86),0) -> 0.085365854 | M14: =IF(L14>=50,50,L14) -> 0 | N14: =RANK(M14,$M$5:$M$86) -> 10 | O14: =IFERROR(RANK(M14,$M$5:$M$86)/COUNT($M$5:$M$86),0) -> 0.12195122 | P14: 0 | Q14: =E14+I14+M14-P14 -> 68.934044 | R14: =RANK(Q14,$Q$5:$Q$86) -> 10 | S14: =IFERROR(RANK(Q14,$Q$5:$Q$86)/COUNT($Q$5:$Q$86),0) -> 0.12195122
A15: 65 | B15: 202311130208 | C15: 黄敏婷 | D15: 3.62 | E15: =D15/MAX($D$5:$D$86)*70 -> 61.207729 | F15: =RANK(E15,$E$5:$E$86) -> 15 | G15: =IFERROR(RANK(E15,$E$5:$E$86)/COUNT($E$5:$E$86),0) -> 0.18292683 | H15: =VLOOKUP(B15,[1]投资!$B$2:$F$83,5,0) -> 24 | I15: =H15/MAX($H$5:$H$86)*30 -> 2.1364985 | J15: =RANK(I15,$I$5:$I$86) -> 24 | K15: =IFERROR(RANK(I15,$I$5:$I$86)/COUNT($I$5:$I$86),0) -> 0.29268293 | L15: =VLOOKUP(C15,[2]Sheet1!$B$18:$D$25,3,0) -> 5 | M15: =IF(L15>=50,50,L15) -> 5 | N15: =RANK(M15,$M$5:$M$86) -> 9 | O15: =IFERROR(RANK(M15,$M$5:$M$86)/COUNT($M$5:$M$86),0) -> 0.1097561 | P15: 0 | Q15: =E15+I15+M15-P15 -> 68.344228 | R15: =RANK(Q15,$Q$5:$Q$86) -> 11 | S15: =IFERROR(RANK(Q15,$Q$5:$Q$86)/COUNT($Q$5:$Q$86),0) -> 0.13414634
A16: 52 | B16: 202311130210 | C16: 黄扬凯 | D16: 3.88 | E16: =D16/MAX($D$5:$D$86)*70 -> 65.603865 | F16: =RANK(E16,$E$5:$E$86) -> 5 | G16: =IFERROR(RANK(E16,$E$5:$E$86)/COUNT($E$5:$E$86),0) -> 0.06097561 | H16: =VLOOKUP(B16,[1]投资!$B$2:$F$83,5,0) -> 20 | I16: =H16/MAX($H$5:$H$86)*30 -> 1.7804154 | J16: =RANK(I16,$I$5:$I$86) -> 34 | K16: =IFERROR(RANK(I16,$I$5:$I$86)/COUNT($I$5:$I$86),0) -> 0.41463415 | M16: =IF(L16>=50,50,L16) -> 0 | N16: =RANK(M16,$M$5:$M$86) -> 10 | O16: =IFERROR(RANK(M16,$M$5:$M$86)/COUNT($M$5:$M$86),0) -> 0.12195122 | P16: 0 | Q16: =E16+I16+M16-P16 -> 67.38428 | R16: =RANK(Q16,$Q$5:$Q$86) -> 12 | S16: =IFERROR(RANK(Q16,$Q$5:$Q$86)/COUNT($Q$5:$Q$86),0) -> 0.14634146
A17: 29 | B17: 202311130114 | C17: 黄茹琳 | D17: 3.78 | E17: =D17/MAX($D$5:$D$86)*70 -> 63.913043 | F17: =RANK(E17,$E$5:$E$86) -> 9 | G17: =IFERROR(RANK(E17,$E$5:$E$86)/COUNT($E$5:$E$86),0) -> 0.1097561 | H17: =VLOOKUP(B17,[1]投资!$B$2:$F$83,5,0) -> 37 | I17: =H17/MAX($H$5:$H$86)*30 -> 3.2937685 | J17: =RANK(I17,$I$5:$I$86) -> 12 | K17: =IFERROR(RANK(I17,$I$5:$I$86)/COUNT($I$5:$I$86),0) -> 0 | M17: =IF(L17>=50,50,L17) -> 0 | N17: =RANK(M17,$M$5:$M$86) -> 10 | O17: =IFERROR(RANK(M17,$M$5:$M$86)/COUNT($M$5:$M$86),0) -> 0.12195122 | P17: 0 | Q17: =E17+I17+M17-P17 -> 67.206812 | R17: =RANK(Q17,$Q$5:$Q$86) -> 13 | S17: =IFERROR(RANK(Q17,$Q$5:$Q$86)/COUNT($Q$5:$Q$86),0) -> 0.15853659
A18: 27 | B18: 202311130108 | C18: 陈玉如 | D18: 3.33 | E18: =D18/MAX($D$5:$D$86)*70 -> 56.304348 | F18: =RANK(E18,$E$5:$E$86) -> 34 | G18: =IFERROR(RANK(E18,$E$5:$E$86)/COUNT($E$5:$E$86),0) -> 0.41463415 | H18: =VLOOKUP(B18,[1]投资!$B$2:$F$83,5,0) -> 120 | I18: =H18/MAX($H$5:$H$86)*30 -> 10.682493 | J18: =RANK(I18,$I$5:$I$86) -> 2 | K18: =IFERROR(RANK(I18,$I$5:$I$86)/COUNT($I$5:$I$86),0) -> 0.024390244 | M18: =IF(L18>=50,50,L18) -> 0 | N18: =RANK(M18,$M$5:$M$86) -> 10 | O18: =IFERROR(RANK(M18,$M$5:$M$86)/COUNT($M$5:$M$86),0) -> 0.12195122 | P18: 0 | Q18: =E18+I18+M18-P18 -> 66.98684 | R18: =RANK(Q18,$Q$5:$Q$86) -> 14 | S18: =IFERROR(RANK(Q18,$Q$5:$Q$86)/COUNT($Q$5:$Q$86),0) -> 0.17073171
A19: 54 | B19: 202311130212 | C19: 黄卓勤 | D19: 3.81 | E19: =D19/MAX($D$5:$D$86)*70 -> 64.42029 | F19: =RANK(E19,$E$5:$E$86) -> 8 | G19: =IFERROR(RANK(E19,$E$5:$E$86)/COUNT($E$5:$E$86),0) -> 0.097560976 | H19: =VLOOKUP(B19,[1]投资!$B$2:$F$83,5,0) -> 27 | I19: =H19/MAX($H$5:$H$86)*30 -> 2.4035608 | J19: =RANK(I19,$I$5:$I$86) -> 18 | K19: =IFERROR(RANK(I19,$I$5:$I$86)/COUNT($I$5:$I$86),0) -> 0.2195122 | M19: =IF(L19>=50,50,L19) -> 0 | N19: =RANK(M19,$M$5:$M$86) -> 10 | O19: =IFERROR(RANK(M19,$M$5:$M$86)/COUNT($M$5:$M$86),0) -> 0.12195122 | P19: 0 | Q19: =E19+I19+M19-P19 -> 66.823851 | R19: =RANK(Q19,$Q$5:$Q$86) -> 15 | S19: =IFERROR(RANK(Q19,$Q$5:$Q$86)/COUNT($Q$5:$Q$86),0) -> 0.18292683
A20: 64 | B20: 202311130207 | C20: 黄海霞 | D20: 3.83 | E20: =D20/MAX($D$5:$D$86)*70 -> 64.758454 | F20: =RANK(E20,$E$5:$E$86) -> 7 | G20: =IFERROR(RANK(E20,$E$5:$E$86)/COUNT($E$5:$E$86),0) -> 0.085365854 | H20: =VLOOKUP(B20,[1]投资!$B$2:$F$83,5,0) -> 20 | I20: =H20/MAX($H$5:$H$86)*30 -> 1.7804154 | J20: =RANK(I20,$I$5:$I$86) -> 34 | K20: =IFERROR(RANK(I20,$I$5:$I$86)/COUNT($I$5:$I$86),0) -> 0.41463415 | M20: =IF(L20>=50,50,L20) -> 0 | N20: =RANK(M20,$M$5:$M$86) -> 10 | O20: =IFERROR(RANK(M20,$M$5:$M$86)/COUNT($M$5:$M$86),0) -> 0.12195122 | P20: 0 | Q20: =E20+I20+M20-P20 -> 66.53887 | R20: =RANK(Q20,$Q$5:$Q$86) -> 16 | S20: =IFERROR(RANK(Q20,$Q$5:$Q$86)/COUNT($Q$5:$Q$86),0) -> 0.19512195
A21: 32 | B21: 202311130101 | C21: 陈淡榕 | D21: 3.72 | E21: =D21/MAX($D$5:$D$86)*70 -> 62.898551 | F21: =RANK(E21,$E$5:$E$86) -> 12 | G21: =IFERROR(RANK(E21,$E$5:$E$86)/COUNT($E$5:$E$86),0) -> 0.14634146 | H21: =VLOOKUP(B21,[1]投资!$B$2:$F$83,5,0) -> 16 | I21: =H21/MAX($H$5:$H$86)*30 -> 1.4243323 | J21: =RANK(I21,$I$5:$I$86) -> 51 | K21: =IFERROR(RANK(I21,$I$5:$I$86)/COUNT($I$5:$I$86),0) -> 0.62195122 | M21: =IF(L21>=50,50,L21) -> 0 | N21: =RANK(M21,$M$5:$M$86) -> 10 | O21: =IFERROR(RANK(M21,$M$5:$M$86)/COUNT($M$5:$M$86),0) -> 0.12195122 | P21: 0 | Q21: =E21+I21+M21-P21 -> 64.322883 | R21: =RANK(Q21,$Q$5:$Q$86) -> 17 | S21: =IFERROR(RANK(Q21,$Q$5:$Q$86)/COUNT($Q$5:$Q$86),0) -> 0.20731707
A22: 28 | B22: 202311130113 | C22: 何梓慧 | D22: 3.63 | E22: =D22/MAX($D$5:$D$86)*70 -> 61.376812 | F22: =RANK(E22,$E$5:$E$86) -> 14 | G22: =IFERROR(RANK(E22,$E$5:$E$86)/COUNT($E$5:$E$86),0) -> 0.17073171 | H22: =VLOOKUP(B22,[1]投资!$B$2:$F$83,5,0) -> 29 | I22: =H22/MAX($H$5:$H$86)*30 -> 2.5816024 | J22: =RANK(I22,$I$5:$I$86) -> 17 | K22: =IFERROR(RANK(I22,$I$5:$I$86)/COUNT($I$5:$I$86),0) -> 0.20731707 | M22: =IF(L22>=50,50,L22) -> 0 | N22: =RANK(M22,$M$5:$M$86) -> 10 | O22: =IFERROR(RANK(M22,$M$5:$M$86)/COUNT($M$5:$M$86),0) -> 0.12195122 | P22: 0 | Q22: =E22+I22+M22-P22 -> 63.958414 | R22: =RANK(Q22,$Q$5:$Q$86) -> 18 | S22: =IFERROR(RANK(Q22,$Q$5:$Q$86)/COUNT($Q$5:$Q$86),0) -> 0.2195122
A23: 73 | B23: 202311130243 | C23: 朱佩玟 | D23: 3.59 | E23: =D23/MAX($D$5:$D$86)*70 -> 60.700483 | F23: =RANK(E23,$E$5:$E$86) -> 16 | G23: =IFERROR(RANK(E23,$E$5:$E$86)/COUNT($E$5:$E$86),0) -> 0.19512195 | H23: =VLOOKUP(B23,[1]投资!$B$2:$F$83,5,0) -> 32 | I23: =H23/MAX($H$5:$H$86)*30 -> 2.8486647 | J23: =RANK(I23,$I$5:$I$86) -> 15 | K23: =IFERROR(RANK(I23,$I$5:$I$86)/COUNT($I$5:$I$86),0) -> 0.18292683 | M23: =IF(L23>=50,50,L23) -> 0 | N23: =RANK(M23,$M$5:$M$86) -> 10 | O23: =IFERROR(RANK(M23,$M$5:$M$86)/COUNT($M$5:$M$86),0) -> 0.12195122 | P23: 0 | Q23: =E23+I23+M23-P23 -> 63.549148 | R23: =RANK(Q23,$Q$5:$Q$86) -> 19 | S23: =IFERROR(RANK(Q23,$Q$5:$Q$86)/COUNT($Q$5:$Q$86),0) -> 0.23170732
A24: 70 | B24: 202311130227 | C24: 罗诗琪 | D24: 3.57 | E24: =D24/MAX($D$5:$D$86)*70 -> 60.362319 | F24: =RANK(E24,$E$5:$E$86) -> 17 | G24: =IFERROR(RANK(E24,$E$5:$E$86)/COUNT($E$5:$E$86),0) -> 0.20731707 | H24: =VLOOKUP(B24,[1]投资!$B$2:$F$83,5,0) -> 35 | I24: =H24/MAX($H$5:$H$86)*30 -> 3.115727 | J24: =RANK(I24,$I$5:$I$86) -> 13 | K24: =IFERROR(RANK(I24,$I$5:$I$86)/COUNT($I$5:$I$86),0) -> 0.15853659 | M24: =IF(L24>=50,50,L24) -> 0 | N24: =RANK(M24,$M$5:$M$86) -> 10 | O24: =IFERROR(RANK(M24,$M$5:$M$86)/COUNT($M$5:$M$86),0) -> 0.12195122 | P24: 0 | Q24: =E24+I24+M24-P24 -> 63.478046 | R24: =RANK(Q24,$Q$5:$Q$86) -> 20 | S24: =IFERROR(RANK(Q24,$Q$5:$Q$86)/COUNT($Q$5:$Q$86),0) -> 0.24390244
A25: 81 | B25: 202211130148 | C25: 黄凯妍 | D25: 3.68 | E25: =D25/MAX($D$5:$D$86)*70 -> 62.222222 | F25: =RANK(E25,$E$5:$E$86) -> 13 | G25: =IFERROR(RANK(E25,$E$5:$E$86)/COUNT($E$5:$E$86),0) -> 0.15853659 | H25: =VLOOKUP(B25,[1]投资!$B$2:$F$83,5,0) -> 14 | I25: =H25/MAX($H$5:$H$86)*30 -> 1.2462908 | J25: =RANK(I25,$I$5:$I$86) -> 61 | K25: =IFERROR(RANK(I25,$I$5:$I$86)/COUNT($I$5:$I$86),0) -> 0.74390244 | M25: =IF(L25>=50,50,L25) -> 0 | N25: =RANK(M25,$M$5:$M$86) -> 10 | O25: =IFERROR(RANK(M25,$M$5:$M$86)/COUNT($M$5:$M$86),0) -> 0.12195122 | P25: 0 | Q25: =E25+I25+M25-P25 -> 63.468513 | R25: =RANK(Q25,$Q$5:$Q$86) -> 21 | S25: =IFERROR(RANK(Q25,$Q$5:$Q$86)/COUNT($Q$5:$Q$86),0) -> 0.25609756
A26: 77 | B26: 202311130223 | C26: 刘永嘉 | D26: 3.57 | E26: =D26/MAX($D$5:$D$86)*70 -> 60.362319 | F26: =RANK(E26,$E$5:$E$86) -> 17 | G26: =IFERROR(RANK(E26,$E$5:$E$86)/COUNT($E$5:$E$86),0) -> 0.20731707 | H26: =VLOOKUP(B26,[1]投资!$B$2:$F$83,5,0) -> 23 | I26: =H26/MAX($H$5:$H$86)*30 -> 2.0474777 | J26: =RANK(I26,$I$5:$I$86) -> 25 | K26: =IFERROR(RANK(I26,$I$5:$I$86)/COUNT($I$5:$I$86),0) -> 0.30487805 | M26: =IF(L26>=50,50,L26) -> 0 | N26: =RANK(M26,$M$5:$M$86) -> 10 | O26: =IFERROR(RANK(M26,$M$5:$M$86)/COUNT($M$5:$M$86),0) -> 0.12195122 | P26: 0 | Q26: =E26+I26+M26-P26 -> 62.409797 | R26: =RANK(Q26,$Q$5:$Q$86) -> 22 | S26: =IFERROR(RANK(Q26,$Q$5:$Q$86)/COUNT($Q$5:$Q$86),0) -> 0.26829268
A27: 35 | B27: 202311130115 | C27: 黄耀荧 | D27: 3.43 | E27: =D27/MAX($D$5:$D$86)*70 -> 57.995169 | F27: =RANK(E27,$E$5:$E$86) -> 28 | G27: =IFERROR(RANK(E27,$E$5:$E$86)/COUNT($E$5:$E$86),0) -> 0.34146341 | H27: =VLOOKUP(B27,[1]投资!$B$2:$F$83,5,0) -> 48.5 | I27: =H27/MAX($H$5:$H$86)*30 -> 4.3175074 | J27: =RANK(I27,$I$5:$I$86) -> 9 | K27: =IFERROR(RANK(I27,$I$5:$I$86)/COUNT($I$5:$I$86),0) -> 0.1097561 | M27: =IF(L27>=50,50,L27) -> 0 | N27: =RANK(M27,$M$5:$M$86) -> 10 | O27: =IFERROR(RANK(M27,$M$5:$M$86)/COUNT($M$5:$M$86),0) -> 0.12195122 | P27: 0 | Q27: =E27+I27+M27-P27 -> 62.312677 | R27: =RANK(Q27,$Q$5:$Q$86) -> 23 | S27: =IFERROR(RANK(Q27,$Q$5:$Q$86)/COUNT($Q$5:$Q$86),0) -> 0.2804878
... A86: 44 | B86: 202311130201 | C86: 陈冠廷 | D86: 1.46 | E86: =D86/MAX($D$5:$D$86)*70 -> 24.68599 | F86: =RANK(E86,$E$5:$E$86) -> 82 | G86: =IFERROR(RANK(E86,$E$5:$E$86)/COUNT($E$5:$E$86),0) -> 1 | H86: =VLOOKUP(B86,[1]投资!$B$2:$F$83,5,0) -> 14 | I86: =H86/MAX($H$5:$H$86)*30 -> 1.2462908 | J86: =RANK(I86,$I$5:$I$86) -> 61 | K86: =IFERROR(RANK(I86,$I$5:$I$86)/COUNT($I$5:$I$86),0) -> 0.74390244 | M86: =IF(L86>=50,50,L86) -> 0 | N86: =RANK(M86,$M$5:$M$86) -> 10 | O86: =IFERROR(RANK(M86,$M$5:$M$86)/COUNT($M$5:$M$86),0) -> 0.12195122 | P86: 0 | Q86: =E86+I86+M86-P86 -> 25.932281 | R86: =RANK(Q86,$Q$5:$Q$86) -> 82 | S86: =IFERROR(RANK(Q86,$Q$5:$Q$86)/COUNT($Q$5:$Q$86),0) -> 1

Sheet 互金情况表
B1: 附件1：
A2: 2025-2026学年综合素测评情况总表-互金专业
A3: 序号 | B3: 学号 | C3: 姓名 | D3: 学业成绩（70） | H3: 4+X活动分（30） | L3: 其他表现测评分（50） | P3: 扣分 | Q3: 合计 | T3: 申报奖项
D4: 原始分 | E4: 折算分 | F4: 排名 | G4: 百分比 | H4: 原始分 | I4: 折算分 | J4: 排名 | K4: 百分比 | L4: 原始分 | M4: 折算分 | N4: 排名 | O4: 百分比 | Q4: 折算总分 | R4: 总排名 | S4: 总百分比
A5: 61 | B5: 202311160235 | C5: 曾静婷 | D5: 3.74 | E5: =D5/MAX($D$5:$D$82)*70 -> 63.236715 | F5: =RANK(E5,$E$5:$E$82) -> 13 | G5: =IFERROR(RANK(E5,$E$5:$E$82)/COUNT($E$5:$E$82),0) -> 0.16666667 | H5: =VLOOKUP(B5,[1]互金!$B$2:$G$79,6,0) -> 375.5 | I5: =H5/MAX($H$5:$H$82)*30 -> 30 | J5: =RANK(I5,$I$5:$I$82) -> 1 | K5: =IFERROR(RANK(I5,$I$5:$I$82)/COUNT($I$5:$I$82),0) -> 0.012820513 | L5: =VLOOKUP(C5,[2]Sheet1!$B$1:$D$9,3,0) -> 75 | M5: =IF(L5>=50,50,L5) -> 50 | N5: =RANK(M5,$M$5:$M$82) -> 1 | O5: =IFERROR(RANK(M5,$M$5:$M$82)/COUNT($M$5:$M$82),0) -> 0.012820513 | P5: 0 | Q5: =E5+I5+M5-P5 -> 143.23671 | R5: =RANK(Q5,$Q$5:$Q$82) -> 1 | S5: =IFERROR(RANK(Q5,$Q$5:$Q$82)/COUNT($Q$5:$Q$82),0) -> 0.012820513
A6: 55 | B6: 202311160223 | C6: 刘雨霏 | D6: 4.04 | E6: =D6/MAX($D$5:$D$82)*70 -> 68.309179 | F6: =RANK(E6,$E$5:$E$82) -> 5 | G6: =IFERROR(RANK(E6,$E$5:$E$82)/COUNT($E$5:$E$82),0) -> 0.064102564 | H6: =VLOOKUP(B6,[1]互金!$B$2:$G$79,6,0) -> 157 | I6: =H6/MAX($H$5:$H$82)*30 -> 12.543276 | J6: =RANK(I6,$I$5:$I$82) -> 4 | K6: =IFERROR(RANK(I6,$I$5:$I$82)/COUNT($I$5:$I$82),0) -> 0.051282051 | L6: =VLOOKUP(C6,[2]Sheet1!$B$1:$D$9,3,0) -> 67 | M6: =IF(L6>=50,50,L6) -> 50 | N6: =RANK(M6,$M$5:$M$82) -> 1 | O6: =IFERROR(RANK(M6,$M$5:$M$82)/COUNT($M$5:$M$82),0) -> 0.012820513 | P6: 0 | Q6: =E6+I6+M6-P6 -> 130.85245 | R6: =RANK(Q6,$Q$5:$Q$82) -> 2 | S6: =IFERROR(RANK(Q6,$Q$5:$Q$82)/COUNT($Q$5:$Q$82),0) -> 0.025641026
A7: 37 | B7: 202311160118 | C7: 蓝佳敏 | D7: 3.86 | E7: =D7/MAX($D$5:$D$82)*70 -> 65.2657 | F7: =RANK(E7,$E$5:$E$82) -> 7 | G7: =IFERROR(RANK(E7,$E$5:$E$82)/COUNT($E$5:$E$82),0) -> 0.08974359 | H7: =VLOOKUP(B7,[1]互金!$B$2:$G$79,6,0) -> 136.5 | I7: =H7/MAX($H$5:$H$82)*30 -> 10.905459 | J7: =RANK(I7,$I$5:$I$82) -> 5 | K7: =IFERROR(RANK(I7,$I$5:$I$82)/COUNT($I$5:$I$82),0) -> 0.064102564 | L7: =VLOOKUP(C7,[2]Sheet1!$B$1:$D$9,3,0) -> 59.8 | M7: =IF(L7>=50,50,L7) -> 50 | N7: =RANK(M7,$M$5:$M$82) -> 1 | O7: =IFERROR(RANK(M7,$M$5:$M$82)/COUNT($M$5:$M$82),0) -> 0.012820513 | P7: 0 | Q7: =E7+I7+M7-P7 -> 126.17116 | R7: =RANK(Q7,$Q$5:$Q$82) -> 3 | S7: =IFERROR(RANK(Q7,$Q$5:$Q$82)/COUNT($Q$5:$Q$82),0) -> 0.038461538
A8: 14 | B8: 202311160115 | C8: 古志炬 | D8: 3.34 | E8: =D8/MAX($D$5:$D$82)*70 -> 56.47343 | F8: =RANK(E8,$E$5:$E$82) -> 22 | G8: =IFERROR(RANK(E8,$E$5:$E$82)/COUNT($E$5:$E$82),0) -> 0.28205128 | H8: =VLOOKUP(B8,[1]互金!$B$2:$G$79,6,0) -> 161 | I8: =H8/MAX($H$5:$H$82)*30 -> 12.86285 | J8: =RANK(I8,$I$5:$I$82) -> 3 | K8: =IFERROR(RANK(I8,$I$5:$I$82)/COUNT($I$5:$I$82),0) -> 0.038461538 | L8: =VLOOKUP(C8,[2]Sheet1!$B$1:$D$9,3,0) -> 51.9 | M8: =IF(L8>=50,50,L8) -> 50 | N8: =RANK(M8,$M$5:$M$82) -> 1 | O8: =IFERROR(RANK(M8,$M$5:$M$82)/COUNT($M$5:$M$82),0) -> 0.012820513 | P8: 0 | Q8: =E8+I8+M8-P8 -> 119.33628 | R8: =RANK(Q8,$Q$5:$Q$82) -> 4 | S8: =IFERROR(RANK(Q8,$Q$5:$Q$82)/COUNT($Q$5:$Q$82),0) -> 0.051282051
A9: 38 | B9: 202311160123 | C9: 李沅夏 | D9: 3.41 | E9: =D9/MAX($D$5:$D$82)*70 -> 57.657005 | F9: =RANK(E9,$E$5:$E$82) -> 18 | G9: =IFERROR(RANK(E9,$E$5:$E$82)/COUNT($E$5:$E$82),0) -> 0.23076923 | H9: =VLOOKUP(B9,[1]互金!$B$2:$G$79,6,0) -> 125.5 | I9: =H9/MAX($H$5:$H$82)*30 -> 10.026631 | J9: =RANK(I9,$I$5:$I$82) -> 6 | K9: =IFERROR(RANK(I9,$I$5:$I$82)/COUNT($I$5:$I$82),0) -> 0.076923077 | L9: =VLOOKUP(C9,[2]Sheet1!$B$1:$D$9,3,0) -> 55.5 | M9: =IF(L9>=50,50,L9) -> 50 | N9: =RANK(M9,$M$5:$M$82) -> 1 | O9: =IFERROR(RANK(M9,$M$5:$M$82)/COUNT($M$5:$M$82),0) -> 0.012820513 | P9: 0 | Q9: =E9+I9+M9-P9 -> 117.68364 | R9: =RANK(Q9,$Q$5:$Q$82) -> 5 | S9: =IFERROR(RANK(Q9,$Q$5:$Q$82)/COUNT($Q$5:$Q$82),0) -> 0.064102564
A10: 26 | B10: 202311160110 | C10: 陈咏怡 | D10: 3.05 | E10: =D10/MAX($D$5:$D$82)*70 -> 51.570048 | F10: =RANK(E10,$E$5:$E$82) -> 41 | G10: =IFERROR(RANK(E10,$E$5:$E$82)/COUNT($E$5:$E$82),0) -> 0.52564103 | H10: =VLOOKUP(B10,[1]互金!$B$2:$G$79,6,0) -> 76.5 | I10: =H10/MAX($H$5:$H$82)*30 -> 6.1118509 | J10: =RANK(I10,$I$5:$I$82) -> 9 | K10: =IFERROR(RANK(I10,$I$5:$I$82)/COUNT($I$5:$I$82),0) -> 0.11538462 | L10: =VLOOKUP(C10,[2]Sheet1!$B$1:$D$9,3,0) -> 65 | M10: =IF(L10>=50,50,L10) -> 50 | N10: =RANK(M10,$M$5:$M$82) -> 1 | O10: =IFERROR(RANK(M10,$M$5:$M$82)/COUNT($M$5:$M$82),0) -> 0.012820513 | P10: 0 | Q10: =E10+I10+M10-P10 -> 107.6819 | R10: =RANK(Q10,$Q$5:$Q$82) -> 6 | S10: =IFERROR(RANK(Q10,$Q$5:$Q$82)/COUNT($Q$5:$Q$82),0) -> 0.076923077
A11: 25 | B11: 202311160108 | C11: 陈淑敏 | D11: 3.54 | E11: =D11/MAX($D$5:$D$82)*70 -> 59.855072 | F11: =RANK(E11,$E$5:$E$82) -> 17 | G11: =IFERROR(RANK(E11,$E$5:$E$82)/COUNT($E$5:$E$82),0) -> 0.21794872 | H11: =VLOOKUP(B11,[1]互金!$B$2:$G$79,6,0) -> 55 | I11: =H11/MAX($H$5:$H$82)*30 -> 4.3941411 | J11: =RANK(I11,$I$5:$I$82) -> 13 | K11: =IFERROR(RANK(I11,$I$5:$I$82)/COUNT($I$5:$I$82),0) -> 0.16666667 | L11: =VLOOKUP(C11,[2]Sheet1!$B$1:$D$9,3,0) -> 23 | M11: =IF(L11>=50,50,L11) -> 23 | N11: =RANK(M11,$M$5:$M$82) -> 7 | O11: =IFERROR(RANK(M11,$M$5:$M$82)/COUNT($M$5:$M$82),0) -> 0.08974359 | P11: 0 | Q11: =E11+I11+M11-P11 -> 87.249214 | R11: =RANK(Q11,$Q$5:$Q$82) -> 7 | S11: =IFERROR(RANK(Q11,$Q$5:$Q$82)/COUNT($Q$5:$Q$82),0) -> 0.08974359
A12: 39 | B12: 202311160126 | C12: 卢雅婷 | D12: 4.1 | E12: =D12/MAX($D$5:$D$82)*70 -> 69.323671 | F12: =RANK(E12,$E$5:$E$82) -> 2 | G12: =IFERROR(RANK(E12,$E$5:$E$82)/COUNT($E$5:$E$82),0) -> 0.025641026 | H12: =VLOOKUP(B12,[1]互金!$B$2:$G$79,6,0) -> 68 | I12: =H12/MAX($H$5:$H$82)*30 -> 5.4327563 | J12: =RANK(I12,$I$5:$I$82) -> 10 | K12: =IFERROR(RANK(I12,$I$5:$I$82)/COUNT($I$5:$I$82),0) -> 0.12820513 | L12: =VLOOKUP(C12,[2]Sheet1!$B$1:$D$9,3,0) -> 6 | M12: =IF(L12>=50,50,L12) -> 6 | N12: =RANK(M12,$M$5:$M$82) -> 9 | O12: =IFERROR(RANK(M12,$M$5:$M$82)/COUNT($M$5:$M$82),0) -> 0.11538462 | P12: 0 | Q12: =E12+I12+M12-P12 -> 80.756428 | R12: =RANK(Q12,$Q$5:$Q$82) -> 8 | S12: =IFERROR(RANK(Q12,$Q$5:$Q$82)/COUNT($Q$5:$Q$82),0) -> 0.1025641
A13: 36 | B13: 202311160112 | C13: 崔舒语 | D13: 3.57 | E13: =D13/MAX($D$5:$D$82)*70 -> 60.362319 | F13: =RANK(E13,$E$5:$E$82) -> 16 | G13: =IFERROR(RANK(E13,$E$5:$E$82)/COUNT($E$5:$E$82),0) -> 0.20512821 | H13: =VLOOKUP(B13,[1]互金!$B$2:$G$79,6,0) -> 61 | I13: =H13/MAX($H$5:$H$82)*30 -> 4.873502 | J13: =RANK(I13,$I$5:$I$82) -> 11 | K13: =IFERROR(RANK(I13,$I$5:$I$82)/COUNT($I$5:$I$82),0) -> 0.14102564 | L13: =VLOOKUP(C13,[2]Sheet1!$B$1:$D$9,3,0) -> 14 | M13: =IF(L13>=50,50,L13) -> 14 | N13: =RANK(M13,$M$5:$M$82) -> 8 | O13: =IFERROR(RANK(M13,$M$5:$M$82)/COUNT($M$5:$M$82),0) -> 0.1025641 | P13: 0 | Q13: =E13+I13+M13-P13 -> 79.235821 | R13: =RANK(Q13,$Q$5:$Q$82) -> 9 | S13: =IFERROR(RANK(Q13,$Q$5:$Q$82)/COUNT($Q$5:$Q$82),0) -> 0.11538462
A14: 47 | B14: 202311160218 | C14: 李泳达 | D14: 4.05 | E14: =D14/MAX($D$5:$D$82)*70 -> 68.478261 | F14: =RANK(E14,$E$5:$E$82) -> 4 | G14: =IFERROR(RANK(E14,$E$5:$E$82)/COUNT($E$5:$E$82),0) -> 0.051282051 | H14: =VLOOKUP(B14,[1]互金!$B$2:$G$79,6,0) -> 122 | I14: =H14/MAX($H$5:$H$82)*30 -> 9.747004 | J14: =RANK(I14,$I$5:$I$82) -> 7 | K14: =IFERROR(RANK(I14,$I$5:$I$82)/COUNT($I$5:$I$82),0) -> 0.08974359 | M14: =IF(L14>=50,50,L14) -> 0 | N14: =RANK(M14,$M$5:$M$82) -> 10 | O14: =IFERROR(RANK(M14,$M$5:$M$82)/COUNT($M$5:$M$82),0) -> 0.12820513 | P14: 0 | Q14: =E14+I14+M14-P14 -> 78.225265 | R14: =RANK(Q14,$Q$5:$Q$82) -> 10 | S14: =IFERROR(RANK(Q14,$Q$5:$Q$82)/COUNT($Q$5:$Q$82),0) -> 0.12820513
A15: 67 | B15: 202311160238 | C15: 郑伊莎 | D15: 3.26 | E15: =D15/MAX($D$5:$D$82)*70 -> 55.120773 | F15: =RANK(E15,$E$5:$E$82) -> 29 | G15: =IFERROR(RANK(E15,$E$5:$E$82)/COUNT($E$5:$E$82),0) -> 0.37179487 | H15: =VLOOKUP(B15,[1]互金!$B$2:$G$79,6,0) -> 287.5 | I15: =H15/MAX($H$5:$H$82)*30 -> 22.969374 | J15: =RANK(I15,$I$5:$I$82) -> 2 | K15: =IFERROR(RANK(I15,$I$5:$I$82)/COUNT($I$5:$I$82),0) -> 0.025641026 | M15: =IF(L15>=50,50,L15) -> 0 | N15: =RANK(M15,$M$5:$M$82) -> 10 | O15: =IFERROR(RANK(M15,$M$5:$M$82)/COUNT($M$5:$M$82),0) -> 0.12820513 | P15: 0 | Q15: =E15+I15+M15-P15 -> 78.090147 | R15: =RANK(Q15,$Q$5:$Q$82) -> 11 | S15: =IFERROR(RANK(Q15,$Q$5:$Q$82)/COUNT($Q$5:$Q$82),0) -> 0.14102564
A16: 42 | B16: 202311160212 | C16: 黄炯楠 | D16: 4.14 | E16: =D16/MAX($D$5:$D$82)*70 -> 70 | F16: =RANK(E16,$E$5:$E$82) -> 1 | G16: =IFERROR(RANK(E16,$E$5:$E$82)/COUNT($E$5:$E$82),0) -> 0.012820513 | H16: =VLOOKUP(B16,[1]互金!$B$2:$G$79,6,0) -> 26 | I16: =H16/MAX($H$5:$H$82)*30 -> 2.0772304 | J16: =RANK(I16,$I$5:$I$82) -> 22 | K16: =IFERROR(RANK(I16,$I$5:$I$82)/COUNT($I$5:$I$82),0) -> 0.28205128 | M16: =IF(L16>=50,50,L16) -> 0 | N16: =RANK(M16,$M$5:$M$82) -> 10 | O16: =IFERROR(RANK(M16,$M$5:$M$82)/COUNT($M$5:$M$82),0) -> 0.12820513 | P16: 0 | Q16: =E16+I16+M16-P16 -> 72.07723 | R16: =RANK(Q16,$Q$5:$Q$82) -> 12 | S16: =IFERROR(RANK(Q16,$Q$5:$Q$82)/COUNT($Q$5:$Q$82),0) -> 0.15384615
A17: 76 | B17: 202311160226 | C17: 裴欣然 | D17: 4.06 | E17: =D17/MAX($D$5:$D$82)*70 -> 68.647343 | F17: =RANK(E17,$E$5:$E$82) -> 3 | G17: =IFERROR(RANK(E17,$E$5:$E$82)/COUNT($E$5:$E$82),0) -> 0.038461538 | H17: =VLOOKUP(B17,[1]互金!$B$2:$G$79,6,0) -> 20 | I17: =H17/MAX($H$5:$H$82)*30 -> 1.5978695 | J17: =RANK(I17,$I$5:$I$82) -> 36 | K17: =IFERROR(RANK(I17,$I$5:$I$82)/COUNT($I$5:$I$82),0) -> 0.46153846 | M17: =IF(L17>=50,50,L17) -> 0 | N17: =RANK(M17,$M$5:$M$82) -> 10 | O17: =IFERROR(RANK(M17,$M$5:$M$82)/COUNT($M$5:$M$82),0) -> 0.12820513 | P17: 0 | Q17: =E17+I17+M17-P17 -> 70.245213 | R17: =RANK(Q17,$Q$5:$Q$82) -> 13 | S17: =IFERROR(RANK(Q17,$Q$5:$Q$82)/COUNT($Q$5:$Q$82),0) -> 0.16666667
A18: 74 | B18: 202311160219 | C18: 廖晓菲 | D18: 3.9 | E18: =D18/MAX($D$5:$D$82)*70 -> 65.942029 | F18: =RANK(E18,$E$5:$E$82) -> 6 | G18: =IFERROR(RANK(E18,$E$5:$E$82)/COUNT($E$5:$E$82),0) -> 0.076923077 | H18: =VLOOKUP(B18,[1]互金!$B$2:$G$79,6,0) -> 23 | I18: =H18/MAX($H$5:$H$82)*30 -> 1.8375499 | J18: =RANK(I18,$I$5:$I$82) -> 27 | K18: =IFERROR(RANK(I18,$I$5:$I$82)/COUNT($I$5:$I$82),0) -> 0.34615385 | M18: =IF(L18>=50,50,L18) -> 0 | N18: =RANK(M18,$M$5:$M$82) -> 10 | O18: =IFERROR(RANK(M18,$M$5:$M$82)/COUNT($M$5:$M$82),0) -> 0.12820513 | P18: 0 | Q18: =E18+I18+M18-P18 -> 67.779579 | R18: =RANK(Q18,$Q$5:$Q$82) -> 14 | S18: =IFERROR(RANK(Q18,$Q$5:$Q$82)/COUNT($Q$5:$Q$82),0) -> 0.17948718
A19: 23 | B19: 202311160104 | C19: 陈嘉咪 | D19: 3.58 | E19: =D19/MAX($D$5:$D$82)*70 -> 60.531401 | F19: =RANK(E19,$E$5:$E$82) -> 15 | G19: =IFERROR(RANK(E19,$E$5:$E$82)/COUNT($E$5:$E$82),0) -> 0.19230769 | H19: =VLOOKUP(B19,[1]互金!$B$2:$G$79,6,0) -> 86 | I19: =H19/MAX($H$5:$H$82)*30 -> 6.8708389 | J19: =RANK(I19,$I$5:$I$82) -> 8 | K19: =IFERROR(RANK(I19,$I$5:$I$82)/COUNT($I$5:$I$82),0) -> 0.1025641 | M19: =IF(L19>=50,50,L19) -> 0 | N19: =RANK(M19,$M$5:$M$82) -> 10 | O19: =IFERROR(RANK(M19,$M$5:$M$82)/COUNT($M$5:$M$82),0) -> 0.12820513 | P19: 0 | Q19: =E19+I19+M19-P19 -> 67.40224 | R19: =RANK(Q19,$Q$5:$Q$82) -> 15 | S19: =IFERROR(RANK(Q19,$Q$5:$Q$82)/COUNT($Q$5:$Q$82),0) -> 0.19230769
A20: 65 | B20: 202311160222 | C20: 刘宇珊 | D20: 3.8 | E20: =D20/MAX($D$5:$D$82)*70 -> 64.251208 | F20: =RANK(E20,$E$5:$E$82) -> 8 | G20: =IFERROR(RANK(E20,$E$5:$E$82)/COUNT($E$5:$E$82),0) -> 0.1025641 | H20: =VLOOKUP(B20,[1]互金!$B$2:$G$79,6,0) -> 26 | I20: =H20/MAX($H$5:$H$82)*30 -> 2.0772304 | J20: =RANK(I20,$I$5:$I$82) -> 22 | K20: =IFERROR(RANK(I20,$I$5:$I$82)/COUNT($I$5:$I$82),0) -> 0.28205128 | M20: =IF(L20>=50,50,L20) -> 0 | N20: =RANK(M20,$M$5:$M$82) -> 10 | O20: =IFERROR(RANK(M20,$M$5:$M$82)/COUNT($M$5:$M$82),0) -> 0.12820513 | P20: 0 | Q20: =E20+I20+M20-P20 -> 66.328438 | R20: =RANK(Q20,$Q$5:$Q$82) -> 16 | S20: =IFERROR(RANK(Q20,$Q$5:$Q$82)/COUNT($Q$5:$Q$82),0) -> 0.20512821
A21: 31 | B21: 202311160124 | C21: 廖婉诗 | D21: 3.78 | E21: =D21/MAX($D$5:$D$82)*70 -> 63.913043 | F21: =RANK(E21,$E$5:$E$82) -> 9 | G21: =IFERROR(RANK(E21,$E$5:$E$82)/COUNT($E$5:$E$82),0) -> 0.11538462 | H21: =VLOOKUP(B21,[1]互金!$B$2:$G$79,6,0) -> 23 | I21: =H21/MAX($H$5:$H$82)*30 -> 1.8375499 | J21: =RANK(I21,$I$5:$I$82) -> 27 | K21: =IFERROR(RANK(I21,$I$5:$I$82)/COUNT($I$5:$I$82),0) -> 0.34615385 | M21: =IF(L21>=50,50,L21) -> 0 | N21: =RANK(M21,$M$5:$M$82) -> 10 | O21: =IFERROR(RANK(M21,$M$5:$M$82)/COUNT($M$5:$M$82),0) -> 0.12820513 | P21: 0 | Q21: =E21+I21+M21-P21 -> 65.750593 | R21: =RANK(Q21,$Q$5:$Q$82) -> 17 | S21: =IFERROR(RANK(Q21,$Q$5:$Q$82)/COUNT($Q$5:$Q$82),0) -> 0.21794872
A22: 77 | B22: 202311160231 | C22: 伍郦俞 | D22: 3.78 | E22: =D22/MAX($D$5:$D$82)*70 -> 63.913043 | F22: =RANK(E22,$E$5:$E$82) -> 9 | G22: =IFERROR(RANK(E22,$E$5:$E$82)/COUNT($E$5:$E$82),0) -> 0.11538462 | H22: =VLOOKUP(B22,[1]互金!$B$2:$G$79,6,0) -> 23 | I22: =H22/MAX($H$5:$H$82)*30 -> 1.8375499 | J22: =RANK(I22,$I$5:$I$82) -> 27 | K22: =IFERROR(RANK(I22,$I$5:$I$82)/COUNT($I$5:$I$82),0) -> 0.34615385 | M22: =IF(L22>=50,50,L22) -> 0 | N22: =RANK(M22,$M$5:$M$82) -> 10 | O22: =IFERROR(RANK(M22,$M$5:$M$82)/COUNT($M$5:$M$82),0) -> 0.12820513 | P22: 0 | Q22: =E22+I22+M22-P22 -> 65.750593 | R22: =RANK(Q22,$Q$5:$Q$82) -> 17 | S22: =IFERROR(RANK(Q22,$Q$5:$Q$82)/COUNT($Q$5:$Q$82),0) -> 0.21794872
A23: 35 | B23: 202311160102 | C23: 蔡洋 | D23: 3.75 | E23: =D23/MAX($D$5:$D$82)*70 -> 63.405797 | F23: =RANK(E23,$E$5:$E$82) -> 12 | G23: =IFERROR(RANK(E23,$E$5:$E$82)/COUNT($E$5:$E$82),0) -> 0.15384615 | H23: =VLOOKUP(B23,[1]互金!$B$2:$G$79,6,0) -> 27 | I23: =H23/MAX($H$5:$H$82)*30 -> 2.1571238 | J23: =RANK(I23,$I$5:$I$82) -> 18 | K23: =IFERROR(RANK(I23,$I$5:$I$82)/COUNT($I$5:$I$82),0) -> 0.23076923 | M23: =IF(L23>=50,50,L23) -> 0 | N23: =RANK(M23,$M$5:$M$82) -> 10 | O23: =IFERROR(RANK(M23,$M$5:$M$82)/COUNT($M$5:$M$82),0) -> 0.12820513 | P23: 0 | Q23: =E23+I23+M23-P23 -> 65.562921 | R23: =RANK(Q23,$Q$5:$Q$82) -> 19 | S23: =IFERROR(RANK(Q23,$Q$5:$Q$82)/COUNT($Q$5:$Q$82),0) -> 0.24358974
A24: 57 | B24: 202311160203 | C24: 陈曼珊 | D24: 3.76 | E24: =D24/MAX($D$5:$D$82)*70 -> 63.574879 | F24: =RANK(E24,$E$5:$E$82) -> 11 | G24: =IFERROR(RANK(E24,$E$5:$E$82)/COUNT($E$5:$E$82),0) -> 0.14102564 | H24: =VLOOKUP(B24,[1]互金!$B$2:$G$79,6,0) -> 16 | I24: =H24/MAX($H$5:$H$82)*30 -> 1.2782956 | J24: =RANK(I24,$I$5:$I$82) -> 47 | K24: =IFERROR(RANK(I24,$I$5:$I$82)/COUNT($I$5:$I$82),0) -> 0.6025641 | M24: =IF(L24>=50,50,L24) -> 0 | N24: =RANK(M24,$M$5:$M$82) -> 10 | O24: =IFERROR(RANK(M24,$M$5:$M$82)/COUNT($M$5:$M$82),0) -> 0.12820513 | P24: 0 | Q24: =E24+I24+M24-P24 -> 64.853175 | R24: =RANK(Q24,$Q$5:$Q$82) -> 20 | S24: =IFERROR(RANK(Q24,$Q$5:$Q$82)/COUNT($Q$5:$Q$82),0) -> 0.25641026
A25: 48 | B25: 202311160228 | C25: 王芸翔 | D25: 3.63 | E25: =D25/MAX($D$5:$D$82)*70 -> 61.376812 | F25: =RANK(E25,$E$5:$E$82) -> 14 | G25: =IFERROR(RANK(E25,$E$5:$E$82)/COUNT($E$5:$E$82),0) -> 0.17948718 | H25: =VLOOKUP(B25,[1]互金!$B$2:$G$79,6,0) -> 26 | I25: =H25/MAX($H$5:$H$82)*30 -> 2.0772304 | J25: =RANK(I25,$I$5:$I$82) -> 22 | K25: =IFERROR(RANK(I25,$I$5:$I$82)/COUNT($I$5:$I$82),0) -> 0.28205128 | M25: =IF(L25>=50,50,L25) -> 0 | N25: =RANK(M25,$M$5:$M$82) -> 10 | O25: =IFERROR(RANK(M25,$M$5:$M$82)/COUNT($M$5:$M$82),0) -> 0.12820513 | P25: 0 | Q25: =E25+I25+M25-P25 -> 63.454042 | R25: =RANK(Q25,$Q$5:$Q$82) -> 21 | S25: =IFERROR(RANK(Q25,$Q$5:$Q$82)/COUNT($Q$5:$Q$82),0) -> 0.26923077
... A82: 51 | B82: 202311160225 | C82: 罗梦琪 | D82: 1.93 | E82: =D82/MAX($D$5:$D$82)*70 -> 32.63285 | F82: =RANK(E82,$E$5:$E$82) -> 78 | G82: =IFERROR(RANK(E82,$E$5:$E$82)/COUNT($E$5:$E$82),0) -> 1 | H82: =VLOOKUP(B82,[1]互金!$B$2:$G$79,6,0) -> 14 | I82: =H82/MAX($H$5:$H$82)*30 -> 1.1185087 | J82: =RANK(I82,$I$5:$I$82) -> 55 | K82: =IFERROR(RANK(I82,$I$5:$I$82)/COUNT($I$5:$I$82),0) -> 0.70512821 | M82: =IF(L82>=50,50,L82) -> 0 | N82: =RANK(M82,$M$5:$M$82) -> 10 | O82: =IFERROR(RANK(M82,$M$5:$M$82)/COUNT($M$5:$M$82),0) -> 0.12820513 | P82: 0 | Q82: =E82+I82+M82-P82 -> 33.751359 | R82: =RANK(Q82,$Q$5:$Q$82) -> 78 | S82: =IFERROR(RANK(Q82,$Q$5:$Q$82)/COUNT($Q$5:$Q$82),0) -> 1

Sheet 金融（专升本）
B1: 附件：
A2: 2025-2026学年 23级金融学(专升本)专业 综合素测评情况总表
A3: 序号 | B3: 学号 | C3: 姓名 | D3: 学业成绩（70） | H3: 4+X活动分（30） | L3: 其他表现测评分（50） | P3: 扣分 | Q3: 合计
D4: 原始分 | E4: 折算分 | F4: 排名 | G4: 百分比 | H4: 原始分 | I4: 折算分 | J4: 排名 | K4: 百分比 | L4: 原始分 | M4: 折算分 | N4: 排名 | O4: 百分比 | Q4: 折算总分 | R4: 总排名 | S4: 总百分比
A5: 1 | B5: 202311070707 | C5: 黄淳卓 | D5: 1.45 | E5: =D5/MAX($D$5:$D$38)*70 -> 26.781003 | F5: =RANK(E5,$E$5:$E$38) -> 34 | G5: =IFERROR(RANK(E5,$E$5:$E$38)/COUNT($E$5:$E$38),0) -> 1 | H5: 28 | I5: =H5/MAX($H$5:$H$38)*30 -> 8.3168317 | J5: =RANK(I5,$I$5:$I$38) -> 34 | K5: =IFERROR(RANK(I5,$I$5:$I$38)/COUNT($I$5:$I$38),0) -> 1 | L5: 0 | M5: =IF(L5>=50,50,L5) -> 0 | N5: =RANK(M5,$M$5:$M$38) -> 8 | O5: =IFERROR(RANK(M5,$M$5:$M$38)/COUNT($M$5:$M$38),0) -> 0.23529412 | P5: 0 | Q5: =E5+I5+M5-P5 -> 35.097834 | R5: =RANK(Q5,$Q$5:$Q$38) -> 34 | S5: =IFERROR(RANK(Q5,$Q$5:$Q$38)/COUNT($Q$5:$Q$38),0) -> 1
A6: 2 | B6: 202311070722 | C6: 沈淑华 | D6: 3.18 | E6: =D6/MAX($D$5:$D$38)*70 -> 58.733509 | F6: =RANK(E6,$E$5:$E$38) -> 18 | G6: =IFERROR(RANK(E6,$E$5:$E$38)/COUNT($E$5:$E$38),0) -> 0.52941176 | H6: 48 | I6: =H6/MAX($H$5:$H$38)*30 -> 14.257426 | J6: =RANK(I6,$I$5:$I$38) -> 27 | K6: =IFERROR(RANK(I6,$I$5:$I$38)/COUNT($I$5:$I$38),0) -> 0.79411765 | L6: 0 | M6: =IF(L6>=50,50,L6) -> 0 | N6: =RANK(M6,$M$5:$M$38) -> 8 | O6: =IFERROR(RANK(M6,$M$5:$M$38)/COUNT($M$5:$M$38),0) -> 0.23529412 | P6: 0 | Q6: =E6+I6+M6-P6 -> 72.990935 | R6: =RANK(Q6,$Q$5:$Q$38) -> 21 | S6: =IFERROR(RANK(Q6,$Q$5:$Q$38)/COUNT($Q$5:$Q$38),0) -> 0.61764706
A7: 3 | B7: 202311070723 | C7: 肖浩 | D7: 2.19 | E7: =D7/MAX($D$5:$D$38)*70 -> 40.448549 | F7: =RANK(E7,$E$5:$E$38) -> 31 | G7: =IFERROR(RANK(E7,$E$5:$E$38)/COUNT($E$5:$E$38),0) -> 0.91176471 | H7: 49 | I7: =H7/MAX($H$5:$H$38)*30 -> 14.554455 | J7: =RANK(I7,$I$5:$I$38) -> 25 | K7: =IFERROR(RANK(I7,$I$5:$I$38)/COUNT($I$5:$I$38),0) -> 0.73529412 | L7: 0 | M7: =IF(L7>=50,50,L7) -> 0 | N7: =RANK(M7,$M$5:$M$38) -> 8 | O7: =IFERROR(RANK(M7,$M$5:$M$38)/COUNT($M$5:$M$38),0) -> 0.23529412 | P7: 0 | Q7: =E7+I7+M7-P7 -> 55.003004 | R7: =RANK(Q7,$Q$5:$Q$38) -> 31 | S7: =IFERROR(RANK(Q7,$Q$5:$Q$38)/COUNT($Q$5:$Q$38),0) -> 0.91176471
A8: 4 | B8: 202311070728 | C8: 郑双双 | D8: 3.23 | E8: =D8/MAX($D$5:$D$38)*70 -> 59.656992 | F8: =RANK(E8,$E$5:$E$38) -> 17 | G8: =IFERROR(RANK(E8,$E$5:$E$38)/COUNT($E$5:$E$38),0) -> 0.5 | H8: 66 | I8: =H8/MAX($H$5:$H$38)*30 -> 19.60396 | J8: =RANK(I8,$I$5:$I$38) -> 11 | K8: =IFERROR(RANK(I8,$I$5:$I$38)/COUNT($I$5:$I$38),0) -> 0.32352941 | L8: 0 | M8: =IF(L8>=50,50,L8) -> 0 | N8: =RANK(M8,$M$5:$M$38) -> 8 | O8: =IFERROR(RANK(M8,$M$5:$M$38)/COUNT($M$5:$M$38),0) -> 0.23529412 | P8: 0 | Q8: =E8+I8+M8-P8 -> 79.260952 | R8: =RANK(Q8,$Q$5:$Q$38) -> 14 | S8: =IFERROR(RANK(Q8,$Q$5:$Q$38)/COUNT($Q$5:$Q$38),0) -> 0.41176471
A9: 5 | B9: 202311070711 | C9: 江剑浩 | D9: 1.97 | E9: =D9/MAX($D$5:$D$38)*70 -> 36.385224 | F9: =RANK(E9,$E$5:$E$38) -> 33 | G9: =IFERROR(RANK(E9,$E$5:$E$38)/COUNT($E$5:$E$38),0) -> 0.97058824 | H9: 30 | I9: =H9/MAX($H$5:$H$38)*30 -> 8.9108911 | J9: =RANK(I9,$I$5:$I$38) -> 33 | K9: =IFERROR(RANK(I9,$I$5:$I$38)/COUNT($I$5:$I$38),0) -> 0.97058824 | L9: 0 | M9: =IF(L9>=50,50,L9) -> 0 | N9: =RANK(M9,$M$5:$M$38) -> 8 | O9: =IFERROR(RANK(M9,$M$5:$M$38)/COUNT($M$5:$M$38),0) -> 0.23529412 | P9: 0 | Q9: =E9+I9+M9-P9 -> 45.296115 | R9: =RANK(Q9,$Q$5:$Q$38) -> 33 | S9: =IFERROR(RANK(Q9,$Q$5:$Q$38)/COUNT($Q$5:$Q$38),0) -> 0.97058824
A10: 6 | B10: 202311070712 | C10: 黎惠珍 | D10: 3.71 | E10: =D10/MAX($D$5:$D$38)*70 -> 68.522427 | F10: =RANK(E10,$E$5:$E$38) -> 2 | G10: =IFERROR(RANK(E10,$E$5:$E$38)/COUNT($E$5:$E$38),0) -> 0.058823529 | H10: 66 | I10: =H10/MAX($H$5:$H$38)*30 -> 19.60396 | J10: =RANK(I10,$I$5:$I$38) -> 11 | K10: =IFERROR(RANK(I10,$I$5:$I$38)/COUNT($I$5:$I$38),0) -> 0.32352941 | L10: 12 | M10: =IF(L10>=50,50,L10) -> 12 | N10: =RANK(M10,$M$5:$M$38) -> 2 | O10: =IFERROR(RANK(M10,$M$5:$M$38)/COUNT($M$5:$M$38),0) -> 0.058823529 | P10: 0 | Q10: =E10+I10+M10-P10 -> 100.12639 | R10: =RANK(Q10,$Q$5:$Q$38) -> 1 | S10: =IFERROR(RANK(Q10,$Q$5:$Q$38)/COUNT($Q$5:$Q$38),0) -> 0.029411765
A11: 7 | B11: 202311070725 | C11: 杨铭芝 | D11: 3.43 | E11: =D11/MAX($D$5:$D$38)*70 -> 63.350923 | F11: =RANK(E11,$E$5:$E$38) -> 7 | G11: =IFERROR(RANK(E11,$E$5:$E$38)/COUNT($E$5:$E$38),0) -> 0.20588235 | H11: 70 | I11: =H11/MAX($H$5:$H$38)*30 -> 20.792079 | J11: =RANK(I11,$I$5:$I$38) -> 8 | K11: =IFERROR(RANK(I11,$I$5:$I$38)/COUNT($I$5:$I$38),0) -> 0.23529412 | L11: 13.6 | M11: =IF(L11>=50,50,L11) -> 13.6 | N11: =RANK(M11,$M$5:$M$38) -> 1 | O11: =IFERROR(RANK(M11,$M$5:$M$38)/COUNT($M$5:$M$38),0) -> 0.029411765 | P11: 0 | Q11: =E11+I11+M11-P11 -> 97.743003 | R11: =RANK(Q11,$Q$5:$Q$38) -> 2 | S11: =IFERROR(RANK(Q11,$Q$5:$Q$38)/COUNT($Q$5:$Q$38),0) -> 0.058823529
A12: 8 | B12: 202311070726 | C12: 杨淑婷 | D12: 3.79 | E12: =D12/MAX($D$5:$D$38)*70 -> 70 | F12: =RANK(E12,$E$5:$E$38) -> 1 | G12: =IFERROR(RANK(E12,$E$5:$E$38)/COUNT($E$5:$E$38),0) -> 0.029411765 | H12: 60 | I12: =H12/MAX($H$5:$H$38)*30 -> 17.821782 | J12: =RANK(I12,$I$5:$I$38) -> 17 | K12: =IFERROR(RANK(I12,$I$5:$I$38)/COUNT($I$5:$I$38),0) -> 0.5 | L12: 7.5 | M12: =IF(L12>=50,50,L12) -> 7.5 | N12: =RANK(M12,$M$5:$M$38) -> 3 | O12: =IFERROR(RANK(M12,$M$5:$M$38)/COUNT($M$5:$M$38),0) -> 0.088235294 | P12: 0 | Q12: =E12+I12+M12-P12 -> 95.321782 | R12: =RANK(Q12,$Q$5:$Q$38) -> 4 | S12: =IFERROR(RANK(Q12,$Q$5:$Q$38)/COUNT($Q$5:$Q$38),0) -> 0.11764706
A13: 9 | B13: 202311070702 | C13: 范峻宁 | D13: 2.47 | E13: =D13/MAX($D$5:$D$38)*70 -> 45.620053 | F13: =RANK(E13,$E$5:$E$38) -> 29 | G13: =IFERROR(RANK(E13,$E$5:$E$38)/COUNT($E$5:$E$38),0) -> 0.85294118 | H13: 42 | I13: =H13/MAX($H$5:$H$38)*30 -> 12.475248 | J13: =RANK(I13,$I$5:$I$38) -> 31 | K13: =IFERROR(RANK(I13,$I$5:$I$38)/COUNT($I$5:$I$38),0) -> 0.91176471 | L13: 0 | M13: =IF(L13>=50,50,L13) -> 0 | N13: =RANK(M13,$M$5:$M$38) -> 8 | O13: =IFERROR(RANK(M13,$M$5:$M$38)/COUNT($M$5:$M$38),0) -> 0.23529412 | P13: 0 | Q13: =E13+I13+M13-P13 -> 58.0953 | R13: =RANK(Q13,$Q$5:$Q$38) -> 30 | S13: =IFERROR(RANK(Q13,$Q$5:$Q$38)/COUNT($Q$5:$Q$38),0) -> 0.88235294
A14: 10 | B14: 202311070703 | C14: 范晓敏 | D14: 3.07 | E14: =D14/MAX($D$5:$D$38)*70 -> 56.701847 | F14: =RANK(E14,$E$5:$E$38) -> 22 | G14: =IFERROR(RANK(E14,$E$5:$E$38)/COUNT($E$5:$E$38),0) -> 0.64705882 | H14: 55 | I14: =H14/MAX($H$5:$H$38)*30 -> 16.336634 | J14: =RANK(I14,$I$5:$I$38) -> 19 | K14: =IFERROR(RANK(I14,$I$5:$I$38)/COUNT($I$5:$I$38),0) -> 0.55882353 | L14: 0 | M14: =IF(L14>=50,50,L14) -> 0 | N14: =RANK(M14,$M$5:$M$38) -> 8 | O14: =IFERROR(RANK(M14,$M$5:$M$38)/COUNT($M$5:$M$38),0) -> 0.23529412 | P14: 0 | Q14: =E14+I14+M14-P14 -> 73.038481 | R14: =RANK(Q14,$Q$5:$Q$38) -> 20 | S14: =IFERROR(RANK(Q14,$Q$5:$Q$38)/COUNT($Q$5:$Q$38),0) -> 0.58823529
A15: 11 | B15: 202311070716 | C15: 凌思艳 | D15: 3.27 | E15: =D15/MAX($D$5:$D$38)*70 -> 60.395778 | F15: =RANK(E15,$E$5:$E$38) -> 15 | G15: =IFERROR(RANK(E15,$E$5:$E$38)/COUNT($E$5:$E$38),0) -> 0.44117647 | H15: 55 | I15: =H15/MAX($H$5:$H$38)*30 -> 16.336634 | J15: =RANK(I15,$I$5:$I$38) -> 19 | K15: =IFERROR(RANK(I15,$I$5:$I$38)/COUNT($I$5:$I$38),0) -> 0.55882353 | L15: 0 | M15: =IF(L15>=50,50,L15) -> 0 | N15: =RANK(M15,$M$5:$M$38) -> 8 | O15: =IFERROR(RANK(M15,$M$5:$M$38)/COUNT($M$5:$M$38),0) -> 0.23529412 | P15: 0 | Q15: =E15+I15+M15-P15 -> 76.732412 | R15: =RANK(Q15,$Q$5:$Q$38) -> 18 | S15: =IFERROR(RANK(Q15,$Q$5:$Q$38)/COUNT($Q$5:$Q$38),0) -> 0.52941176
A16: 12 | B16: 202311070720 | C16: 罗欣然 | D16: 3.41 | E16: =D16/MAX($D$5:$D$38)*70 -> 62.98153 | F16: =RANK(E16,$E$5:$E$38) -> 9 | G16: =IFERROR(RANK(E16,$E$5:$E$38)/COUNT($E$5:$E$38),0) -> 0.26470588 | H16: 68 | I16: =H16/MAX($H$5:$H$38)*30 -> 20.19802 | J16: =RANK(I16,$I$5:$I$38) -> 9 | K16: =IFERROR(RANK(I16,$I$5:$I$38)/COUNT($I$5:$I$38),0) -> 0.26470588 | L16: 0 | M16: =IF(L16>=50,50,L16) -> 0 | N16: =RANK(M16,$M$5:$M$38) -> 8 | O16: =IFERROR(RANK(M16,$M$5:$M$38)/COUNT($M$5:$M$38),0) -> 0.23529412 | P16: 0 | Q16: =E16+I16+M16-P16 -> 83.17955 | R16: =RANK(Q16,$Q$5:$Q$38) -> 10 | S16: =IFERROR(RANK(Q16,$Q$5:$Q$38)/COUNT($Q$5:$Q$38),0) -> 0.29411765
... A38: 34 | B38: 202311070735 | C38: 刘思齐 | D38: 3.66 | E38: =D38/MAX($D$5:$D$38)*70 -> 67.598945 | F38: =RANK(E38,$E$5:$E$38) -> 3 | G38: =IFERROR(RANK(E38,$E$5:$E$38)/COUNT($E$5:$E$38),0) -> 0.088235294 | H38: 75 | I38: =H38/MAX($H$5:$H$38)*30 -> 22.277228 | J38: =RANK(I38,$I$5:$I$38) -> 4 | K38: =IFERROR(RANK(I38,$I$5:$I$38)/COUNT($I$5:$I$38),0) -> 0.11764706 | L38: 3.5 | M38: =IF(L38>=50,50,L38) -> 3.5 | N38: =RANK(M38,$M$5:$M$38) -> 7 | O38: =IFERROR(RANK(M38,$M$5:$M$38)/COUNT($M$5:$M$38),0) -> 0.20588235 | P38: 0 | Q38: =E38+I38+M38-P38 -> 93.376172 | R38: =RANK(Q38,$Q$5:$Q$38) -> 5 | S38: =IFERROR(RANK(Q38,$Q$5:$Q$38)/COUNT($Q$5:$Q$38),0) -> 0.14705882
B39: 折算分计算公式：=D4/MAX($D$4:$D$22)*70
B40: 排名计算公式：=RANK(E5,$E$5:$E$22) | M40: ！！！特别强调：学业折算分最高70，4+X折算分最高30，其他小计最高50。请认真仔细核对三个分值，超出最高分则计算错误。 情况表按年级提交电子版，年级里分多个sheet区分专业。
B41: 百分比计算公式：=IFERROR(RANK(E5,$E$5:$E$22)/COUNT($E$5:$E$22),0)
B42: 其他表现折算分计算公式：=IF(L5>=50,50,L5)

Sheet 国贸（专升本）
B1: 附件：
A2: 2025-2026学年 23级国际经济与贸易(专升本)专业 综合素测评情况总表
A3: 序号 | B3: 学号 | C3: 姓名 | D3: 学业成绩（70） | H3: 4+X活动分（30） | L3: 其他表现测评分（50） | P3: 扣分 | Q3: 合计
D4: 原始分 | E4: 折算分 | F4: 排名 | G4: 百分比 | H4: 原始分 | I4: 折算分 | J4: 排名 | K4: 百分比 | L4: 原始分 | M4: 折算分 | N4: 排名 | O4: 百分比 | Q4: 折算总分 | R4: 总排名 | S4: 总百分比
A5: 1 | B5: 202311110401 | C5: 蔡炫容 | D5: 3.48 | E5: =D5/MAX($D$5:$D$78)*70 -> 61.360202 | F5: =RANK(E5,$E$5:$E$78) -> 19 | G5: =IFERROR(RANK(E5,$E$5:$E$78)/COUNT($E$5:$E$78),0) -> 0.25675676 | H5: 45 | I5: =H5/MAX($H$5:$H$78)*30 -> 8.8235294 | J5: =RANK(I5,$I$5:$I$78) -> 27 | K5: =IFERROR(RANK(I5,$I$5:$I$78)/COUNT($I$5:$I$78),0) -> 0.36486486 | L5: 0 | M5: =IF(L5>=50,50,L5) -> 0 | N5: =RANK(M5,$M$5:$M$78) -> 16 | O5: =IFERROR(RANK(M5,$M$5:$M$78)/COUNT($M$5:$M$78),0) -> 0.21621622 | P5: 0 | Q5: =E5+I5+M5-P5 -> 70.183731 | R5: =RANK(Q5,$Q$5:$Q$78) -> 20 | S5: =IFERROR(RANK(Q5,$Q$5:$Q$78)/COUNT($Q$5:$Q$78),0) -> 0.27027027
A6: 2 | B6: 202311110410 | C6: 黄倜 | D6: 2.57 | E6: =D6/MAX($D$5:$D$78)*70 -> 45.314861 | F6: =RANK(E6,$E$5:$E$78) -> 70 | G6: =IFERROR(RANK(E6,$E$5:$E$78)/COUNT($E$5:$E$78),0) -> 0.94594595 | H6: 29 | I6: =H6/MAX($H$5:$H$78)*30 -> 5.6862745 | J6: =RANK(I6,$I$5:$I$78) -> 57 | K6: =IFERROR(RANK(I6,$I$5:$I$78)/COUNT($I$5:$I$78),0) -> 0.77027027 | L6: 0 | M6: =IF(L6>=50,50,L6) -> 0 | N6: =RANK(M6,$M$5:$M$78) -> 16 | O6: =IFERROR(RANK(M6,$M$5:$M$78)/COUNT($M$5:$M$78),0) -> 0.21621622 | P6: 0 | Q6: =E6+I6+M6-P6 -> 51.001136 | R6: =RANK(Q6,$Q$5:$Q$78) -> 70 | S6: =IFERROR(RANK(Q6,$Q$5:$Q$78)/COUNT($Q$5:$Q$78),0) -> 0.94594595
A7: 3 | B7: 202311110412 | C7: 敬子淑 | D7: 3.27 | E7: =D7/MAX($D$5:$D$78)*70 -> 57.657431 | F7: =RANK(E7,$E$5:$E$78) -> 32 | G7: =IFERROR(RANK(E7,$E$5:$E$78)/COUNT($E$5:$E$78),0) -> 0.43243243 | H7: 31 | I7: =H7/MAX($H$5:$H$78)*30 -> 6.0784314 | J7: =RANK(I7,$I$5:$I$78) -> 52 | K7: =IFERROR(RANK(I7,$I$5:$I$78)/COUNT($I$5:$I$78),0) -> 0.7027027 | L7: 0 | M7: =IF(L7>=50,50,L7) -> 0 | N7: =RANK(M7,$M$5:$M$78) -> 16 | O7: =IFERROR(RANK(M7,$M$5:$M$78)/COUNT($M$5:$M$78),0) -> 0.21621622 | P7: 0 | Q7: =E7+I7+M7-P7 -> 63.735862 | R7: =RANK(Q7,$Q$5:$Q$78) -> 41 | S7: =IFERROR(RANK(Q7,$Q$5:$Q$78)/COUNT($Q$5:$Q$78),0) -> 0.55405405
A8: 4 | B8: 202311110413 | C8: 梁桉锜 | D8: 3.03 | E8: =D8/MAX($D$5:$D$78)*70 -> 53.425693 | F8: =RANK(E8,$E$5:$E$78) -> 54 | G8: =IFERROR(RANK(E8,$E$5:$E$78)/COUNT($E$5:$E$78),0) -> 0.72972973 | H8: 51 | I8: =H8/MAX($H$5:$H$78)*30 -> 10 | J8: =RANK(I8,$I$5:$I$78) -> 17 | K8: =IFERROR(RANK(I8,$I$5:$I$78)/COUNT($I$5:$I$78),0) -> 0.22972973 | L8: 0 | M8: =IF(L8>=50,50,L8) -> 0 | N8: =RANK(M8,$M$5:$M$78) -> 16 | O8: =IFERROR(RANK(M8,$M$5:$M$78)/COUNT($M$5:$M$78),0) -> 0.21621622 | P8: 0 | Q8: =E8+I8+M8-P8 -> 63.425693 | R8: =RANK(Q8,$Q$5:$Q$78) -> 44 | S8: =IFERROR(RANK(Q8,$Q$5:$Q$78)/COUNT($Q$5:$Q$78),0) -> 0.59459459
A9: 5 | B9: 202311110417 | C9: 卢燕如 | D9: 3.82 | E9: =D9/MAX($D$5:$D$78)*70 -> 67.355164 | F9: =RANK(E9,$E$5:$E$78) -> 5 | G9: =IFERROR(RANK(E9,$E$5:$E$78)/COUNT($E$5:$E$78),0) -> 0.067567568 | H9: 52 | I9: =H9/MAX($H$5:$H$78)*30 -> 10.196078 | J9: =RANK(I9,$I$5:$I$78) -> 14 | K9: =IFERROR(RANK(I9,$I$5:$I$78)/COUNT($I$5:$I$78),0) -> 0.18918919 | L9: 24.6 | M9: =IF(L9>=50,50,L9) -> 24.6 | N9: =RANK(M9,$M$5:$M$78) -> 5 | O9: =IFERROR(RANK(M9,$M$5:$M$78)/COUNT($M$5:$M$78),0) -> 0.067567568 | P9: 0 | Q9: =E9+I9+M9-P9 -> 102.15124 | R9: =RANK(Q9,$Q$5:$Q$78) -> 4 | S9: =IFERROR(RANK(Q9,$Q$5:$Q$78)/COUNT($Q$5:$Q$78),0) -> 0.054054054
A10: 6 | B10: 202311110424 | C10: 吴铭杰 | D10: 2.93 | E10: =D10/MAX($D$5:$D$78)*70 -> 51.662469 | F10: =RANK(E10,$E$5:$E$78) -> 58 | G10: =IFERROR(RANK(E10,$E$5:$E$78)/COUNT($E$5:$E$78),0) -> 0.78378378 | H10: 58 | I10: =H10/MAX($H$5:$H$78)*30 -> 11.372549 | J10: =RANK(I10,$I$5:$I$78) -> 6 | K10: =IFERROR(RANK(I10,$I$5:$I$78)/COUNT($I$5:$I$78),0) -> 0.081081081 | L10: 7 | M10: =IF(L10>=50,50,L10) -> 7 | N10: =RANK(M10,$M$5:$M$78) -> 11 | O10: =IFERROR(RANK(M10,$M$5:$M$78)/COUNT($M$5:$M$78),0) -> 0.14864865 | P10: 0 | Q10: =E10+I10+M10-P10 -> 70.035018 | R10: =RANK(Q10,$Q$5:$Q$78) -> 21 | S10: =IFERROR(RANK(Q10,$Q$5:$Q$78)/COUNT($Q$5:$Q$78),0) -> 0.28378378
A11: 7 | B11: 202311110429 | C11: 叶祥裕 | D11: 3.28 | E11: =D11/MAX($D$5:$D$78)*70 -> 57.833753 | F11: =RANK(E11,$E$5:$E$78) -> 31 | G11: =IFERROR(RANK(E11,$E$5:$E$78)/COUNT($E$5:$E$78),0) -> 0.41891892 | H11: 24 | I11: =H11/MAX($H$5:$H$78)*30 -> 4.7058824 | J11: =RANK(I11,$I$5:$I$78) -> 69 | K11: =IFERROR(RANK(I11,$I$5:$I$78)/COUNT($I$5:$I$78),0) -> 0.93243243 | L11: 0 | M11: =IF(L11>=50,50,L11) -> 0 | N11: =RANK(M11,$M$5:$M$78) -> 16 | O11: =IFERROR(RANK(M11,$M$5:$M$78)/COUNT($M$5:$M$78),0) -> 0.21621622 | P11: 0 | Q11: =E11+I11+M11-P11 -> 62.539636 | R11: =RANK(Q11,$Q$5:$Q$78) -> 50 | S11: =IFERROR(RANK(Q11,$Q$5:$Q$78)/COUNT($Q$5:$Q$78),0) -> 0.67567568
A12: 8 | B12: 202311110431 | C12: 曾颖 | D12: 3.24 | E12: =D12/MAX($D$5:$D$78)*70 -> 57.128463 | F12: =RANK(E12,$E$5:$E$78) -> 36 | G12: =IFERROR(RANK(E12,$E$5:$E$78)/COUNT($E$5:$E$78),0) -> 0.48648649 | H12: 43 | I12: =H12/MAX($H$5:$H$78)*30 -> 8.4313725 | J12: =RANK(I12,$I$5:$I$78) -> 33 | K12: =IFERROR(RANK(I12,$I$5:$I$78)/COUNT($I$5:$I$78),0) -> 0.44594595 | L12: 0 | M12: =IF(L12>=50,50,L12) -> 0 | N12: =RANK(M12,$M$5:$M$78) -> 16 | O12: =IFERROR(RANK(M12,$M$5:$M$78)/COUNT($M$5:$M$78),0) -> 0.21621622 | P12: 0 | Q12: =E12+I12+M12-P12 -> 65.559836 | R12: =RANK(Q12,$Q$5:$Q$78) -> 31 | S12: =IFERROR(RANK(Q12,$Q$5:$Q$78)/COUNT($Q$5:$Q$78),0) -> 0.41891892
A13: 9 | B13: 202311110434 | C13: 张玉香 | D13: 3.15 | E13: =D13/MAX($D$5:$D$78)*70 -> 55.541562 | F13: =RANK(E13,$E$5:$E$78) -> 43 | G13: =IFERROR(RANK(E13,$E$5:$E$78)/COUNT($E$5:$E$78),0) -> 0.58108108 | H13: 42 | I13: =H13/MAX($H$5:$H$78)*30 -> 8.2352941 | J13: =RANK(I13,$I$5:$I$78) -> 36 | K13: =IFERROR(RANK(I13,$I$5:$I$78)/COUNT($I$5:$I$78),0) -> 0.48648649 | L13: 0 | M13: =IF(L13>=50,50,L13) -> 0 | N13: =RANK(M13,$M$5:$M$78) -> 16 | O13: =IFERROR(RANK(M13,$M$5:$M$78)/COUNT($M$5:$M$78),0) -> 0.21621622 | P13: 0 | Q13: =E13+I13+M13-P13 -> 63.776856 | R13: =RANK(Q13,$Q$5:$Q$78) -> 40 | S13: =IFERROR(RANK(Q13,$Q$5:$Q$78)/COUNT($Q$5:$Q$78),0) -> 0.54054054
A14: 10 | B14: 202311110435 | C14: 张梓莹 | D14: 2.89 | E14: =D14/MAX($D$5:$D$78)*70 -> 50.957179 | F14: =RANK(E14,$E$5:$E$78) -> 62 | G14: =IFERROR(RANK(E14,$E$5:$E$78)/COUNT($E$5:$E$78),0) -> 0.83783784 | H14: 31 | I14: =H14/MAX($H$5:$H$78)*30 -> 6.0784314 | J14: =RANK(I14,$I$5:$I$78) -> 52 | K14: =IFERROR(RANK(I14,$I$5:$I$78)/COUNT($I$5:$I$78),0) -> 0.7027027 | L14: 6 | M14: =IF(L14>=50,50,L14) -> 6 | N14: =RANK(M14,$M$5:$M$78) -> 12 | O14: =IFERROR(RANK(M14,$M$5:$M$78)/COUNT($M$5:$M$78),0) -> 0.16216216 | P14: 0 | Q14: =E14+I14+M14-P14 -> 63.03561 | R14: =RANK(Q14,$Q$5:$Q$78) -> 48 | S14: =IFERROR(RANK(Q14,$Q$5:$Q$78)/COUNT($Q$5:$Q$78),0) -> 0.64864865
A15: 11 | B15: 202311110506 | C15: 陈锐坤 | D15: 2.72 | E15: =D15/MAX($D$5:$D$78)*70 -> 47.959698 | F15: =RANK(E15,$E$5:$E$78) -> 68 | G15: =IFERROR(RANK(E15,$E$5:$E$78)/COUNT($E$5:$E$78),0) -> 0.91891892 | H15: 37 | I15: =H15/MAX($H$5:$H$78)*30 -> 7.254902 | J15: =RANK(I15,$I$5:$I$78) -> 44 | K15: =IFERROR(RANK(I15,$I$5:$I$78)/COUNT($I$5:$I$78),0) -> 0.59459459 | L15: 0 | M15: =IF(L15>=50,50,L15) -> 0 | N15: =RANK(M15,$M$5:$M$78) -> 16 | O15: =IFERROR(RANK(M15,$M$5:$M$78)/COUNT($M$5:$M$78),0) -> 0.21621622 | P15: 0 | Q15: =E15+I15+M15-P15 -> 55.2146 | R15: =RANK(Q15,$Q$5:$Q$78) -> 68 | S15: =IFERROR(RANK(Q15,$Q$5:$Q$78)/COUNT($Q$5:$Q$78),0) -> 0.91891892
A16: 12 | B16: 202311110516 | C16: 蓝天天 | D16: 3.08 | E16: =D16/MAX($D$5:$D$78)*70 -> 54.307305 | F16: =RANK(E16,$E$5:$E$78) -> 49 | G16: =IFERROR(RANK(E16,$E$5:$E$78)/COUNT($E$5:$E$78),0) -> 0.66216216 | H16: 36 | I16: =H16/MAX($H$5:$H$78)*30 -> 7.0588235 | J16: =RANK(I16,$I$5:$I$78) -> 46 | K16: =IFERROR(RANK(I16,$I$5:$I$78)/COUNT($I$5:$I$78),0) -> 0.62162162 | L16: 0 | M16: =IF(L16>=50,50,L16) -> 0 | N16: =RANK(M16,$M$5:$M$78) -> 16 | O16: =IFERROR(RANK(M16,$M$5:$M$78)/COUNT($M$5:$M$78),0) -> 0.21621622 | P16: 0 | Q16: =E16+I16+M16-P16 -> 61.366128 | R16: =RANK(Q16,$Q$5:$Q$78) -> 54 | S16: =IFERROR(RANK(Q16,$Q$5:$Q$78)/COUNT($Q$5:$Q$78),0) -> 0.72972973
... A78: 74 | B78: 202311110535 | C78: 周家雯 | D78: 3.24 | E78: =D78/MAX($D$5:$D$78)*70 -> 57.128463 | F78: =RANK(E78,$E$5:$E$78) -> 36 | G78: =IFERROR(RANK(E78,$E$5:$E$78)/COUNT($E$5:$E$78),0) -> 0.48648649 | H78: 33 | I78: =H78/MAX($H$5:$H$78)*30 -> 6.4705882 | J78: =RANK(I78,$I$5:$I$78) -> 50 | K78: =IFERROR(RANK(I78,$I$5:$I$78)/COUNT($I$5:$I$78),0) -> 0.67567568 | L78: 0 | M78: =IF(L78>=50,50,L78) -> 0 | N78: =RANK(M78,$M$5:$M$78) -> 16 | O78: =IFERROR(RANK(M78,$M$5:$M$78)/COUNT($M$5:$M$78),0) -> 0.21621622 | P78: 0 | Q78: =E78+I78+M78-P78 -> 63.599052 | R78: =RANK(Q78,$Q$5:$Q$78) -> 43 | S78: =IFERROR(RANK(Q78,$Q$5:$Q$78)/COUNT($Q$5:$Q$78),0) -> 0.58108108
B79: 折算分计算公式：=D4/MAX($D$4:$D$22)*70
B80: 排名计算公式：=RANK(E5,$E$5:$E$22) | M80: ！！！特别强调：学业折算分最高70，4+X折算分最高30，其他小计最高50。请认真仔细核对三个分值，超出最高分则计算错误。 情况表按年级提交电子版，年级里分多个sheet区分专业。
B81: 百分比计算公式：=IFERROR(RANK(E5,$E$5:$E$22)/COUNT($E$5:$E$22),0)
B82: 其他表现折算分计算公式：=IF(L5>=50,50,L5)

Sheet 呈报表
A1: 附件2
A2: 广州商学院2025—2026学年学校奖学金呈报表
A3: 序号 | B3: 学院 | C3: 年级 | D3: 学号 | E3: 姓名 | F3: 性别 | G3: 专业 | H3: 参评奖项 | J3: 以学院为单位填报《呈报表》，提交电子版和纸质版。获奖学生需确保康小丁“学工系统”的个人信息中已录入银行账号。
F25: 制表人：
E26: 学院领导签名：
E27: 日期：
